BEGIN:VCALENDAR
VERSION:2.0
PRODID:-//Практики. DesignSpaces - ECPv6.11.2.1//NONSGML v1.0//EN
CALSCALE:GREGORIAN
METHOD:PUBLISH
X-ORIGINAL-URL:https://d-fest.ru
X-WR-CALDESC:Мероприятия для Практики. DesignSpaces
REFRESH-INTERVAL;VALUE=DURATION:PT1H
X-Robots-Tag:noindex
X-PUBLISHED-TTL:PT1H
BEGIN:VTIMEZONE
TZID:UTC
BEGIN:STANDARD
TZOFFSETFROM:+0000
TZOFFSETTO:+0000
TZNAME:UTC
DTSTART:20250101T000000
END:STANDARD
END:VTIMEZONE
BEGIN:VEVENT
DTSTART;TZID=UTC:20251213T150000
DTEND;TZID=UTC:20251213T200000
DTSTAMP:20260426T011126
CREATED:20251015T103249Z
LAST-MODIFIED:20251015T103249Z
UID:2353-1765638000-1765656000@d-fest.ru
SUMMARY:НОВОГОДНЯЯ ПРЕМИЯ. Грани
DESCRIPTION:НОВОГОДНЯЯ ПРЕМИЯ от  Союза дизайнеров и архитекторов.
URL:https://d-fest.ru/event/%d0%bd%d0%be%d0%b2%d0%be%d0%b3%d0%be%d0%b4%d0%bd%d1%8f%d1%8f-%d0%bf%d1%80%d0%b5%d0%bc%d0%b8%d1%8f-%d0%b3%d1%80%d0%b0%d0%bd%d0%b8/
CATEGORIES:Вечеринка,Конференция
ATTACH;FMTTYPE=image/jpeg:https://d-fest.ru/wp-content/uploads/2025/10/1.jpg
END:VEVENT
END:VCALENDAR