BEGIN:VCALENDAR
VERSION:2.0
PRODID:-//Практики. DesignSpaces - ECPv6.11.2.1//NONSGML v1.0//EN
CALSCALE:GREGORIAN
METHOD:PUBLISH
X-WR-CALNAME:Практики. DesignSpaces
X-ORIGINAL-URL:https://d-fest.ru
X-WR-CALDESC:Мероприятия для Практики. DesignSpaces
REFRESH-INTERVAL;VALUE=DURATION:PT1H
X-Robots-Tag:noindex
X-PUBLISHED-TTL:PT1H
BEGIN:VTIMEZONE
TZID:UTC
BEGIN:STANDARD
TZOFFSETFROM:+0000
TZOFFSETTO:+0000
TZNAME:UTC
DTSTART:20260101T000000
END:STANDARD
END:VTIMEZONE
BEGIN:VEVENT
DTSTART;TZID=UTC:20260415T120000
DTEND;TZID=UTC:20260415T170000
DTSTAMP:20260425T195119
CREATED:20260104T224812Z
LAST-MODIFIED:20260104T224812Z
UID:2604-1776254400-1776272400@d-fest.ru
SUMMARY:DESIGN JOKER × MEBEL FASHION WEEK
DESCRIPTION:DESIGN JOKER × MEBEL FASHION WEEK МОСКВА\nARTPLAY\, 15 апреля
URL:https://d-fest.ru/event/design-joker-x-mebel-fashion-week/
LOCATION:Центр дизайна ARTPLAY\, Нижняя Сыромятническая ул.\, 10\, стр. 2\, Москва\, Russian Federation
CATEGORIES:Вечеринка,Конференция
END:VEVENT
END:VCALENDAR