BEGIN:VCALENDAR
VERSION:2.0
PRODID:-//Практики. DesignSpaces - ECPv6.11.2.1//NONSGML v1.0//EN
CALSCALE:GREGORIAN
METHOD:PUBLISH
X-WR-CALNAME:Практики. DesignSpaces
X-ORIGINAL-URL:https://d-fest.ru
X-WR-CALDESC:Мероприятия для Практики. DesignSpaces
REFRESH-INTERVAL;VALUE=DURATION:PT1H
X-Robots-Tag:noindex
X-PUBLISHED-TTL:PT1H
BEGIN:VTIMEZONE
TZID:UTC
BEGIN:STANDARD
TZOFFSETFROM:+0000
TZOFFSETTO:+0000
TZNAME:UTC
DTSTART:20250101T000000
END:STANDARD
END:VTIMEZONE
BEGIN:VEVENT
DTSTART;TZID=UTC:20251128T100000
DTEND;TZID=UTC:20251128T180000
DTSTAMP:20260426T033749
CREATED:20251015T102740Z
LAST-MODIFIED:20251015T102740Z
UID:2350-1764324000-1764352800@d-fest.ru
SUMMARY:ДЕНЬ РЕМОНТА В ДОМЕ МЕЧТЫ
DESCRIPTION:Приглашаем вас на тематическую выставку-вдохновение «Ремонт в доме мечты».\nМы создадим особую атмосферу\, чтобы вы могли полностью погрузиться в мир дизайна и современных технологий для дома. Это ваш шанс найти идеи\, которые помогут превратить вашу квартиру или дом в идеальное пространство\, отражающее ваш стиль и характер.\nМы будем говорить не просто о ремонте\, а о том\, как создать место\, в котором хочется жить.\nДавайте встретимся\, чтобы обменяться идеями\, найти надежных партнеров и помечтать о вашем будущем уюте вместе! \nМы рады видеть всех гостей\, однако количество бесплатных приглашений ограничено. Успейте зарегистрироваться на мероприятие\, чтобы гарантировать себе место. \n  \nЧТО НАС ЖДЕТ НА ПУТИ К МЕЧТЕ? \n  \nВЫСТАВКА: более 50 компаний. Каждая компания на выставке представит своё решение или продукт\, которые обязательно должны присутствовать в Доме мечты. \n  \nДЕЛОВАЯ ПРОГРАММА: известные дизайнеры и архитекторы поделятся своими лайфхаками\, как прийти к мечте кратчайшим путём. \n  \nМАСТЕР-КЛАССЫ и ПРАКТИКИ: каждый желающий сможет на специальных мастер-классах визуализировать свою мечту и тем самым сделать её более реальной. \n  \nДЛЯ ГОСТЕЙ: вся творческая и развлекательная программа будет построена на создании атмосферы безмятежности и уюта — изысканная живая музыка\, благородные напитки и творчество ради создания красивых предметов для Дома мечты своими руками.
URL:https://d-fest.ru/event/%d0%b4%d0%b5%d0%bd%d1%8c-%d1%80%d0%b5%d0%bc%d0%be%d0%bd%d1%82%d0%b0-%d0%b2-%d0%b4%d0%be%d0%bc%d0%b5-%d0%bc%d0%b5%d1%87%d1%82%d1%8b/
LOCATION:ПРОСТРАНСТВО ВЕСНА\, Спартаковский переулок 2с1\, подъезд №7\, Санкт-Петербург\, Russian Federation
CATEGORIES:Вечеринка,Выставка,Конференция
ATTACH;FMTTYPE=image/png:https://d-fest.ru/wp-content/uploads/2025/08/Снимок-экрана-2025-08-13-в-13.29.47.png
END:VEVENT
BEGIN:VEVENT
DTSTART;TZID=UTC:20251203T180000
DTEND;TZID=UTC:20251203T230000
DTSTAMP:20260426T033749
CREATED:20251008T092715Z
LAST-MODIFIED:20251008T092715Z
UID:2304-1764784800-1764802800@d-fest.ru
SUMMARY:BIG JOKER в Москве
DESCRIPTION:Мероприятие для дизайнеров интерьера\, архитекторов\, и представителей сферы строительства. Конкурс дизайнерских елок.\n3 декабря:\n— подведение итогов года\n— игры в стиле Joker\n— выставка\n— крутые спикеры\n— полезные знакомства\n— квиз с ценными призами \n— конкурс дизайнерских ёлок \n— новогодняя шоу-программа от DJ Keni
URL:https://d-fest.ru/event/big-joker-%d0%b2-%d0%bc%d0%be%d1%81%d0%ba%d0%b2%d0%b5/
LOCATION:Центр дизайна ARTPLAY\, Нижняя Сыромятническая ул.\, 10\, стр. 2\, Москва\, Russian Federation
CATEGORIES:Вечеринка,Премия,Событие
ATTACH;FMTTYPE=image/png:https://d-fest.ru/wp-content/uploads/2025/10/Снимок-экрана-2025-10-08-в-12.24.14.png
END:VEVENT
BEGIN:VEVENT
DTSTART;TZID=UTC:20251213T150000
DTEND;TZID=UTC:20251213T200000
DTSTAMP:20260426T033749
CREATED:20251015T103249Z
LAST-MODIFIED:20251015T103249Z
UID:2353-1765638000-1765656000@d-fest.ru
SUMMARY:НОВОГОДНЯЯ ПРЕМИЯ. Грани
DESCRIPTION:НОВОГОДНЯЯ ПРЕМИЯ от  Союза дизайнеров и архитекторов.
URL:https://d-fest.ru/event/%d0%bd%d0%be%d0%b2%d0%be%d0%b3%d0%be%d0%b4%d0%bd%d1%8f%d1%8f-%d0%bf%d1%80%d0%b5%d0%bc%d0%b8%d1%8f-%d0%b3%d1%80%d0%b0%d0%bd%d0%b8/
CATEGORIES:Вечеринка,Конференция
ATTACH;FMTTYPE=image/jpeg:https://d-fest.ru/wp-content/uploads/2025/10/1.jpg
END:VEVENT
BEGIN:VEVENT
DTSTART;TZID=UTC:20260415T120000
DTEND;TZID=UTC:20260415T170000
DTSTAMP:20260426T033749
CREATED:20260104T224812Z
LAST-MODIFIED:20260104T224812Z
UID:2604-1776254400-1776272400@d-fest.ru
SUMMARY:DESIGN JOKER × MEBEL FASHION WEEK
DESCRIPTION:DESIGN JOKER × MEBEL FASHION WEEK МОСКВА\nARTPLAY\, 15 апреля
URL:https://d-fest.ru/event/design-joker-x-mebel-fashion-week/
LOCATION:Центр дизайна ARTPLAY\, Нижняя Сыромятническая ул.\, 10\, стр. 2\, Москва\, Russian Federation
CATEGORIES:Вечеринка,Конференция
END:VEVENT
BEGIN:VEVENT
DTSTART;TZID=UTC:20260607T100000
DTEND;TZID=UTC:20260612T170000
DTSTAMP:20260426T033749
CREATED:20260104T211353Z
LAST-MODIFIED:20260104T211353Z
UID:2562-1780826400-1781283600@d-fest.ru
SUMMARY:GASTREET 2026
DESCRIPTION:GASTREET International Restaurant Show вновь соберёт вместе представителей ресторанной индустрии. В Сочи пройдет закрытый образовательный ивент для рестораторов\, поставщиков и отельеров. Обучение\, общение и вдохновение — главный девиз фестиваля. \n\n\n\n\n\n\nЕжегодно GASTREET даёт возможность представителям ресторанного бизнеса обрести большое количество полезных контактов\, знаний и инсайтов. \n\n\n\n\n\n\nGASTREET 2026 открывает доступ к разным знаниям гастрономической сферы — от управления командой до подбора винной карты. Участников ожидает насыщенная деловая и культурная программа. Один из главных ресторанных ивентов России предлагает гостям послушать лекции на 10+ параллельно работающих образовательных площадках\, мастер-классы\, нетворкинг\, концерты классической и современной музыки\, спортивные события и гастроужины. В дни проведения фестиваля\, курорт в Сочи превратится в закрытый город для представителей индустрии.
URL:https://d-fest.ru/event/gastreet-2026-2/
LOCATION:Сочи\, Курорт Красная Поляна 960\, Сочи\, Russian Federation
CATEGORIES:Вечеринка,Конференция,Нетворкинг,Фестиваль
END:VEVENT
END:VCALENDAR