BEGIN:VCALENDAR
VERSION:2.0
PRODID:-//Практики. DesignSpaces - ECPv6.11.2.1//NONSGML v1.0//EN
CALSCALE:GREGORIAN
METHOD:PUBLISH
X-ORIGINAL-URL:https://d-fest.ru
X-WR-CALDESC:Мероприятия для Практики. DesignSpaces
REFRESH-INTERVAL;VALUE=DURATION:PT1H
X-Robots-Tag:noindex
X-PUBLISHED-TTL:PT1H
BEGIN:VTIMEZONE
TZID:UTC
BEGIN:STANDARD
TZOFFSETFROM:+0000
TZOFFSETTO:+0000
TZNAME:UTC
DTSTART:20250101T000000
END:STANDARD
END:VTIMEZONE
BEGIN:VEVENT
DTSTART;TZID=UTC:20251028T093000
DTEND;TZID=UTC:20251028T180000
DTSTAMP:20260425T183244
CREATED:20250908T191425Z
LAST-MODIFIED:20250908T192849Z
UID:2184-1761643800-1761674400@d-fest.ru
SUMMARY:Общестроительный Слёт в Нижнем Новгороде
DESCRIPTION:Первый Общестроительный Слёт в Нижнем Новгороде — это уникальный формат В2В встреч для мастеров и строителей.\nНа одной площадке соберутся производители и специалисты в сфере ремонтно-отделочных работ\, монтажники инженерных систем\, проектировщики\, дизайнеры среди которых профессионалы и начинающие мастера из разных регионов России. \nВ программе Слета конкурсы и мастер-классы от популярных блогеров-мастеров\, конкурс на целый день для каждого из посетителей.
URL:https://d-fest.ru/event/%d0%be%d0%b1%d1%89%d0%b5%d1%81%d1%82%d1%80%d0%be%d0%b8%d1%82%d0%b5%d0%bb%d1%8c%d0%bd%d1%8b%d0%b9-%d1%81%d0%bb%d1%91%d1%82-%d0%b2-%d0%bd%d0%b8%d0%b6%d0%bd%d0%b5%d0%bc-%d0%bd%d0%be%d0%b2%d0%b3%d0%be/
LOCATION:Ярмарка\, павильон №2\, Совнаркомовская ул.\, 13\, корп. 2\, Нижний Новгород\, Russian Federation
CATEGORIES:Встреча,Выставка,Конференция,Лекция
ATTACH;FMTTYPE=image/png:https://d-fest.ru/wp-content/uploads/2025/09/Снимок-экрана-2025-09-08-в-22.05.40-1.png
ORGANIZER;CN="%D0%98%D0%9F %D0%9A%D0%BE%D1%81%D0%BC%D1%8B%D0%BD%D0%B8%D0%BD %D0%90.%D0%95.":MAILTO:slet.media2021@gmail.com
END:VEVENT
BEGIN:VEVENT
DTSTART;TZID=UTC:20250921T120000
DTEND;TZID=UTC:20250921T180000
DTSTAMP:20260425T183244
CREATED:20250818T122602Z
LAST-MODIFIED:20250818T122602Z
UID:2066-1758456000-1758477600@d-fest.ru
SUMMARY:ДНИ ДИЗАЙНЕРА | УРАЛ
DESCRIPTION:День Дизайнера — «визитная карточка» нашего клуба\, событие\, которое мы успешно проводим по всей России в крупнейших городах регионов. \nГлавная идея — принести коллегам-дизайнерам новый заряд вдохновения\, творчества\, инсайты\, интересные мысли и возможность общения друг другом\, а также сэкономить их время на будущее\, познакомив с достойными поставщиками для их проектов. \nУспех мероприятий прошлого года дал нам уверенность\, что географию путешествия надо расширять: в этом году мы посетим 6 городов Урала – Пермь\, Екатеринбург\, Челябинск\, Оренбург\, Уфа\, Ижевск – за 9 дней. Нас ждут красивейшие горные пейзажи и современные мегаполисы\, интересные встречи и талантливые дизайнеры.  Присоединяйтесь к клубу профессионалов – дружеское общение\, полезные знакомства\, надежные поставщики и подрядчики. \nЕсли Вы хотите: \n\nУвидеть и «потрогать» лучшие дизайнерские решения мирового уровня;\nДоговориться лично с надежными поставщиками;\nУзнать мнение коллег или найти нестандартное дизайнерское решение;\nУслышать и увидеть выступления топовых российских дизайнеров.\n\n  \nМы приглашаем вас на мероприятия нашего клуба! \nПредварительная регистрация для посещения мероприятий обязательна!
URL:https://d-fest.ru/event/%d0%b4%d0%bd%d0%b8-%d0%b4%d0%b8%d0%b7%d0%b0%d0%b9%d0%bd%d0%b5%d1%80%d0%b0-%d0%b8%d0%b6%d0%b5%d0%b2%d1%81%d0%ba/
LOCATION:Cosmos Izhevsk Hotel\, зал «Лондон»\, ул. Бородина\, д. 25\, Ижевск\, Russian Federation
CATEGORIES:Встреча,Конференция,Нетворкинг,Событие
ATTACH;FMTTYPE=image/png:https://d-fest.ru/wp-content/uploads/2025/08/Снимок-экрана-2025-08-13-в-13.29.47-1.png
END:VEVENT
BEGIN:VEVENT
DTSTART;TZID=UTC:20250920T120000
DTEND;TZID=UTC:20250920T180000
DTSTAMP:20260425T183244
CREATED:20250818T122133Z
LAST-MODIFIED:20250818T122133Z
UID:2064-1758369600-1758391200@d-fest.ru
SUMMARY:ДНИ ДИЗАЙНЕРА | УРАЛ
DESCRIPTION:День Дизайнера — «визитная карточка» нашего клуба\, событие\, которое мы успешно проводим по всей России в крупнейших городах регионов. \nГлавная идея — принести коллегам-дизайнерам новый заряд вдохновения\, творчества\, инсайты\, интересные мысли и возможность общения друг другом\, а также сэкономить их время на будущее\, познакомив с достойными поставщиками для их проектов. \nУспех мероприятий прошлого года дал нам уверенность\, что географию путешествия надо расширять: в этом году мы посетим 6 городов Урала – Пермь\, Екатеринбург\, Челябинск\, Оренбург\, Уфа\, Ижевск – за 9 дней. Нас ждут красивейшие горные пейзажи и современные мегаполисы\, интересные встречи и талантливые дизайнеры.  Присоединяйтесь к клубу профессионалов – дружеское общение\, полезные знакомства\, надежные поставщики и подрядчики. \nЕсли Вы хотите: \n\nУвидеть и «потрогать» лучшие дизайнерские решения мирового уровня;\nДоговориться лично с надежными поставщиками;\nУзнать мнение коллег или найти нестандартное дизайнерское решение;\nУслышать и увидеть выступления топовых российских дизайнеров.\n\n  \nМы приглашаем вас на мероприятия нашего клуба! \nПредварительная регистрация для посещения мероприятий обязательна!
URL:https://d-fest.ru/event/%d0%b4%d0%bd%d0%b8-%d0%b4%d0%b8%d0%b7%d0%b0%d0%b9%d0%bd%d0%b5%d1%80%d0%b0-%d1%83%d1%80%d0%b0%d0%bb-5/
CATEGORIES:Встреча,Конференция,Нетворкинг,Событие
ATTACH;FMTTYPE=image/png:https://d-fest.ru/wp-content/uploads/2025/08/Снимок-экрана-2025-08-13-в-13.29.47-1.png
END:VEVENT
BEGIN:VEVENT
DTSTART;TZID=UTC:20250918T120000
DTEND;TZID=UTC:20250918T180000
DTSTAMP:20260425T183244
CREATED:20250818T121811Z
LAST-MODIFIED:20250818T121811Z
UID:2061-1758196800-1758218400@d-fest.ru
SUMMARY:ДНИ ДИЗАЙНЕРА | УРАЛ
DESCRIPTION:День Дизайнера — «визитная карточка» нашего клуба\, событие\, которое мы успешно проводим по всей России в крупнейших городах регионов. \nГлавная идея — принести коллегам-дизайнерам новый заряд вдохновения\, творчества\, инсайты\, интересные мысли и возможность общения друг другом\, а также сэкономить их время на будущее\, познакомив с достойными поставщиками для их проектов. \nУспех мероприятий прошлого года дал нам уверенность\, что географию путешествия надо расширять: в этом году мы посетим 6 городов Урала – Пермь\, Екатеринбург\, Челябинск\, Оренбург\, Уфа\, Ижевск – за 9 дней. Нас ждут красивейшие горные пейзажи и современные мегаполисы\, интересные встречи и талантливые дизайнеры.  Присоединяйтесь к клубу профессионалов – дружеское общение\, полезные знакомства\, надежные поставщики и подрядчики. \nЕсли Вы хотите: \n\nУвидеть и «потрогать» лучшие дизайнерские решения мирового уровня;\nДоговориться лично с надежными поставщиками;\nУзнать мнение коллег или найти нестандартное дизайнерское решение;\nУслышать и увидеть выступления топовых российских дизайнеров.\n\n  \nМы приглашаем вас на мероприятия нашего клуба! \nПредварительная регистрация для посещения мероприятий обязательна!
URL:https://d-fest.ru/event/%d0%b4%d0%bd%d0%b8-%d0%b4%d0%b8%d0%b7%d0%b0%d0%b9%d0%bd%d0%b5%d1%80%d0%b0-%d1%83%d1%80%d0%b0%d0%bb-4/
LOCATION:Главная сцена Мегамолл «Мармелад»\, Шарлыкское шоссе\, д. 1/2\, Оренбург\, Russian Federation
CATEGORIES:Встреча,Конференция,Нетворкинг,Событие
ATTACH;FMTTYPE=image/png:https://d-fest.ru/wp-content/uploads/2025/08/Снимок-экрана-2025-08-13-в-13.29.47-1.png
END:VEVENT
BEGIN:VEVENT
DTSTART;TZID=UTC:20250917T190000
DTEND;TZID=UTC:20250917T223000
DTSTAMP:20260425T183244
CREATED:20250912T133032Z
LAST-MODIFIED:20250912T133032Z
UID:2218-1758135600-1758148200@d-fest.ru
SUMMARY:Premium встреча Клуба Строителей в формате lounge
DESCRIPTION:17 сентября в 19:00 | Москва  \nЭта встреча — про атмосферу лёгкости и доверия. Здесь не будет спешки или формальностей\, а только приятное общение в кругу сильных предпринимателей. Мы соберёмся\, чтобы обсудить бизнес\, поделиться мыслями и идеями\, вдохновиться друг другом и провести вечер в красивой\, уютной обстановке. \n Особую атмосферу вечеру создаст живая игра на пианино. \n Для гостей будет подготовлен алкоголь и лёгкие угощения. \nПочему стоит прийти? \n✔️ Premium-встречи — это особый формат для тех\, кто ценит качество общения и доверительное окружение. \n✔️ Это возможность завести полезные знакомства\, обменяться опытом и взглянуть на бизнес с новых сторон. \n✔️ Здесь рождаются идеи и проекты\, которые продолжают жить далеко за пределами встречи. \nПриглашенные гости: \nНиколаева Мария — ГК «Самолет» \nКурганов Иван — ГК «СТРАНА Девелопмент» \nЕгор Миронов — ГК «Азимут» \nАндрей Антипин — «Малоэтажная страна» \nТоп менеджер «Лемана Про» \nТак же будут присутствовать\, представители других крупнейших застройщиков нашей страны 
URL:https://d-fest.ru/event/premium-%d0%b2%d1%81%d1%82%d1%80%d0%b5%d1%87%d0%b0-%d0%ba%d0%bb%d1%83%d0%b1%d0%b0-%d1%81%d1%82%d1%80%d0%be%d0%b8%d1%82%d0%b5%d0%bb%d0%b5%d0%b9-%d0%b2-%d1%84%d0%be%d1%80%d0%bc%d0%b0%d1%82%d0%b5-lounge/
CATEGORIES:Вечеринка,Встреча
ATTACH;FMTTYPE=image/png:https://d-fest.ru/wp-content/uploads/2025/09/Снимок-экрана-2025-09-12-в-16.29.33.png
END:VEVENT
BEGIN:VEVENT
DTSTART;TZID=UTC:20250915T120000
DTEND;TZID=UTC:20250915T180000
DTSTAMP:20260425T183244
CREATED:20250818T120944Z
LAST-MODIFIED:20250818T120944Z
UID:2057-1757937600-1757959200@d-fest.ru
SUMMARY:ДНИ ДИЗАЙНЕРА | УРАЛ
DESCRIPTION:День Дизайнера — «визитная карточка» нашего клуба\, событие\, которое мы успешно проводим по всей России в крупнейших городах регионов. \nГлавная идея — принести коллегам-дизайнерам новый заряд вдохновения\, творчества\, инсайты\, интересные мысли и возможность общения друг другом\, а также сэкономить их время на будущее\, познакомив с достойными поставщиками для их проектов. \nУспех мероприятий прошлого года дал нам уверенность\, что географию путешествия надо расширять: в этом году мы посетим 6 городов Урала – Пермь\, Екатеринбург\, Челябинск\, Оренбург\, Уфа\, Ижевск – за 9 дней. Нас ждут красивейшие горные пейзажи и современные мегаполисы\, интересные встречи и талантливые дизайнеры.  Присоединяйтесь к клубу профессионалов – дружеское общение\, полезные знакомства\, надежные поставщики и подрядчики. \nЕсли Вы хотите: \n\nУвидеть и «потрогать» лучшие дизайнерские решения мирового уровня;\nДоговориться лично с надежными поставщиками;\nУзнать мнение коллег или найти нестандартное дизайнерское решение;\nУслышать и увидеть выступления топовых российских дизайнеров.\n\n  \nМы приглашаем вас на мероприятия нашего клуба! \nПредварительная регистрация для посещения мероприятий обязательна!
URL:https://d-fest.ru/event/%d0%b4%d0%bd%d0%b8-%d0%b4%d0%b8%d0%b7%d0%b0%d0%b9%d0%bd%d0%b5%d1%80%d0%b0-%d1%83%d1%80%d0%b0%d0%bb-3/
LOCATION:Лекторий креативного кластера Svoboda2\, ул. Свободы\, д.2\, кор.5\, вход 5В\, Челябинск\, Russian Federation
CATEGORIES:Встреча,Конференция,Нетворкинг,Событие
ATTACH;FMTTYPE=image/png:https://d-fest.ru/wp-content/uploads/2025/08/Снимок-экрана-2025-08-13-в-13.29.47-1.png
END:VEVENT
BEGIN:VEVENT
DTSTART;TZID=UTC:20250914T120000
DTEND;TZID=UTC:20250914T180000
DTSTAMP:20260425T183244
CREATED:20250818T120508Z
LAST-MODIFIED:20250818T120508Z
UID:2054-1757851200-1757872800@d-fest.ru
SUMMARY:ДНИ ДИЗАЙНЕРА | УРАЛ
DESCRIPTION:День Дизайнера — «визитная карточка» нашего клуба\, событие\, которое мы успешно проводим по всей России в крупнейших городах регионов. \nГлавная идея — принести коллегам-дизайнерам новый заряд вдохновения\, творчества\, инсайты\, интересные мысли и возможность общения друг другом\, а также сэкономить их время на будущее\, познакомив с достойными поставщиками для их проектов. \nУспех мероприятий прошлого года дал нам уверенность\, что географию путешествия надо расширять: в этом году мы посетим 6 городов Урала – Пермь\, Екатеринбург\, Челябинск\, Оренбург\, Уфа\, Ижевск – за 9 дней. Нас ждут красивейшие горные пейзажи и современные мегаполисы\, интересные встречи и талантливые дизайнеры.  Присоединяйтесь к клубу профессионалов – дружеское общение\, полезные знакомства\, надежные поставщики и подрядчики. \nЕсли Вы хотите: \n\nУвидеть и «потрогать» лучшие дизайнерские решения мирового уровня;\nДоговориться лично с надежными поставщиками;\nУзнать мнение коллег или найти нестандартное дизайнерское решение;\nУслышать и увидеть выступления топовых российских дизайнеров.\n\n  \nМы приглашаем вас на мероприятия нашего клуба! \nПредварительная регистрация для посещения мероприятий обязательна!
URL:https://d-fest.ru/event/%d0%b4%d0%bd%d0%b8-%d0%b4%d0%b8%d0%b7%d0%b0%d0%b9%d0%bd%d0%b5%d1%80%d0%b0-%d1%83%d1%80%d0%b0%d0%bb-2/
LOCATION:Лофт БатонБетон\, ул. 8 марта\, д. 203\, Екатеринбург\, Russian Federation
CATEGORIES:Встреча,Конференция,Нетворкинг,Событие
ATTACH;FMTTYPE=image/png:https://d-fest.ru/wp-content/uploads/2025/08/Снимок-экрана-2025-08-13-в-13.29.47-1.png
END:VEVENT
BEGIN:VEVENT
DTSTART;TZID=UTC:20250913T120000
DTEND;TZID=UTC:20250913T180000
DTSTAMP:20260425T183244
CREATED:20250818T115610Z
LAST-MODIFIED:20250818T120357Z
UID:2043-1757764800-1757786400@d-fest.ru
SUMMARY:ДНИ ДИЗАЙНЕРА | УРАЛ
DESCRIPTION:День Дизайнера — «визитная карточка» нашего клуба\, событие\, которое мы успешно проводим по всей России в крупнейших городах регионов. \nГлавная идея — принести коллегам-дизайнерам новый заряд вдохновения\, творчества\, инсайты\, интересные мысли и возможность общения друг другом\, а также сэкономить их время на будущее\, познакомив с достойными поставщиками для их проектов. \nУспех мероприятий прошлого года дал нам уверенность\, что географию путешествия надо расширять: в этом году мы посетим 6 городов Урала – Пермь\, Екатеринбург\, Челябинск\, Оренбург\, Уфа\, Ижевск – за 9 дней. Нас ждут красивейшие горные пейзажи и современные мегаполисы\, интересные встречи и талантливые дизайнеры.  Присоединяйтесь к клубу профессионалов – дружеское общение\, полезные знакомства\, надежные поставщики и подрядчики. \nЕсли Вы хотите: \n\nУвидеть и «потрогать» лучшие дизайнерские решения мирового уровня;\nДоговориться лично с надежными поставщиками;\nУзнать мнение коллег или найти нестандартное дизайнерское решение;\nУслышать и увидеть выступления топовых российских дизайнеров.\n\n  \nМы приглашаем вас на мероприятия нашего клуба! \nПредварительная регистрация для посещения мероприятий обязательна!
URL:https://d-fest.ru/event/%d0%b4%d0%bd%d0%b8-%d0%b4%d0%b8%d0%b7%d0%b0%d0%b9%d0%bd%d0%b5%d1%80%d0%b0-%d1%83%d1%80%d0%b0%d0%bb/
LOCATION:Ивент-пространство FRAME\, ул. Газеты "Звезда"\, 38б\, Пермь\, Russian Federation
CATEGORIES:Встреча,Конференция,Нетворкинг,Событие
ATTACH;FMTTYPE=image/png:https://d-fest.ru/wp-content/uploads/2025/08/Снимок-экрана-2025-08-13-в-13.29.47-1.png
END:VEVENT
BEGIN:VEVENT
DTSTART;TZID=UTC:20250904T190000
DTEND;TZID=UTC:20250904T210000
DTSTAMP:20260425T183244
CREATED:20250818T125835Z
LAST-MODIFIED:20250818T125835Z
UID:2069-1757012400-1757019600@d-fest.ru
SUMMARY:Бизнес-практикум: «Новые грани привычных материалов в дизайне»
DESCRIPTION:Агентство креативных индустрий (АКИ) при Департаменте культуры города Москвы приглашают представителей индустрии дизайна.\n\n04 сентября в 19:00 на бизнес-практикум «Новые грани привычных материалов в дизайне»\, который состоится в пространстве для креативных предпринимателей АКИ.лаб.\nПриглашаем дизайнеров на экспертную дискуссию о современных подходах к материалам для проектирования среды.\nНа встрече эксперты обсудят:\n\nНовое прочтение привычных материалов: Как дерево\, камень\, металл\, бетон и стекло решают современные задачи в интерьерах\, экстерьерах и общественных пространствах. На конкретных примерах покажем\, как их переосмысление повышает долговечность объектов и снижает затраты.\nНовинки последних 5 лет: Самые перспективные современные материалы\, их свойства и где они применимы.\n\n\n\n\nМероприятие пройдет пространстве для креативных предпринимателей АКИ.лаб (ул. Большая Никитская\, 17с2) 4 сентября\, 19:00.
URL:https://d-fest.ru/event/%d0%b1%d0%b8%d0%b7%d0%bd%d0%b5%d1%81-%d0%bf%d1%80%d0%b0%d0%ba%d1%82%d0%b8%d0%ba%d1%83%d0%bc/
LOCATION:АКИ.лаб\, Большая Никитская 17 строение 2\, Москва\, Russian Federation
CATEGORIES:Встреча,Конференция,Лекция,Событие
ATTACH;FMTTYPE=image/jpeg:https://d-fest.ru/wp-content/uploads/2025/08/D0F2FE75-0A76-4B23-BA8F-CF91B61D5115.jpeg
END:VEVENT
BEGIN:VEVENT
DTSTART;TZID=UTC:20250827T170000
DTEND;TZID=UTC:20250827T210000
DTSTAMP:20260425T183244
CREATED:20250818T113453Z
LAST-MODIFIED:20250818T113623Z
UID:2033-1756314000-1756328400@d-fest.ru
SUMMARY:Дизайн-сессии -  новый формат встреч сообщества ADDA PRO
DESCRIPTION:27 августа в штаб-квартире* международной премии ADDAWARDS.RU стартует первая из четырёх встреч цикла «Дизайн-сессии. Сезон 2025».  \nДизайнеры\, архитекторы\, девелоперы\, производители\, поставщики и эксперты рынка соберутся в Москве под эгидой экосистемы ADDAPRO\, платформы\, объединяющей профессионалов индустрии.  \nТема первой сессии: \n«Загородный дом и ландшафт». \nВ программе пять коротких презентаций от экспертов рынка — 15 минут на каждую питч-сессию.  \nУчастники в зале смогут задать вопросы\, выразить свое мнение\, симпатии/антипатии к каждому докладу путём электронного голосования. \nУчастники проголосуют за понравившуюся идею\, смогут задать вопросы коллегам\, а так же выиграть призы от организаторов и партнёров.
URL:https://d-fest.ru/event/%d0%b4%d0%b8%d0%b7%d0%b0%d0%b9%d0%bd-%d1%81%d0%b5%d1%81%d1%81%d0%b8%d0%b8-%d0%bd%d0%be%d0%b2%d1%8b%d0%b9-%d1%84%d0%be%d1%80%d0%bc%d0%b0%d1%82-%d0%b2%d1%81%d1%82%d1%80%d0%b5%d1%87-%d1%81%d0%be%d0%be/
LOCATION:CASA RICCA EXPO\, Рублёвское ш.\, 52А\, Галерея победителей\, Москва\, Russian Federation
CATEGORIES:Встреча
ATTACH;FMTTYPE=image/jpeg:https://d-fest.ru/wp-content/uploads/2025/08/514BABA4-8E87-4325-B682-5A0C3F1D8687.jpeg
END:VEVENT
END:VCALENDAR