BEGIN:VCALENDAR
VERSION:2.0
PRODID:-//Практики. DesignSpaces - ECPv6.11.2.1//NONSGML v1.0//EN
CALSCALE:GREGORIAN
METHOD:PUBLISH
X-ORIGINAL-URL:https://d-fest.ru
X-WR-CALDESC:Мероприятия для Практики. DesignSpaces
REFRESH-INTERVAL;VALUE=DURATION:PT1H
X-Robots-Tag:noindex
X-PUBLISHED-TTL:PT1H
BEGIN:VTIMEZONE
TZID:UTC
BEGIN:STANDARD
TZOFFSETFROM:+0000
TZOFFSETTO:+0000
TZNAME:UTC
DTSTART:20260101T000000
END:STANDARD
END:VTIMEZONE
BEGIN:VEVENT
DTSTART;TZID=UTC:20260624T100000
DTEND;TZID=UTC:20260626T170000
DTSTAMP:20260425T143800
CREATED:20260105T123128Z
LAST-MODIFIED:20260105T123128Z
UID:2677-1782295200-1782493200@d-fest.ru
SUMMARY:Индустрия камня
DESCRIPTION:26-Я МЕЖДУНАРОДНАЯ ВЫСТАВКА «ИНДУСТРИЯ КАМНЯ»\n«ИНДУСТРИЯ КАМНЯ» — крупнейшая выставка в области добычи\, обработки и применения натурального камня в России\, СНГ и Восточной Европе\, входящая в ежегодный календарь основных «каменных» мероприятий в мире. \nНазвание выставки — «ИНДУСТРИЯ КАМНЯ» – отражает ее всеобъемлющий характер\, соотнесенность со всей индустрией природного камня\, включающей как этот уникальный природный материал в блоках\, слэбах\, плитах\, изделиях\, так и оборудование для добычи и обработки натурального камня\, инструмент\, средства для ухода и сохранения камня. \nСегодня «ИНДУСТРИЯ КАМНЯ» — это лучшая в России коммуникационная площадка\, которая объединяет ведущие российские и зарубежные компании\, работающие в области добычи и обработки природного камня\, производства архитектурно-строительных\, художественных\, ритуальных изделий\, предметов для дизайна интерьера\, производителей и дистрибьюторов оборудования и инструмента для резки и обработки камня\, а также потребителей — архитектурные\, дизайнерские бюро\, строительные и проектные организации и др. \nВыставка организована компанией ООО «МВ ИНДУСТРИЯ КАМНЯ» \n  \n\nпод Патронатом Торгово-промышленной Палаты Российской Федерации\nпри участии Ассоциации предприятий каменной отрасли России «ЦЕНТР КАМНЯ»\n\n  \nпри поддержке \n  \n\nРоссийского общества инженеров строительства\nРоссийско-Китайской Палаты по содействию торговле машинно-технической и инновационной продукцией\nАссоциации горнопромышленников Карелии\nЦентра поддержки экспорта Республики Карелия\nСоюза архитекторов России\nСоюза московских архитекторов\nМеждународного Союза дизайнеров\nСоюза дизайнеров Москвы\nСоюза Архитекторов и Дизайнеров.\n\n  \nУчастие в выставке «ИНДУСТРИЯ КАМНЯ» — это возможность представить свои продукты широкой целевой аудитории\, увеличить объемы продаж и расширить географию сбыта. \n 
URL:https://d-fest.ru/event/%d0%b8%d0%bd%d0%b4%d1%83%d1%81%d1%82%d1%80%d0%b8%d1%8f-%d0%ba%d0%b0%d0%bc%d0%bd%d1%8f/
LOCATION:Крокус Экспо\, 65–66 км МКАД\, станция «Мякинино»\, Москва\, Russian Federation
CATEGORIES:Выставка
ATTACH;FMTTYPE=image/jpeg:https://d-fest.ru/wp-content/uploads/2026/01/2025_bg.jpg
END:VEVENT
BEGIN:VEVENT
DTSTART;TZID=UTC:20260719T100000
DTEND;TZID=UTC:20260719T170000
DTSTAMP:20260425T143800
CREATED:20260105T091339Z
LAST-MODIFIED:20260105T091339Z
UID:2631-1784455200-1784480400@d-fest.ru
SUMMARY:Дизэйр Москва
DESCRIPTION:Клуб комплектаторов — сообщество дизайнеров интерьера и поставщиков с девизом «экономим время для творчества».\nОснован в сентябре 2019 года.
URL:https://d-fest.ru/event/%d0%b4%d0%b8%d0%b7%d1%8d%d0%b9%d1%80-%d0%bc%d0%be%d1%81%d0%ba%d0%b2%d0%b0/
LOCATION:White Park Мякининское шоссе д. 3\, Рублевский пляж
CATEGORIES:Выставка,Конференция
ATTACH;FMTTYPE=image/png:https://d-fest.ru/wp-content/uploads/2026/01/image.png
END:VEVENT
BEGIN:VEVENT
DTSTART;TZID=UTC:20260911T120000
DTEND;TZID=UTC:20260911T170000
DTSTAMP:20260425T143800
CREATED:20260105T113344Z
LAST-MODIFIED:20260105T113344Z
UID:2654-1789128000-1789146000@d-fest.ru
SUMMARY:День дизайнера Екатеринбург
DESCRIPTION:Клуб комплектаторов — сообщество дизайнеров интерьера и поставщиков с девизом «экономим время для творчества».\nОснован в сентябре 2019 года. \nДень дизайнера Екатеринбург\n11 сентября\nГалерея 11\nСтуденческая ул. 11
URL:https://d-fest.ru/event/%d0%b4%d0%b5%d0%bd%d1%8c-%d0%b4%d0%b8%d0%b7%d0%b0%d0%b9%d0%bd%d0%b5%d1%80%d0%b0-%d0%b5%d0%ba%d0%b0%d1%82%d0%b5%d1%80%d0%b8%d0%bd%d0%b1%d1%83%d1%80%d0%b3/
LOCATION:Екатеринбург\, Екатеринбург\, Russian Federation
CATEGORIES:Выставка,Конференция
END:VEVENT
BEGIN:VEVENT
DTSTART;TZID=UTC:20260922T100000
DTEND;TZID=UTC:20260924T170000
DTSTAMP:20260425T143800
CREATED:20260105T125154Z
LAST-MODIFIED:20260105T125154Z
UID:2699-1790071200-1790269200@d-fest.ru
SUMMARY:HomeTextile HomeDesign
DESCRIPTION:Международная выставка интерьерных тканей\, домашнего текстиля и решений для дизайна жилых пространств \n22 — 24 сентября 2026 \nТимирязев Центр \n\nМеждународная выставка домашнего текстиля\, интерьерных тканей и решений для дизайна жилых пространств \n\nВыставка HomeTextile X HomeDesign (бывш.Heimtextil Russia) является крупнейшей в России специализированной b2b площадкой\, где одновременно представлены интерьерные и обивочные ткани\, домашний текстиль\, карнизы и солнцезащитные системы\, системы для сна\, ковры и многое другое.\nЭто площадка\, на которой представлены актуальные тренды в области текстильного и интерьерного дизайна в виде концептуальных пространств\, реализованных известными дизайнерами. Ежегодно в рамках HomeTextile X HomeDesign проходят десятки лекций\, форумов и мастер-классов от ведущих экспертов отрасли. \n\n\nБольше\, чем выставка \n\n\n\nКрупнейшая в России специализированная b2b площадка\, где одновременно представлены интерьерные и обивочные ткани\, домашний текстиль\, дизайнерская мебель\, материалы и решения для создания интерьера. \nДеловая программа \n3 площадки деловой программы \n75+ часов профессионального нетворкинга \nСпециальные экскурсии по экспозициям и Тренд-зоне \nNEW! B2B встречи в закрытом формате
URL:https://d-fest.ru/event/hometextile-homedesign/
LOCATION:Тимирязев Центр\, Верхняя аллея\, 8\, Москва\, Russian Federation
CATEGORIES:Выставка
ATTACH;FMTTYPE=image/jpeg:https://d-fest.ru/wp-content/uploads/2026/01/2894.jpg
END:VEVENT
BEGIN:VEVENT
DTSTART;TZID=UTC:20260923T100000
DTEND;TZID=UTC:20260925T170000
DTSTAMP:20260425T143800
CREATED:20260105T112550Z
LAST-MODIFIED:20260105T112550Z
UID:2647-1790157600-1790355600@d-fest.ru
SUMMARY:Мебель&Деревообработка Урал
DESCRIPTION:5-я Международная выставка мебели\, оборудования и комплектующих для деревообрабатывающего\, лесоперерабатывающего и мебельного производства. \n«Мебель&Деревообработка Урал» — масштабный проект\, который впервые успешно стартовал на выставочном рынке Уральского федерального округа в 2022 году. Продолжая свою работу\, выставка постепенно завоевывает звание одной из эффективных мебельных выставок в регионе. В 2025 году около 100 участников из России\, Беларуси и Турции продемонстрировали: мебель и предметы интерьера; оборудование\, комплектующие и инструменты для мебельного производства и обработки дерева\, стекла\, металла. «Мебель&Деревообработка Урал» дает возможность представить продукцию и наглядно продемонстрировать ее преимущества\, расширить географию сбыта\, встретиться с новыми клиентами и обсудить индивидуальные условия сотрудничества. В 2025 году выставку посетили более 3 000 представителей отрасли. Посетители за три дня могут ознакомиться с широким ассортиментом продукции: найти новые решения для производств\, первыми узнать о последних трендах мебельной индустрии\, заключить выгодные договоры.
URL:https://d-fest.ru/event/%d0%bc%d0%b5%d0%b1%d0%b5%d0%bb%d1%8c%d0%b4%d0%b5%d1%80%d0%b5%d0%b2%d0%be%d0%be%d0%b1%d1%80%d0%b0%d0%b1%d0%be%d1%82%d0%ba%d0%b0-%d1%83%d1%80%d0%b0%d0%bb-2/
LOCATION:МВЦ «Екатеринбург-ЭКСПО»\, ЭКСПО-бульвар\, дом 2\, Екатеринбург\, Russian Federation
CATEGORIES:Выставка
ATTACH;FMTTYPE=image/jpeg:https://d-fest.ru/wp-content/uploads/2026/01/031_20240919_Valitov_resized.jpg
END:VEVENT
BEGIN:VEVENT
DTSTART;TZID=UTC:20260924T100000
DTEND;TZID=UTC:20260927T170000
DTSTAMP:20260425T143800
CREATED:20260105T103449Z
LAST-MODIFIED:20260105T103449Z
UID:2641-1790244000-1790528400@d-fest.ru
SUMMARY:АРТ РОССИЯ Классика
DESCRIPTION:Первая ярмарка современного академического искусства «Арт Россия. Классика. Новый взгляд» при поддержке Российской академии художеств и международный арт-форум\, объединяющие на одной площадке в центре Москвы галеристов и независимых художников\, коллекционеров и экспертов арт-рынка
URL:https://d-fest.ru/event/%d0%b0%d1%80%d1%82-%d1%80%d0%be%d1%81%d1%81%d0%b8%d1%8f-%d0%ba%d0%bb%d0%b0%d1%81%d1%81%d0%b8%d0%ba%d0%b0/
LOCATION:Гостиный двор\, Ильинка\, д.4\, Москва\, Russian Federation
CATEGORIES:Выставка
ATTACH;FMTTYPE=image/webp:https://d-fest.ru/wp-content/uploads/2026/01/9.webp
END:VEVENT
BEGIN:VEVENT
DTSTART;TZID=UTC:20261003T120000
DTEND;TZID=UTC:20261003T170000
DTSTAMP:20260425T143800
CREATED:20260105T113554Z
LAST-MODIFIED:20260105T113554Z
UID:2656-1791028800-1791046800@d-fest.ru
SUMMARY:День дизайнера Сочи
DESCRIPTION:День дизайнера Сочи\n3 октября\nОтель Гранд Карат\nул.Орджоникидзе 17\nКлуб комплектаторов — сообщество дизайнеров интерьера и поставщиков с девизом «экономим время для творчества».\nОснован в сентябре 2019 года.
URL:https://d-fest.ru/event/%d0%b4%d0%b5%d0%bd%d1%8c-%d0%b4%d0%b8%d0%b7%d0%b0%d0%b9%d0%bd%d0%b5%d1%80%d0%b0-%d1%81%d0%be%d1%87%d0%b8-2/
LOCATION:Сочи
CATEGORIES:Выставка,Конференция
END:VEVENT
BEGIN:VEVENT
DTSTART;TZID=UTC:20261007T100000
DTEND;TZID=UTC:20261009T180000
DTSTAMP:20260425T143800
CREATED:20260104T215042Z
LAST-MODIFIED:20260104T215042Z
UID:2569-1791367200-1791568800@d-fest.ru
SUMMARY:РУССКИЙ ДОМ 2026
DESCRIPTION:Русский дом. Креативные регионы 2026 — международная выставка дизайна интерьеров и технологий \nВыставка Русский дом. Креативные регионы 2026 проводится c 7 по 9 октября в городе Москва\, Россия. \nОсновные тематические направления мероприятия: Интерьерный дизайн\, Дизайн\, Декор\, Освещение. \n\n\n\n\nВЫСТАВКА «РУССКИЙ ДОМ. КРЕАТИВНЫЕ РЕГИОНЫ» \nЭто международная выставка дизайна интерьеров и технологий\, направленная на воссоединение с историческими и культурными корнями через современные интерьерные решения. \nНАША МИССИЯ:\nМиссия выставки «Русский Дом. Креативные регионы» — представить современные достижения индустрии дизайна\, искусства и технологий\, демонстрируя их связь с богатым историческим и культурным наследием России\, и способствовать укреплению международного сотрудничества в этих сферах
URL:https://d-fest.ru/event/%d1%80%d1%83%d1%81%d1%81%d0%ba%d0%b8%d0%b9-%d0%b4%d0%be%d0%bc-2026/
LOCATION:Гостиный двор\, Ильинка\, д.4\, Москва\, Russian Federation
CATEGORIES:Выставка
ATTACH;FMTTYPE=image/webp:https://d-fest.ru/wp-content/uploads/2026/01/glavnaya.1536x1152.webp
END:VEVENT
BEGIN:VEVENT
DTSTART;TZID=UTC:20261013T100000
DTEND;TZID=UTC:20261013T203000
DTSTAMP:20260425T143800
CREATED:20260104T210329Z
LAST-MODIFIED:20260104T210329Z
UID:2550-1791885600-1791923400@d-fest.ru
SUMMARY:HomeFest УФА
DESCRIPTION:Региональные выставки помогают бизнесу находить новые рынки сбыта\, расширяя географию продаж и укрепляя позиции на локальных рынках.
URL:https://d-fest.ru/event/homefest-%d1%83%d1%84%d0%b0/
LOCATION:УФА
CATEGORIES:Выставка,Конференция
END:VEVENT
BEGIN:VEVENT
DTSTART;TZID=UTC:20261026T080000
DTEND;TZID=UTC:20261029T170000
DTSTAMP:20260425T143800
CREATED:20260104T224055Z
LAST-MODIFIED:20260104T224055Z
UID:2596-1793001600-1793293200@d-fest.ru
SUMMARY:ПИР Экспо
DESCRIPTION:ПИР Экспо — крупнейшее профессиональное мероприятие для индустрии HoReCa в России — в 2026 году пройдёт в 29-й раз.\nЕжегодная консолидированная платформа\, объединяющая ведущих производителей и поставщиков продукции\, решений и услуг для сектора гостеприимства с бизнесом индустрии гостеприимства. \nРЕСТОРАН. КОФЕ. ОТЕЛЬ \nПИР Экспо — это: \n\nДоступ к брендам\, продуктам и инновациям: масштабная экспозиция представляет как эффективные зарекомендовавшие себя бизнес-решения\, так и новые разработки для ресторанов\, отелей и кофейного бизнеса.\nСтратегическая экспертиза: большая деловая программа аккумулирует знания лидеров рынка\, предлагая глубокий анализ актуальных бизнес-вызовов и путей их преодоления.\nЭффективный нетворкинг: площадка традиционно способствует установлению профессиональных контактов\, обмену опытом между ключевыми игроками отрасли и заключению контрактов.\n\nПИР Экспо вот уже почти 30 лет сохраняет статус обязательного к посещению и участию события для профессионалов индустрии.
URL:https://d-fest.ru/event/%d0%bf%d0%b8%d1%80-%d1%8d%d0%ba%d1%81%d0%bf%d0%be/
LOCATION:Крокус Экспо\, 65–66 км МКАД\, станция «Мякинино»\, Москва\, Russian Federation
CATEGORIES:Выставка
ATTACH;FMTTYPE=image/webp:https://d-fest.ru/wp-content/uploads/2026/01/mezhdunarodnaya-vystavka-pir-ekspo-2023-glavnyj-smotr-dostizhenij-restorannogo-i-gostinichnogo-biznesa_51927_8_1000x667.webp
END:VEVENT
BEGIN:VEVENT
DTSTART;TZID=UTC:20261027T100000
DTEND;TZID=UTC:20261030T170000
DTSTAMP:20260425T143800
CREATED:20260105T123544Z
LAST-MODIFIED:20260105T123544Z
UID:2680-1793095200-1793379600@d-fest.ru
SUMMARY:INTERLIGHT SMART CITY & HOME
DESCRIPTION:Международная выставка освещения\, электротехники и системных решений для умного города и дома. \nЛидирующий международный проект\, объединяющий профессионалов в области освещения\, автоматизации зданий\, умного города\, дома и систем безопасности со всего мира. На протяжении 30 лет существования выставка Interlight | Smart City & Home прошла долгий путь и стала точкой сбора профессионалов из разных сфер.
URL:https://d-fest.ru/event/interlight-smart-city-home-2/
LOCATION:Крокус Экспо\, 65–66 км МКАД\, станция «Мякинино»\, Москва\, Russian Federation
CATEGORIES:Выставка
ATTACH;FMTTYPE=image/jpeg:https://d-fest.ru/wp-content/uploads/2026/01/dyxrir2bvwak2c6kohz0z99olmrxkv8t.jpg
END:VEVENT
BEGIN:VEVENT
DTSTART;TZID=UTC:20261115T120000
DTEND;TZID=UTC:20261115T170000
DTSTAMP:20260425T143800
CREATED:20260105T113733Z
LAST-MODIFIED:20260105T113733Z
UID:2659-1794744000-1794762000@d-fest.ru
SUMMARY:День Новосела Санкт-Петербург
DESCRIPTION:День Новосела Санкт-Петербург\n15 ноября\nОтель Азимут ****\nЛермонтовский пр 43/1\nКлуб комплектаторов — сообщество дизайнеров интерьера и поставщиков с девизом «экономим время для творчества».\nОснован в сентябре 2019 года.
URL:https://d-fest.ru/event/%d0%b4%d0%b5%d0%bd%d1%8c-%d0%bd%d0%be%d0%b2%d0%be%d1%81%d0%b5%d0%bb%d0%b0-%d1%81%d0%b0%d0%bd%d0%ba%d1%82-%d0%bf%d0%b5%d1%82%d0%b5%d1%80%d0%b1%d1%83%d1%80%d0%b3/
LOCATION:Санкт-Петербург
CATEGORIES:Выставка,Конференция
END:VEVENT
BEGIN:VEVENT
DTSTART;TZID=UTC:20261123T100000
DTEND;TZID=UTC:20261126T180000
DTSTAMP:20260425T143800
CREATED:20260105T102818Z
LAST-MODIFIED:20260105T102818Z
UID:2636-1795428000-1795716000@d-fest.ru
SUMMARY:МЕБЕЛЬ-2026
DESCRIPTION:37-я Международная выставка «Мебель\, фурнитура и обивочные материалы»\n23–26 ноября 2026\n\n\nМебель. Интерьер. Дизайн. Все лучшее на одной площадке! \n«МЕБЕЛЬ» – крупнейшая отраслевая выставка\, которая ежегодно становится главным событием мебельного рынка в России и Восточной Европе. Каждую осень на площадке собираются ведущие мировые бренды и производители\, дизайнеры и специалисты по интерьеру для демонстрации новых коллекций и лучших образцов мебельной моды\, эффективного делового общения и развития бизнеса. \nЗдесь представлен широкий выбор элитной и бюджетной мебели для спален\, столовых\, гостиных\, детских\, а также кухни от производителя\, диваны и кресла\, мебельная фурнитура\, отделочные материалы и разнообразные предметы интерьера.
URL:https://d-fest.ru/event/%d0%bc%d0%b5%d0%b1%d0%b5%d0%bb%d1%8c-2026-2/
LOCATION:Крокус Экспо\, 65–66 км МКАД\, станция «Мякинино»\, Москва\, Russian Federation
CATEGORIES:Выставка
END:VEVENT
BEGIN:VEVENT
DTSTART;TZID=UTC:20261201T100000
DTEND;TZID=UTC:20261204T180000
DTSTAMP:20260425T143800
CREATED:20260105T123750Z
LAST-MODIFIED:20260105T123750Z
UID:2683-1796119200-1796407200@d-fest.ru
SUMMARY:Woodex 2026
DESCRIPTION:20-Я ЕЖЕГОДНАЯ МЕЖДУНАРОДНАЯ ВЫСТАВКА ОБОРУДОВАНИЯ\, МАТЕРИАЛОВ И КОМПЛЕКТУЮЩИХ ДЛЯ ДЕРЕВООБРАБАТЫВАЮЩЕЙ И МЕБЕЛЬНОЙ ПРОМЫШЛЕННОСТИ\n  \nЕжегодная Международная выставка оборудования\, материалов и комплектующих для деревообрабатывающей и мебельной промышленности\nУчастие в выставке позволяет продемонстрировать оборудование для лесозаготовки\, деревообработки\, переработки древесины\, производства мебели\, а также мебельные комплектующие и фурнитуру\, дает возможность найти новых клиентов среди максимального количества специалистов лесопромышленного комплекса России и способствует увеличению объемов продаж.
URL:https://d-fest.ru/event/woodex-2026/
LOCATION:Крокус Экспо\, 65–66 км МКАД\, станция «Мякинино»\, Москва\, Russian Federation
CATEGORIES:Выставка
ATTACH;FMTTYPE=image/jpeg:https://d-fest.ru/wp-content/uploads/2026/01/news-drev-minsk-8.jpg
END:VEVENT
BEGIN:VEVENT
DTSTART;TZID=UTC:20261213T120000
DTEND;TZID=UTC:20261213T170000
DTSTAMP:20260425T143800
CREATED:20260105T113901Z
LAST-MODIFIED:20260105T113901Z
UID:2662-1797163200-1797181200@d-fest.ru
SUMMARY:Диз. Ёлка Москва
DESCRIPTION:Диз. Ёлка Москва\n13 декабря\nКрасный Октябрь\nБерсеневская наб 6с3\nКлуб комплектаторов — сообщество дизайнеров интерьера и поставщиков с девизом «экономим время для творчества».\nОснован в сентябре 2019 года.
URL:https://d-fest.ru/event/%d0%b4%d0%b8%d0%b7-%d1%91%d0%bb%d0%ba%d0%b0-%d0%bc%d0%be%d1%81%d0%ba%d0%b2%d0%b0/
LOCATION:Москва
CATEGORIES:Выставка,Конференция
ATTACH;FMTTYPE=image/png:https://d-fest.ru/wp-content/uploads/2026/01/image.png
END:VEVENT
END:VCALENDAR