BEGIN:VCALENDAR
VERSION:2.0
PRODID:-//Практики. DesignSpaces - ECPv6.11.2.1//NONSGML v1.0//EN
CALSCALE:GREGORIAN
METHOD:PUBLISH
X-WR-CALNAME:Практики. DesignSpaces
X-ORIGINAL-URL:https://d-fest.ru
X-WR-CALDESC:Мероприятия для Практики. DesignSpaces
REFRESH-INTERVAL;VALUE=DURATION:PT1H
X-Robots-Tag:noindex
X-PUBLISHED-TTL:PT1H
BEGIN:VTIMEZONE
TZID:UTC
BEGIN:STANDARD
TZOFFSETFROM:+0000
TZOFFSETTO:+0000
TZNAME:UTC
DTSTART:20260101T000000
END:STANDARD
END:VTIMEZONE
BEGIN:VEVENT
DTSTART;TZID=UTC:20260210T100000
DTEND;TZID=UTC:20260210T203000
DTSTAMP:20260425T183205
CREATED:20260104T151609Z
LAST-MODIFIED:20260104T151609Z
UID:2525-1770717600-1770755400@d-fest.ru
SUMMARY:HOMEFEST Екатеринбург
DESCRIPTION:HOMEFEST Екатеринбург \nРегиональные выставки помогают бизнесу находить новые рынки сбыта\, расширяя географию продаж и укрепляя позиции на локальных рынках.
URL:https://d-fest.ru/event/homefest-%d0%b5%d0%ba%d0%b0%d1%82%d0%b5%d1%80%d0%b8%d0%bd%d0%b1%d1%83%d1%80%d0%b3/
LOCATION:Екатеринбург\, Екатеринбург\, Russian Federation
CATEGORIES:Выставка,Конференция
ATTACH;FMTTYPE=image/png:https://d-fest.ru/wp-content/uploads/2026/01/Logo_HF_grey.png
END:VEVENT
BEGIN:VEVENT
DTSTART;TZID=UTC:20260210T100000
DTEND;TZID=UTC:20260213T180000
DTSTAMP:20260425T183205
CREATED:20251015T112410Z
LAST-MODIFIED:20260106T122002Z
UID:2363-1770717600-1771005600@d-fest.ru
SUMMARY:"СИБИРСКАЯ СТРОИТЕЛЬНАЯ НЕДЕЛЯ" НОВОСИБИРСК
DESCRIPTION:ВЫСТАВКА в Новосибирске 10-13 Февраля 2026\n\n\n\nВся информация на сайте
URL:https://d-fest.ru/event/%d1%81%d0%b8%d0%b1%d0%b8%d1%80%d1%81%d0%ba%d0%b0%d1%8f-%d1%81%d1%82%d1%80%d0%be%d0%b8%d1%82%d0%b5%d0%bb%d1%8c%d0%bd%d0%b0%d1%8f-%d0%bd%d0%b5%d0%b4%d0%b5%d0%bb%d1%8f-%d0%bd%d0%be%d0%b2%d0%be%d1%81/
CATEGORIES:Выставка
ATTACH;FMTTYPE=image/jpeg:https://d-fest.ru/wp-content/uploads/2025/10/50406dc9-d3d7-458c-ae72-623723b7714b.jpg
END:VEVENT
END:VCALENDAR