BEGIN:VCALENDAR
VERSION:2.0
PRODID:-//Практики. DesignSpaces - ECPv6.11.2.1//NONSGML v1.0//EN
CALSCALE:GREGORIAN
METHOD:PUBLISH
X-ORIGINAL-URL:https://d-fest.ru
X-WR-CALDESC:Мероприятия для Практики. DesignSpaces
REFRESH-INTERVAL;VALUE=DURATION:PT1H
X-Robots-Tag:noindex
X-PUBLISHED-TTL:PT1H
BEGIN:VTIMEZONE
TZID:UTC
BEGIN:STANDARD
TZOFFSETFROM:+0000
TZOFFSETTO:+0000
TZNAME:UTC
DTSTART:20260101T000000
END:STANDARD
END:VTIMEZONE
BEGIN:VEVENT
DTSTART;TZID=UTC:20260415T100000
DTEND;TZID=UTC:20260417T170000
DTSTAMP:20260425T155511
CREATED:20260105T124640Z
LAST-MODIFIED:20260105T124640Z
UID:2693-1776247200-1776445200@d-fest.ru
SUMMARY:HORECA Expo
DESCRIPTION:Выставка готовых решений для профессионалов индустрии гостеприимства HORECA Expo \n\nглавная бизнес-площадка первого полугодия\, нацеленная на профессиональное сообщество сферы гостеприимства. Программа выставки будет интересна владельцам и управляющим ресторанов и баров\, пекарен и кондитерских\, отелей и кейтеринговых компаний и затронет широкий спектр актуальных тем. Центральным событием HORECA Expo станет конкурс Chef a la Russe – Всероссийский открытый кулинарный чемпионат среди шеф-поваров\, который компания METRO развивает совместно с Национальной Ассоциацией Кулинаров России с 2014 года. Это профессиональное командное соревнование\, проводится в полном соответствии с международными регламентами и оборудовано по передовым отраслевым шаблонам. Ежегодно чемпионат собирает поваров со всей страны\, задает стандарты профессии и формирует новое поколение кулинарных лидеров. \nСоздаем Гравитацию для Вселенной HORECA\nВыставка — это демонстрация новейших продуктов\, технологий\, готовых решений и услуг в области гостеприимства\, а также место встречи профессионалов. \n\n\n\n\nПритягиваем инновации\n— Главное событие\, где дебютируют прорывные технологии и концепции\n— Место\, где тренды рождаются\, а не просто отслеживаются \n\n\n\n\n\nСинхронизируем орбиты\nИдеальное взаимодействие между:\n— Поставщиками и покупателями\n— Стартапами и инвесторами\n— Шефами и производителями\n— Визионерами и исполнителями \n\n\n\n\n\nУскоряем рост\nДаем импульс для развития бизнеса:\n— Стартапам → Выход на рынок\n— Среднему бизнесу → Масштабирование\n— Лидерам → Трансформацию и адаптацию \n\n\n\n\n\nФормируем созвездия индустрии\nСоздаем взаимосвязанные экосистемы\, где:\n— Еда встречается с технологиями\n— Традиции — с инновациями\n— Локальное — с глобальным \n\n\n\n\n\nИскривляем пространство и время возможностей\n— Годы нетворкинга сжимаются в дни\n— Случайные встречи становятся неизбежными\n— Присутствие меняет траекторию бизнеса
URL:https://d-fest.ru/event/horeca-expo/
LOCATION:Тимирязев Центр\, Верхняя аллея\, 8\, Москва\, Russian Federation
CATEGORIES:Выставка
ATTACH;FMTTYPE=image/jpeg:https://d-fest.ru/wp-content/uploads/2026/01/3bku8tvm4qz4sl0158xqz6xwf44uh5zt.jpeg
END:VEVENT
END:VCALENDAR