BEGIN:VCALENDAR
VERSION:2.0
PRODID:-//Практики. DesignSpaces - ECPv6.11.2.1//NONSGML v1.0//EN
CALSCALE:GREGORIAN
METHOD:PUBLISH
X-ORIGINAL-URL:https://d-fest.ru
X-WR-CALDESC:Мероприятия для Практики. DesignSpaces
REFRESH-INTERVAL;VALUE=DURATION:PT1H
X-Robots-Tag:noindex
X-PUBLISHED-TTL:PT1H
BEGIN:VTIMEZONE
TZID:UTC
BEGIN:STANDARD
TZOFFSETFROM:+0000
TZOFFSETTO:+0000
TZNAME:UTC
DTSTART:20260101T000000
END:STANDARD
END:VTIMEZONE
BEGIN:VEVENT
DTSTART;TZID=UTC:20260421T100000
DTEND;TZID=UTC:20260423T170000
DTSTAMP:20260425T155511
CREATED:20260104T220414Z
LAST-MODIFIED:20260104T220414Z
UID:2579-1776765600-1776963600@d-fest.ru
SUMMARY:Build Ural 2026
DESCRIPTION:Build Ural\nВыставка строительных\, отделочных материалов и инженерного оборудования (18+) \n21 – 23 апреля 2026 \nЕкатеринбург\, МВЦ «Екатеринбург-Экспо» \nBuild Ural – ключевое событие строительной отрасли Урала\, объединяющее производителей и поставщиков материалов\, оборудования для строительства\, декорирования и ремонта. \nУчастники выставки Build Ural имеют возможность предложить свою продукцию большому количеству бизнес-посетителей\, заинтересованных в закупке строительных и отделочных материалов\, инженерного оборудования.
URL:https://d-fest.ru/event/build-ural-2026/
LOCATION:МВЦ «Екатеринбург-ЭКСПО»\, ЭКСПО-бульвар\, дом 2\, Екатеринбург\, Russian Federation
CATEGORIES:Выставка
ATTACH;FMTTYPE=image/jpeg:https://d-fest.ru/wp-content/uploads/2026/01/poster_event_3120586-1.jpg
END:VEVENT
BEGIN:VEVENT
DTSTART;TZID=UTC:20260421T100000
DTEND;TZID=UTC:20260426T170000
DTSTAMP:20260425T155511
CREATED:20260104T220938Z
LAST-MODIFIED:20260104T220938Z
UID:2582-1776765600-1777222800@d-fest.ru
SUMMARY:Salone del Mobile.Milano 2026
DESCRIPTION:Salone del Mobile Milano 2026 — главное событие в мире дизайна\, которое традиционно пройдет в Милане и соберет ведущих архитекторов\, дизайнеров\, производителей и представителей интерьерной индустрии. Ежегодно миланский мебельный салон задает направление для мировых трендов\, определяя\, как будет выглядеть интерьер будущего. В 2026 году выставка обещает стать особенно масштабной: ожидается участие более двух тысяч брендов из разных стран\, тысячи новых коллекций и сотни премьер. \n  \nДаты проведения мероприятия: с 21 по 26 апреля 2026 года. \nФормат: только для профессионалов отрасли (trade-only event). \nДни посещения по категориям: \n\nПоставщики\, производители мебельного сектора: 24\, 25\, 26 апреля.\nШирокая публика: 25\, 26 апреля.\nСтуденты: 24\, 25\, 26 апреля.\n\nЧасы работы iSaloni в Милане: \n\nПосетители: с 9:30 до 18:30.\nПресса: с 8:30 до 18:30.\nЭкспоненты: с 8:30 до 19:00.\n\nВ качестве экспонентов выступают: производители мебели и предметов интерьера\, поставщики материалов и технологий\, дизайнерские студии\, бренды\, представляющие новинки отрасли. \nО выставке Salone del Mobile в Милане\nВыставка iSaloni — крупнейшая международная мебельная экспозиция\, которая проводится с 1961 года. Это настоящее культурное явление\, которое объединяет дизайн\, технологии\, ремесло и искусство. Здесь представлены лучшие образцы современного и классического стиля\, а также концепции\, отражающие ценности устойчивого развития\, инноваций и гармонии человека с пространством. \nSalone Internazionale del Mobile включает в себя десятки тематических зон\, где выставляется мебель для гостиной\, спальни\, кухни\, ванных комнат\, а также аксессуары\, освещение\, предметы декора. Выставка демонстрирует\, как меняются представления о пространстве и эстетике\, как выстраивается баланс между функциональностью и эмоциональной выразительностью.
URL:https://d-fest.ru/event/salone-del-mobile-milano-2026/
LOCATION:Милан\,  Milano\, Italy
CATEGORIES:Выставка
ATTACH;FMTTYPE=image/webp:https://d-fest.ru/wp-content/uploads/2026/01/00-arch.jpg.webp.jpeg.webp
END:VEVENT
BEGIN:VEVENT
DTSTART;TZID=UTC:20260422T100000
DTEND;TZID=UTC:20260423T170000
DTSTAMP:20260425T155511
CREATED:20260105T124904Z
LAST-MODIFIED:20260105T124904Z
UID:2696-1776852000-1776963600@d-fest.ru
SUMMARY:ParkSeason Expo
DESCRIPTION:VII Международная выставка-конференция по созданию\, обслуживанию и развитию комфортной городской среды\, парков отдыха\, общественных пространств и особо охраняемых природных территорий ParkSeason Expo \n\nГлавная парковая выставка Российской Федерации и стран БРИКС с демонстрацией передовых достижений в области благоустройства и создания комфортной городской среды\, а также масштабная деловая программа Форума парков для администраций субъектов РФ и населенных пунктов\, муниципалитетов\, дирекций парков\, компаний-производителей\, архитекторов\, проектировщиков\, девелоперов.
URL:https://d-fest.ru/event/parkseason-expo/
LOCATION:Тимирязев Центр\, Верхняя аллея\, 8\, Москва\, Russian Federation
CATEGORIES:Выставка
ATTACH;FMTTYPE=image/jpeg:https://d-fest.ru/wp-content/uploads/2026/01/rmz2w86mui0x872cvwwnes4ei9wpq7ng.jpg
END:VEVENT
BEGIN:VEVENT
DTSTART;TZID=UTC:20260422T100000
DTEND;TZID=UTC:20260426T170000
DTSTAMP:20260425T155511
CREATED:20260105T103707Z
LAST-MODIFIED:20260105T103707Z
UID:2644-1776852000-1777222800@d-fest.ru
SUMMARY:АРТ МОСКВА
DESCRIPTION:АРТ МОСКВА – ведущая ярмарка современного\, классического и ювелирного искусства – в России прошла в Гостином дворе. \nНа ярмарке были представлены все сферы современного искусства: от видео и фотографии до живописи\, скульптуры и инсталляций. \nВ 2025 году в АРТ МОСКВЕ приняли участие более 150 галерей\, экспозиционная площадь ярмарки заняла весь атриум Гостиного двора — 12 000 м²\, где было представлено более 20 000 экспонатов. Ярмарку посетили свыше 39 000 человек\, среди них большое количество любителей искусства\, представителей российских и иностранных музеев\, кураторов\, арт-критиков и коллекционеров. \nТема ярмарки – Диалог \nАРТ МОСКВА\, сочетая периоды\, контексты и объекты в одном месте в одно время\, расширилась до пространства диалога. Диалога\, как необходимого условия отношений между человеком и человеком. Между направлениями искусства\, концепциями\, художниками\, галереями и институциями. Чтобы лучше понять друг друга\, нужно научиться вести дискуссию\, ставить вопросы\, искать ответы. Эту практику\, в том числе художественного взаимодействия\, поддержала лекционная программа ярмарки и конференция.
URL:https://d-fest.ru/event/%d0%b0%d1%80%d1%82-%d0%bc%d0%be%d1%81%d0%ba%d0%b2%d0%b0/
LOCATION:Гостиный двор\, Ильинка\, д.4\, Москва\, Russian Federation
CATEGORIES:Выставка
ATTACH;FMTTYPE=image/jpeg:https://d-fest.ru/wp-content/uploads/2026/01/photo-2025-04-23-18-17-48.jpg
END:VEVENT
BEGIN:VEVENT
DTSTART;TZID=UTC:20260423T100000
DTEND;TZID=UTC:20260423T203000
DTSTAMP:20260425T155511
CREATED:20260104T225336Z
LAST-MODIFIED:20260104T225336Z
UID:2606-1776938400-1776976200@d-fest.ru
SUMMARY:HomeFest КРАСНОДАР
DESCRIPTION:Региональные выставки помогают бизнесу находить новые рынки сбыта\, расширяя географию продаж и укрепляя позиции на локальных рынках.
URL:https://d-fest.ru/event/homefest-%d0%ba%d1%80%d0%b0%d1%81%d0%bd%d0%be%d0%b4%d0%b0%d1%80-2/
LOCATION:КРАСНОДАР
CATEGORIES:Выставка,Конференция
END:VEVENT
END:VCALENDAR