BEGIN:VCALENDAR
VERSION:2.0
PRODID:-//Практики. DesignSpaces - ECPv6.11.2.1//NONSGML v1.0//EN
CALSCALE:GREGORIAN
METHOD:PUBLISH
X-ORIGINAL-URL:https://d-fest.ru
X-WR-CALDESC:Мероприятия для Практики. DesignSpaces
REFRESH-INTERVAL;VALUE=DURATION:PT1H
X-Robots-Tag:noindex
X-PUBLISHED-TTL:PT1H
BEGIN:VTIMEZONE
TZID:UTC
BEGIN:STANDARD
TZOFFSETFROM:+0000
TZOFFSETTO:+0000
TZNAME:UTC
DTSTART:20260101T000000
END:STANDARD
END:VTIMEZONE
BEGIN:VEVENT
DTSTART;TZID=UTC:20260620T120000
DTEND;TZID=UTC:20260620T190000
DTSTAMP:20260425T183249
CREATED:20260105T091043Z
LAST-MODIFIED:20260105T091043Z
UID:2628-1781956800-1781982000@d-fest.ru
SUMMARY:День дизайнера Белые Ночи Санкт-Петербург
DESCRIPTION:Клуб комплектаторов — сообщество дизайнеров интерьера и поставщиков с девизом «экономим время для творчества».\nОснован в сентябре 2019 года.
URL:https://d-fest.ru/event/%d0%b4%d0%b5%d0%bd%d1%8c-%d0%b4%d0%b8%d0%b7%d0%b0%d0%b9%d0%bd%d0%b5%d1%80%d0%b0-%d0%b1%d0%b5%d0%bb%d1%8b%d0%b5-%d0%bd%d0%be%d1%87%d0%b8-%d1%81%d0%b0%d0%bd%d0%ba%d1%82-%d0%bf%d0%b5%d1%82%d0%b5%d1%80/
LOCATION:Отель Коринтия Невский Палас * Невский пр 57
CATEGORIES:Выставка,Конференция
END:VEVENT
END:VCALENDAR