BEGIN:VCALENDAR
VERSION:2.0
PRODID:-//Практики. DesignSpaces - ECPv6.11.2.1//NONSGML v1.0//EN
CALSCALE:GREGORIAN
METHOD:PUBLISH
X-WR-CALNAME:Практики. DesignSpaces
X-ORIGINAL-URL:https://d-fest.ru
X-WR-CALDESC:Мероприятия для Практики. DesignSpaces
REFRESH-INTERVAL;VALUE=DURATION:PT1H
X-Robots-Tag:noindex
X-PUBLISHED-TTL:PT1H
BEGIN:VTIMEZONE
TZID:UTC
BEGIN:STANDARD
TZOFFSETFROM:+0000
TZOFFSETTO:+0000
TZNAME:UTC
DTSTART:20250101T000000
END:STANDARD
END:VTIMEZONE
BEGIN:VEVENT
DTSTART;TZID=UTC:20251028T120000
DTEND;TZID=UTC:20251101T180000
DTSTAMP:20260425T211424
CREATED:20250910T145046Z
LAST-MODIFIED:20250910T145046Z
UID:2200-1761652800-1762020000@d-fest.ru
SUMMARY:IDEM LA DOLCE VITA  DEL DESIGN
DESCRIPTION:28 ОКТЯБРЯ – 1 НОЯБРЯ \nНеделя Итальянского дизайна в Москве \nКреативное пространство Новый Манеж \n30 ИТАЛЬЯНСКИХ БРЕНДОВ И 5 ЭКСПЕРТА ИНДУСТРИИ: УЗНАЙТЕ ВСЕ О КОНЦЕПЦИИ MADE IN ITALY И ИННОВАЦИЯХ В ДИЗАЙНЕ.  \nIDEM ОБЪЕДИНЯЕТ ВЕДУЩИХ ЭКСПЕРТОВ И ТАЛАНТЛИВЫХ МЕЖДУНАРОДНЫХ ДИЗАЙНЕРОВ В ДИАЛОГЕ О БУДУЩЕМ ИНДУСТРИИ. \n\n\nРегистрация на сайте
URL:https://d-fest.ru/event/idem-la-dolce-vita-del-design/
LOCATION:Новый Манеж\, Георгиевский пер.\,3\, Москва\, Russian Federation
CATEGORIES:Выставка
ATTACH;FMTTYPE=image/png:https://d-fest.ru/wp-content/uploads/2025/09/Снимок-экрана-2025-09-10-в-17.43.36.png
END:VEVENT
BEGIN:VEVENT
DTSTART;TZID=UTC:20251104T110000
DTEND;TZID=UTC:20251106T190000
DTSTAMP:20260425T211424
CREATED:20250522T082310Z
LAST-MODIFIED:20250522T082310Z
UID:1708-1762254000-1762455600@d-fest.ru
SUMMARY:фестиваль «Зодчество 2025»
DESCRIPTION:XXXIII Международный архитектурный фестиваль «Зодчество 2025» пройдет в ВК «Гостиный двор»\, в самом центре Москвы с 4 по 6 ноября. \n\n\nОрганизатором фестиваля выступает — Союз архитекторов России. \nФестиваль проводится при поддержке Правительства города Москвы\, Министерства строительства и ЖКХ РФ и Комитета по архитектуре и градостроительству города Москвы. \n  \nВ программу фестиваля входит \n\nКонкурсная программа направлена на аудиторию архитекторов\, дизайнеров\, искусствоведов\, строителей\, экспертов\, архитектурные бюро и мастерские\, проектные институты\, студентов профильных вузов и колледжей\, руководителей субъектов и муниципальных образований РФ:
URL:https://d-fest.ru/event/%d1%84%d0%b5%d1%81%d1%82%d0%b8%d0%b2%d0%b0%d0%bb%d1%8c-%d0%b7%d0%be%d0%b4%d1%87%d0%b5%d1%81%d1%82%d0%b2%d0%be-2025/
LOCATION:Гостиный двор\, Ильинка\, д.4\, Москва\, Russian Federation
CATEGORIES:Выставка
ATTACH;FMTTYPE=image/jpeg:https://d-fest.ru/wp-content/uploads/2025/05/b_212522760d3d2b98178d53e8eda77b2e.jpg
END:VEVENT
BEGIN:VEVENT
DTSTART;TZID=UTC:20251120T100000
DTEND;TZID=UTC:20251122T190000
DTSTAMP:20260425T211424
CREATED:20250522T090634Z
LAST-MODIFIED:20250522T090634Z
UID:1736-1763632800-1763838000@d-fest.ru
SUMMARY:Красивые дома 2025. Строительство. Архитектура. Интерьер
DESCRIPTION:20-22 НОЯБРЯ 2025\nВыставка «Красивые дома» — это отличная возможность представить новые проекты\, обменяться опытом и найти свежие решения. Успейте забронировать стенды на выгодных условиях и принять участие в событии! Для участников и посетителей мы снова подготовим насыщенную программу: профессиональные конкурсы\, мастер-классы\, трендовые экспозиции и встречи с ведущими экспертами.
URL:https://d-fest.ru/event/%d0%ba%d1%80%d0%b0%d1%81%d0%b8%d0%b2%d1%8b%d0%b5-%d0%b4%d0%be%d0%bc%d0%b0-2025-%d1%81%d1%82%d1%80%d0%be%d0%b8%d1%82%d0%b5%d0%bb%d1%8c%d1%81%d1%82%d0%b2%d0%be-%d0%b0%d1%80%d1%85%d0%b8%d1%82%d0%b5/
LOCATION:Крокус Экспо\, 65–66 км МКАД\, станция «Мякинино»\, Москва\, Russian Federation
CATEGORIES:Выставка
ATTACH;FMTTYPE=image/png:https://d-fest.ru/wp-content/uploads/2025/05/Снимок-экрана-2025-05-22-в-12.04.32.png
END:VEVENT
BEGIN:VEVENT
DTSTART;TZID=UTC:20251124T100000
DTEND;TZID=UTC:20251127T190000
DTSTAMP:20260425T211424
CREATED:20250522T091451Z
LAST-MODIFIED:20250522T091451Z
UID:1742-1763978400-1764270000@d-fest.ru
SUMMARY:МЕБЕЛЬ-2025
DESCRIPTION:36-я Международная выставка «Мебель\, фурнитура и обивочные материалы»\n24–27 ноября 2025\n\nМебель. Интерьер. Дизайн. Все лучшее на одной площадке! \n«МЕБЕЛЬ» – крупнейшая отраслевая выставка\, которая ежегодно становится главным событием мебельного рынка в России и Восточной Европе. Каждую осень в «Экспоцентре» собираются ведущие мировые бренды и производители\, дизайнеры и специалисты по интерьеру для демонстрации новых коллекций и лучших образцов мебельной моды\, эффективного делового общения и развития бизнеса. \nЗдесь представлен широкий выбор элитной и бюджетной мебели для спален\, столовых\, гостиных\, детских\, а также кухни от производителя\, диваны и кресла\, мебельная фурнитура\, отделочные материалы и разнообразные предметы интерьера.
URL:https://d-fest.ru/event/%d0%bc%d0%b5%d0%b1%d0%b5%d0%bb%d1%8c-2025/
LOCATION:Крокус Экспо\, 65–66 км МКАД\, станция «Мякинино»\, Москва\, Russian Federation
CATEGORIES:Выставка
ATTACH;FMTTYPE=image/png:https://d-fest.ru/wp-content/uploads/2025/05/expo2024.png
END:VEVENT
BEGIN:VEVENT
DTSTART;TZID=UTC:20251128T100000
DTEND;TZID=UTC:20251128T180000
DTSTAMP:20260425T211424
CREATED:20251015T102740Z
LAST-MODIFIED:20251015T102740Z
UID:2350-1764324000-1764352800@d-fest.ru
SUMMARY:ДЕНЬ РЕМОНТА В ДОМЕ МЕЧТЫ
DESCRIPTION:Приглашаем вас на тематическую выставку-вдохновение «Ремонт в доме мечты».\nМы создадим особую атмосферу\, чтобы вы могли полностью погрузиться в мир дизайна и современных технологий для дома. Это ваш шанс найти идеи\, которые помогут превратить вашу квартиру или дом в идеальное пространство\, отражающее ваш стиль и характер.\nМы будем говорить не просто о ремонте\, а о том\, как создать место\, в котором хочется жить.\nДавайте встретимся\, чтобы обменяться идеями\, найти надежных партнеров и помечтать о вашем будущем уюте вместе! \nМы рады видеть всех гостей\, однако количество бесплатных приглашений ограничено. Успейте зарегистрироваться на мероприятие\, чтобы гарантировать себе место. \n  \nЧТО НАС ЖДЕТ НА ПУТИ К МЕЧТЕ? \n  \nВЫСТАВКА: более 50 компаний. Каждая компания на выставке представит своё решение или продукт\, которые обязательно должны присутствовать в Доме мечты. \n  \nДЕЛОВАЯ ПРОГРАММА: известные дизайнеры и архитекторы поделятся своими лайфхаками\, как прийти к мечте кратчайшим путём. \n  \nМАСТЕР-КЛАССЫ и ПРАКТИКИ: каждый желающий сможет на специальных мастер-классах визуализировать свою мечту и тем самым сделать её более реальной. \n  \nДЛЯ ГОСТЕЙ: вся творческая и развлекательная программа будет построена на создании атмосферы безмятежности и уюта — изысканная живая музыка\, благородные напитки и творчество ради создания красивых предметов для Дома мечты своими руками.
URL:https://d-fest.ru/event/%d0%b4%d0%b5%d0%bd%d1%8c-%d1%80%d0%b5%d0%bc%d0%be%d0%bd%d1%82%d0%b0-%d0%b2-%d0%b4%d0%be%d0%bc%d0%b5-%d0%bc%d0%b5%d1%87%d1%82%d1%8b/
LOCATION:ПРОСТРАНСТВО ВЕСНА\, Спартаковский переулок 2с1\, подъезд №7\, Санкт-Петербург\, Russian Federation
CATEGORIES:Вечеринка,Выставка,Конференция
ATTACH;FMTTYPE=image/png:https://d-fest.ru/wp-content/uploads/2025/08/Снимок-экрана-2025-08-13-в-13.29.47.png
END:VEVENT
END:VCALENDAR