BEGIN:VCALENDAR
VERSION:2.0
PRODID:-//Практики. DesignSpaces - ECPv6.11.2.1//NONSGML v1.0//EN
CALSCALE:GREGORIAN
METHOD:PUBLISH
X-WR-CALNAME:Практики. DesignSpaces
X-ORIGINAL-URL:https://d-fest.ru
X-WR-CALDESC:Мероприятия для Практики. DesignSpaces
REFRESH-INTERVAL;VALUE=DURATION:PT1H
X-Robots-Tag:noindex
X-PUBLISHED-TTL:PT1H
BEGIN:VTIMEZONE
TZID:UTC
BEGIN:STANDARD
TZOFFSETFROM:+0000
TZOFFSETTO:+0000
TZNAME:UTC
DTSTART:20260101T000000
END:STANDARD
END:VTIMEZONE
BEGIN:VEVENT
DTSTART;TZID=UTC:20260304T100000
DTEND;TZID=UTC:20260306T170000
DTSTAMP:20260425T155309
CREATED:20260105T124029Z
LAST-MODIFIED:20260105T133128Z
UID:2686-1772618400-1772816400@d-fest.ru
SUMMARY:VII Российская строительная неделя
DESCRIPTION:«Российская строительная неделя» (РСН) – это крупное отраслевое мероприятие в сфере строительства\, архитектуры и недвижимости\, которое ежегодно проходит в Москве. Оно объединяет выставки\, конференции\, форумы и деловые встречи для профессионалов отрасли. \nРСН включает в себя: \n\n7-ю международную специализированную выставку строительных\, отделочных материалов и технологий RosBuild;\n27-ю международную выставку стеклопродукции\, технологий и оборудования для изготовления и обработки стекла «Мир стекла»\nФорум «Строим будущее России вместе»
URL:https://d-fest.ru/event/vii-%d1%80%d0%be%d1%81%d1%81%d0%b8%d0%b9%d1%81%d0%ba%d0%b0%d1%8f-%d1%81%d1%82%d1%80%d0%be%d0%b8%d1%82%d0%b5%d0%bb%d1%8c%d0%bd%d0%b0%d1%8f-%d0%bd%d0%b5%d0%b4%d0%b5%d0%bb%d1%8f/
LOCATION:Тимирязев Центр\, Верхняя аллея\, 8\, Москва\, Russian Federation
CATEGORIES:Выставка
ATTACH;FMTTYPE=image/png:https://d-fest.ru/wp-content/uploads/2026/01/dnig7exwjvisu67r1gm2vxpip6gvcla2.png
END:VEVENT
BEGIN:VEVENT
DTSTART;TZID=UTC:20260315T100000
DTEND;TZID=UTC:20260319T183000
DTSTAMP:20260425T155309
CREATED:20251008T153408Z
LAST-MODIFIED:20251008T153408Z
UID:2329-1773568800-1773945000@d-fest.ru
SUMMARY:International Famous Furniture Fair (Dongguan) 2026
DESCRIPTION:Одна из крупнейших международных выставок мебели в Китае. \nОна объединяет профессионалов отрасли\, производителей\, розничных торговцев\, дизайнеров\, импортеров и поставщиков. \n5 дней торговли и выставок для поддержания актуальности вашего бизнеса и перспектив.
URL:https://d-fest.ru/event/international-famous-furniture-fair-dongguan-2026/
CATEGORIES:Выставка
ATTACH;FMTTYPE=image/png:https://d-fest.ru/wp-content/uploads/2025/10/Снимок-экрана-2025-10-08-в-18.25.01.png
END:VEVENT
BEGIN:VEVENT
DTSTART;TZID=UTC:20260317T100000
DTEND;TZID=UTC:20260319T170000
DTSTAMP:20260425T155309
CREATED:20260104T151138Z
LAST-MODIFIED:20260104T151226Z
UID:2521-1773741600-1773939600@d-fest.ru
SUMMARY:HomeFest
DESCRIPTION:15-я Международная текстильно-интерьерная выставка HomeFest 2026 пройдет с 17 по 19 марта 2026 года в Москве. Событие традиционно собирает ведущих производителей и дистрибьюторов текстильной и интерьерной продукции\, дизайнеров\, архитекторов и представителей бизнеса со всей России и стран СНГ. \nЮбилейная выставка HomeFest станет центром презентаций новинок и актуальных трендов отрасли. В экспозиции будут представлены интерьерные ткани\, мебель\, карнизы\, ковры\, фурнитура\, краски\, домашний и outdoor-текстиль\, а также решения для безопасного (трудновоспламеняемого) текстиля. Отдельный раздел займут швейные производства\, демонстрирующие современные технологии пошива интерьерного текстиля. \nВ рамках проекта пройдет спецэкспозиция премиальных брендов Design+\, где будут представлены лучшие образцы мировой интерьерной моды. Традиционно хэдлайнером станет швейцарская марка Fischbacher 1819.
URL:https://d-fest.ru/event/homefest/
LOCATION:Main stage\, ул. Шарикоподшипниковская\, д. 13\, стр. 33\, Москва\, Russian Federation
CATEGORIES:Выставка
ATTACH;FMTTYPE=image/jpeg:https://d-fest.ru/wp-content/uploads/2026/01/poster_event_3120586.jpg
END:VEVENT
BEGIN:VEVENT
DTSTART;TZID=UTC:20260317T100000
DTEND;TZID=UTC:20260319T170000
DTSTAMP:20260425T155309
CREATED:20260105T122050Z
LAST-MODIFIED:20260105T122050Z
UID:2665-1773741600-1773939600@d-fest.ru
SUMMARY:ИНТЕРТКАНЬ 2026.ВЕСНА
DESCRIPTION:19-я общеотраслевая международная выставка текстильной и легкой промышленности \n\nОбщеотраслевая выставка текстильной и легкой промышленности «ИНТЕРТКАНЬ-2026.ВЕСНА» состоится 17-19 марта 2026 г. в Москве. \nВыставка проходит два раза в год на площади более 30 000 м2свою продукцию представляют более 500 ведущих отечественных и зарубежных компаний. \nЭто производители и поставщики тканей\, текстильных материалов\, трикотажных полотен\, комплектующих\, фурнитуры\, домашнего\, технического текстиля и нетканых материалов из России\, Узбекистана\, Беларуси\, Турции\, Китая\, Индии и других стран. \nЕжегодно выставку посещают более 30 000 профессионалов отрасли\, среди которых представители швейных компаний\, ателье\, торговых сетей\, гостиниц\, ресторанов\, дизайнеры.
URL:https://d-fest.ru/event/%d0%b8%d0%bd%d1%82%d0%b5%d1%80%d1%82%d0%ba%d0%b0%d0%bd%d1%8c-2026-%d0%b2%d0%b5%d1%81%d0%bd%d0%b0/
LOCATION:Крокус Экспо\, 65–66 км МКАД\, станция «Мякинино»\, Москва\, Russian Federation
CATEGORIES:Выставка
ATTACH;FMTTYPE=image/jpeg:https://d-fest.ru/wp-content/uploads/2026/01/99999999999999999.jpg
END:VEVENT
BEGIN:VEVENT
DTSTART;TZID=UTC:20260317T100000
DTEND;TZID=UTC:20260319T170000
DTSTAMP:20260425T155309
CREATED:20260105T122328Z
LAST-MODIFIED:20260105T122328Z
UID:2668-1773741600-1773939600@d-fest.ru
SUMMARY:HouseTech Expo
DESCRIPTION:Международная Выставка Цифровой и Бытовой Техники и Электроники для Дома \nГлавное Преимущество выставки HouseTech Expo\n— это площадка Экспоплекса HouseHold Expo. \nУникальное сочетание потоков посетителей разных выставок Экспоплекса открывает грандиозные возможности для вашего бизнеса и даёт участникам неповторимое конкурентное преимущество. \nЗдесь вы сможете представить свои товары и услуги гораздо более широкой (outreach) аудитории\, установить продуктивные деловые контакты и найти новых партнеров. \nHouseTech Expo — ведущая платформа\, где вы можете встретиться с ключевыми игроками рынка и увеличить свои продажи.
URL:https://d-fest.ru/event/housetech-expo/
LOCATION:Крокус Экспо\, 65–66 км МКАД\, станция «Мякинино»\, Москва\, Russian Federation
CATEGORIES:Выставка
END:VEVENT
BEGIN:VEVENT
DTSTART;TZID=UTC:20260317T100000
DTEND;TZID=UTC:20260319T170000
DTSTAMP:20260425T155309
CREATED:20260105T122617Z
LAST-MODIFIED:20260105T122617Z
UID:2671-1773741600-1773939600@d-fest.ru
SUMMARY:Outdoor Dacha
DESCRIPTION:13-я международная специализированная выставка товаров для дачи и загородного отдыха \nOutdoor Dacha\nведущая в России международная выставка товаров для загородной жизни\, дизайна сада\, цветов\, освещения и инструментов\, пикника в саду\, мебели для сада и HoReCa.\nПроходит одновременно с экспоплексом HouseHold Expo — крупнейшей в России промышленной В2В-выставкой товаров для дома.\nАссоциация торговых выставок и ярмарок Германии (AUMA) характеризует HouseHold Expo как наиболее эффективную экспозицию товаров для дома на территории России.
URL:https://d-fest.ru/event/outdoor-dacha/
CATEGORIES:Выставка
ATTACH;FMTTYPE=image/jpeg:https://d-fest.ru/wp-content/uploads/2026/01/4803cbf0-e93a-4502-9687-a578832c7a0b.jpg
END:VEVENT
BEGIN:VEVENT
DTSTART;TZID=UTC:20260317T100000
DTEND;TZID=UTC:20260319T170000
DTSTAMP:20260425T155309
CREATED:20260105T122851Z
LAST-MODIFIED:20260105T122851Z
UID:2674-1773741600-1773939600@d-fest.ru
SUMMARY:Stylish Home Objects & Tableware
DESCRIPTION:26-я МЕЖДУНАРОДНАЯ ПРОМЫШЛЕННАЯ ВЫСТАВКА ПРЕДМЕТОВ ИНТЕРЬЕРА\, ДЕКОРА\, ОСВЕЩЕНИЯ ДЛЯ ДОМА И ТЕКСТИЛЯ \n\n\n\n17-19 марта\n\nStylish Home. Objects & Tableware \nКлючевое мероприятие для профессионалов индустрии предметов интерьера и мебели\, текстиля и аксессуаров\, освещения\, посуды и декора стола\, подарков для дома. \nПроходит в рамках экспоплекса HouseHold Expo — крупнейшей в России промышленной В2В выставки товаров для дома
URL:https://d-fest.ru/event/stylish-home-objects-tableware/
LOCATION:Крокус Экспо\, 65–66 км МКАД\, станция «Мякинино»\, Москва\, Russian Federation
CATEGORIES:Выставка
ATTACH;FMTTYPE=image/jpeg:https://d-fest.ru/wp-content/uploads/2026/01/a7bd11d019bf5d47cdaed245e577dc9d.jpg
END:VEVENT
BEGIN:VEVENT
DTSTART;TZID=UTC:20260318T100000
DTEND;TZID=UTC:20260321T170000
DTSTAMP:20260425T155309
CREATED:20260104T141434Z
LAST-MODIFIED:20260104T141756Z
UID:2493-1773828000-1774112400@d-fest.ru
SUMMARY:57-я Китайская международная мебельная выставка (Гуанчжоу)
DESCRIPTION:ВЫСТАВКА МЕБЕЛИ ДЛЯ ДОМА \nКитайская международная мебельная ярмарка (известная как «CIFF»)\, основанная в 1998 году\, успешно проводится на протяжении 55 сессий. С сентября 2015 года она проводится дважды в год — в марте в Гуанчжоу и в сентябре в Шанхае\, двух самых оживленных торговых городах Китая. В мае 2024 года в Тяньцзине состоялась выставка CIFF (Тяньцзинь). За прошедшие годы CIFF зарекомендовала себя как крупнейшая в мире выставка товаров для дома со всей отраслевой цепочкой\, играющая важную роль в мировой мебельной индустрии. Выставка CIFF Guangzhou\, позиционируемая как «Тенденции дизайна\, глобальная торговля и полная цепочка поставок»\, проводится ежегодно 18-21 и 28-31 марта в Пачжоу\, Гуанчжоу. На выставочной площади CIFF в Гуанчжоу площадью 850 000 квадратных метров представлено более 4900 брендов из Китая и из-за рубежа\, включая мебель для дома\, домашний декор и домашний текстиль\, мебель для улицы и отдыха\, офисную мебель\, коммерческую мебель\, мебель для гостиниц\, а также мебельное оборудование и сырье. Мероприятие привлекает более 380 000 профессиональных посетителей из более чем 200 стран мира.
URL:https://d-fest.ru/event/57-%d1%8f-%d0%ba%d0%b8%d1%82%d0%b0%d0%b9%d1%81%d0%ba%d0%b0%d1%8f-%d0%bc%d0%b5%d0%b6%d0%b4%d1%83%d0%bd%d0%b0%d1%80%d0%be%d0%b4%d0%bd%d0%b0%d1%8f-%d0%bc%d0%b5%d0%b1%d0%b5%d0%bb%d1%8c%d0%bd%d0%b0%d1%8f/
LOCATION:PWTC EXPO\, Canton Fair Tower B\, 669 Fengpu Zhong Road\, Haizhu District\, Guangzhou\, 510335\, China
CATEGORIES:Выставка
ATTACH;FMTTYPE=image/jpeg:https://d-fest.ru/wp-content/uploads/2026/01/57th_China_International_Furniture_Fair__Guangzhou__Unveils_New_Theme__CONNECT.jpg
END:VEVENT
BEGIN:VEVENT
DTSTART;TZID=UTC:20260320T000000
DTEND;TZID=UTC:20260320T000000
DTSTAMP:20260425T155309
CREATED:20260104T231219Z
LAST-MODIFIED:20260104T231219Z
UID:2613-1773964800-1773964800@d-fest.ru
SUMMARY:День дизайнера Нижний Новгород
DESCRIPTION:Клуб комплектаторов — сообщество дизайнеров интерьера и поставщиков с девизом «экономим время для творчества».\nОснован в сентябре 2019 года.
URL:https://d-fest.ru/event/%d0%b4%d0%b5%d0%bd%d1%8c-%d0%b4%d0%b8%d0%b7%d0%b0%d0%b9%d0%bd%d0%b5%d1%80%d0%b0-%d0%bd%d0%b8%d0%b6%d0%bd%d0%b8%d0%b9-%d0%bd%d0%be%d0%b2%d0%b3%d0%be%d1%80%d0%be%d0%b4/
CATEGORIES:Выставка,Конференция
END:VEVENT
BEGIN:VEVENT
DTSTART;TZID=UTC:20260328T100000
DTEND;TZID=UTC:20260331T170000
DTSTAMP:20260425T155309
CREATED:20260104T141827Z
LAST-MODIFIED:20260104T141827Z
UID:2497-1774692000-1774976400@d-fest.ru
SUMMARY:57-я Китайская международная мебельная выставка (Гуанчжоу)
DESCRIPTION:Мебель для офиса. Материалы и оборудование. \nКитайская международная мебельная ярмарка (известная как «CIFF»)\, основанная в 1998 году\, успешно проводится на протяжении 55 сессий. С сентября 2015 года она проводится дважды в год — в марте в Гуанчжоу и в сентябре в Шанхае\, двух самых оживленных торговых городах Китая. В мае 2024 года в Тяньцзине состоялась выставка CIFF (Тяньцзинь). За прошедшие годы CIFF зарекомендовала себя как крупнейшая в мире выставка товаров для дома со всей отраслевой цепочкой\, играющая важную роль в мировой мебельной индустрии. Выставка CIFF Guangzhou\, позиционируемая как «Тенденции дизайна\, глобальная торговля и полная цепочка поставок»\, проводится ежегодно 18-21 и 28-31 марта в Пачжоу\, Гуанчжоу. На выставочной площади CIFF в Гуанчжоу площадью 850 000 квадратных метров представлено более 4900 брендов из Китая и из-за рубежа\, включая мебель для дома\, домашний декор и домашний текстиль\, мебель для улицы и отдыха\, офисную мебель\, коммерческую мебель\, мебель для гостиниц\, а также мебельное оборудование и сырье. Мероприятие привлекает более 380 000 профессиональных посетителей из более чем 200 стран мира.
URL:https://d-fest.ru/event/57-%d1%8f-%d0%ba%d0%b8%d1%82%d0%b0%d0%b9%d1%81%d0%ba%d0%b0%d1%8f-%d0%bc%d0%b5%d0%b6%d0%b4%d1%83%d0%bd%d0%b0%d1%80%d0%be%d0%b4%d0%bd%d0%b0%d1%8f-%d0%bc%d0%b5%d0%b1%d0%b5%d0%bb%d1%8c%d0%bd%d0%b0%d1%8f-2/
LOCATION:PWTC EXPO\, Canton Fair Tower B\, 669 Fengpu Zhong Road\, Haizhu District\, Guangzhou\, 510335\, China
CATEGORIES:Выставка
ATTACH;FMTTYPE=image/jpeg:https://d-fest.ru/wp-content/uploads/2026/01/57th_China_International_Furniture_Fair__Guangzhou__Unveils_New_Theme__CONNECT.jpg
END:VEVENT
BEGIN:VEVENT
DTSTART;TZID=UTC:20260331T100000
DTEND;TZID=UTC:20260403T170000
DTSTAMP:20260425T155309
CREATED:20260104T144535Z
LAST-MODIFIED:20260104T144535Z
UID:2511-1774951200-1775235600@d-fest.ru
SUMMARY:H+R Design Expo Shanghai 2026
DESCRIPTION:Выставка H+R Design Expo Shanghai 2026 проводится c 31 марта по 3 апреля в городе Шанхай\, Китай. \nОсновные тематические направления мероприятия: Мебель\, Гостиницы\, Предметы декора\, Дизайн интерьера. \nС перечнем экспонатов и разделов выставки можно ознакомиться в блоке «Дополнительная информация». Деловая программа обычно публикуется ближе к дате начала события.
URL:https://d-fest.ru/event/hr-design-expo-shanghai-2026-2/
CATEGORIES:Выставка
END:VEVENT
BEGIN:VEVENT
DTSTART;TZID=UTC:20260331T100000
DTEND;TZID=UTC:20260403T180000
DTSTAMP:20260425T155309
CREATED:20251008T110937Z
LAST-MODIFIED:20260104T145127Z
UID:2311-1774951200-1775239200@d-fest.ru
SUMMARY:MosBuild 2026
DESCRIPTION:Крупнейшая международная строительно-интерьерная выставка в России\, СНГ и Восточной Европе\n1 000+ ведущих компаний из 20 стран мира\nВ выставке MosBuild принимают участие производители и поставщики строительных и отделочных материалов\, сантехники\, светотехники\, оконных технологий\, мебели и предметов интерьера из России и других стран мира. Участники представляют материалы и решения для каждого этапа возведения зданий: строительства\, отделки\, ремонта и декорирования.
URL:https://d-fest.ru/event/mosbuild-2026/
LOCATION:Крокус Экспо\, 65–66 км МКАД\, станция «Мякинино»\, Москва\, Russian Federation
CATEGORIES:Выставка
ATTACH;FMTTYPE=image/jpeg:https://d-fest.ru/wp-content/uploads/2025/10/392_A5807_304f3028e9.jpg
END:VEVENT
END:VCALENDAR