BEGIN:VCALENDAR
VERSION:2.0
PRODID:-//Практики. DesignSpaces - ECPv6.11.2.1//NONSGML v1.0//EN
CALSCALE:GREGORIAN
METHOD:PUBLISH
X-WR-CALNAME:Практики. DesignSpaces
X-ORIGINAL-URL:https://d-fest.ru
X-WR-CALDESC:Мероприятия для Практики. DesignSpaces
REFRESH-INTERVAL;VALUE=DURATION:PT1H
X-Robots-Tag:noindex
X-PUBLISHED-TTL:PT1H
BEGIN:VTIMEZONE
TZID:UTC
BEGIN:STANDARD
TZOFFSETFROM:+0000
TZOFFSETTO:+0000
TZNAME:UTC
DTSTART:20260101T000000
END:STANDARD
END:VTIMEZONE
BEGIN:VEVENT
DTSTART;TZID=UTC:20261003T120000
DTEND;TZID=UTC:20261003T170000
DTSTAMP:20260425T221610
CREATED:20260105T113554Z
LAST-MODIFIED:20260105T113554Z
UID:2656-1791028800-1791046800@d-fest.ru
SUMMARY:День дизайнера Сочи
DESCRIPTION:День дизайнера Сочи\n3 октября\nОтель Гранд Карат\nул.Орджоникидзе 17\nКлуб комплектаторов — сообщество дизайнеров интерьера и поставщиков с девизом «экономим время для творчества».\nОснован в сентябре 2019 года.
URL:https://d-fest.ru/event/%d0%b4%d0%b5%d0%bd%d1%8c-%d0%b4%d0%b8%d0%b7%d0%b0%d0%b9%d0%bd%d0%b5%d1%80%d0%b0-%d1%81%d0%be%d1%87%d0%b8-2/
LOCATION:Сочи
CATEGORIES:Выставка,Конференция
END:VEVENT
BEGIN:VEVENT
DTSTART;TZID=UTC:20261007T100000
DTEND;TZID=UTC:20261009T180000
DTSTAMP:20260425T221610
CREATED:20260104T215042Z
LAST-MODIFIED:20260104T215042Z
UID:2569-1791367200-1791568800@d-fest.ru
SUMMARY:РУССКИЙ ДОМ 2026
DESCRIPTION:Русский дом. Креативные регионы 2026 — международная выставка дизайна интерьеров и технологий \nВыставка Русский дом. Креативные регионы 2026 проводится c 7 по 9 октября в городе Москва\, Россия. \nОсновные тематические направления мероприятия: Интерьерный дизайн\, Дизайн\, Декор\, Освещение. \n\n\n\n\nВЫСТАВКА «РУССКИЙ ДОМ. КРЕАТИВНЫЕ РЕГИОНЫ» \nЭто международная выставка дизайна интерьеров и технологий\, направленная на воссоединение с историческими и культурными корнями через современные интерьерные решения. \nНАША МИССИЯ:\nМиссия выставки «Русский Дом. Креативные регионы» — представить современные достижения индустрии дизайна\, искусства и технологий\, демонстрируя их связь с богатым историческим и культурным наследием России\, и способствовать укреплению международного сотрудничества в этих сферах
URL:https://d-fest.ru/event/%d1%80%d1%83%d1%81%d1%81%d0%ba%d0%b8%d0%b9-%d0%b4%d0%be%d0%bc-2026/
LOCATION:Гостиный двор\, Ильинка\, д.4\, Москва\, Russian Federation
CATEGORIES:Выставка
ATTACH;FMTTYPE=image/webp:https://d-fest.ru/wp-content/uploads/2026/01/glavnaya.1536x1152.webp
END:VEVENT
BEGIN:VEVENT
DTSTART;TZID=UTC:20261013T100000
DTEND;TZID=UTC:20261013T203000
DTSTAMP:20260425T221610
CREATED:20260104T210329Z
LAST-MODIFIED:20260104T210329Z
UID:2550-1791885600-1791923400@d-fest.ru
SUMMARY:HomeFest УФА
DESCRIPTION:Региональные выставки помогают бизнесу находить новые рынки сбыта\, расширяя географию продаж и укрепляя позиции на локальных рынках.
URL:https://d-fest.ru/event/homefest-%d1%83%d1%84%d0%b0/
LOCATION:УФА
CATEGORIES:Выставка,Конференция
END:VEVENT
BEGIN:VEVENT
DTSTART;TZID=UTC:20261026T080000
DTEND;TZID=UTC:20261029T170000
DTSTAMP:20260425T221610
CREATED:20260104T224055Z
LAST-MODIFIED:20260104T224055Z
UID:2596-1793001600-1793293200@d-fest.ru
SUMMARY:ПИР Экспо
DESCRIPTION:ПИР Экспо — крупнейшее профессиональное мероприятие для индустрии HoReCa в России — в 2026 году пройдёт в 29-й раз.\nЕжегодная консолидированная платформа\, объединяющая ведущих производителей и поставщиков продукции\, решений и услуг для сектора гостеприимства с бизнесом индустрии гостеприимства. \nРЕСТОРАН. КОФЕ. ОТЕЛЬ \nПИР Экспо — это: \n\nДоступ к брендам\, продуктам и инновациям: масштабная экспозиция представляет как эффективные зарекомендовавшие себя бизнес-решения\, так и новые разработки для ресторанов\, отелей и кофейного бизнеса.\nСтратегическая экспертиза: большая деловая программа аккумулирует знания лидеров рынка\, предлагая глубокий анализ актуальных бизнес-вызовов и путей их преодоления.\nЭффективный нетворкинг: площадка традиционно способствует установлению профессиональных контактов\, обмену опытом между ключевыми игроками отрасли и заключению контрактов.\n\nПИР Экспо вот уже почти 30 лет сохраняет статус обязательного к посещению и участию события для профессионалов индустрии.
URL:https://d-fest.ru/event/%d0%bf%d0%b8%d1%80-%d1%8d%d0%ba%d1%81%d0%bf%d0%be/
LOCATION:Крокус Экспо\, 65–66 км МКАД\, станция «Мякинино»\, Москва\, Russian Federation
CATEGORIES:Выставка
ATTACH;FMTTYPE=image/webp:https://d-fest.ru/wp-content/uploads/2026/01/mezhdunarodnaya-vystavka-pir-ekspo-2023-glavnyj-smotr-dostizhenij-restorannogo-i-gostinichnogo-biznesa_51927_8_1000x667.webp
END:VEVENT
BEGIN:VEVENT
DTSTART;TZID=UTC:20261027T100000
DTEND;TZID=UTC:20261030T170000
DTSTAMP:20260425T221610
CREATED:20260105T123544Z
LAST-MODIFIED:20260105T123544Z
UID:2680-1793095200-1793379600@d-fest.ru
SUMMARY:INTERLIGHT SMART CITY & HOME
DESCRIPTION:Международная выставка освещения\, электротехники и системных решений для умного города и дома. \nЛидирующий международный проект\, объединяющий профессионалов в области освещения\, автоматизации зданий\, умного города\, дома и систем безопасности со всего мира. На протяжении 30 лет существования выставка Interlight | Smart City & Home прошла долгий путь и стала точкой сбора профессионалов из разных сфер.
URL:https://d-fest.ru/event/interlight-smart-city-home-2/
LOCATION:Крокус Экспо\, 65–66 км МКАД\, станция «Мякинино»\, Москва\, Russian Federation
CATEGORIES:Выставка
ATTACH;FMTTYPE=image/jpeg:https://d-fest.ru/wp-content/uploads/2026/01/dyxrir2bvwak2c6kohz0z99olmrxkv8t.jpg
END:VEVENT
END:VCALENDAR