BEGIN:VCALENDAR
VERSION:2.0
PRODID:-//Практики. DesignSpaces - ECPv6.11.2.1//NONSGML v1.0//EN
CALSCALE:GREGORIAN
METHOD:PUBLISH
X-WR-CALNAME:Практики. DesignSpaces
X-ORIGINAL-URL:https://d-fest.ru
X-WR-CALDESC:Мероприятия для Практики. DesignSpaces
REFRESH-INTERVAL;VALUE=DURATION:PT1H
X-Robots-Tag:noindex
X-PUBLISHED-TTL:PT1H
BEGIN:VTIMEZONE
TZID:UTC
BEGIN:STANDARD
TZOFFSETFROM:+0000
TZOFFSETTO:+0000
TZNAME:UTC
DTSTART:20250101T000000
END:STANDARD
END:VTIMEZONE
BEGIN:VEVENT
DTSTART;TZID=UTC:20250529T120000
DTEND;TZID=UTC:20250529T180000
DTSTAMP:20260426T023924
CREATED:20250522T080917Z
LAST-MODIFIED:20250522T080917Z
UID:1699-1748520000-1748541600@d-fest.ru
SUMMARY:Стартуем лето вместе. Крым
DESCRIPTION:АНО «Мастерская гостеприимства» и Общенациональный союз индустрии гостеприимства при поддержке региональных органов власти проводят отраслевую конференцию для турбизнеса Северного Кавказа\, Крыма и Краснодарского края перед запуском летнего сезона 2025. Партнером в проведении мероприятия выступает Международная академия архитектуры.
URL:https://d-fest.ru/event/%d1%81%d1%82%d0%b0%d1%80%d1%82%d1%83%d0%b5%d0%bc-%d0%bb%d0%b5%d1%82%d0%be-%d0%b2%d0%bc%d0%b5%d1%81%d1%82%d0%b5-%d0%ba%d1%80%d1%8b%d0%bc/
LOCATION:RIVIERA SUNRISE RESORT & SPA 5*\, ул. Ленина 2\, Алушта\, Крым\, Russian Federation
CATEGORIES:Конференция
ATTACH;FMTTYPE=image/webp:https://d-fest.ru/wp-content/uploads/2025/05/parrrrrk1-67618571615d3.webp
ORGANIZER;CN="AG":MAILTO:info@d-fest.ru
END:VEVENT
BEGIN:VEVENT
DTSTART;TZID=UTC:20250527T120000
DTEND;TZID=UTC:20250527T180000
DTSTAMP:20260426T023924
CREATED:20250522T080544Z
LAST-MODIFIED:20250522T080544Z
UID:1694-1748347200-1748368800@d-fest.ru
SUMMARY:Стартуем лето вместе. Мин.Воды
DESCRIPTION:АНО «Мастерская гостеприимства» и Общенациональный союз индустрии гостеприимства при поддержке региональных органов власти проводят отраслевую конференцию для турбизнеса Северного Кавказа\, Крыма и Краснодарского края перед запуском летнего сезона 2025. Партнером в проведении мероприятия выступает Международная академия архитектуры.
URL:https://d-fest.ru/event/%d1%81%d1%82%d0%b0%d1%80%d1%82%d1%83%d0%b5%d0%bc-%d0%bb%d0%b5%d1%82%d0%be-%d0%b2%d0%bc%d0%b5%d1%81%d1%82%d0%b5-%d0%bc%d0%b8%d0%bd-%d0%b2%d0%be%d0%b4%d1%8b/
LOCATION:ГОСТИНИЦА «МАСК»\, Георгиевское шоссе\, 1-ый км\, Пятигорск\, Russian Federation
CATEGORIES:Конференция
ATTACH;FMTTYPE=image/jpeg:https://d-fest.ru/wp-content/uploads/2025/05/1711032751294395_qCbPAlHz.jpg
ORGANIZER;CN="AG":MAILTO:info@d-fest.ru
END:VEVENT
END:VCALENDAR