BEGIN:VCALENDAR
VERSION:2.0
PRODID:-//Практики. DesignSpaces - ECPv6.11.2.1//NONSGML v1.0//EN
CALSCALE:GREGORIAN
METHOD:PUBLISH
X-WR-CALNAME:Практики. DesignSpaces
X-ORIGINAL-URL:https://d-fest.ru
X-WR-CALDESC:Мероприятия для Практики. DesignSpaces
REFRESH-INTERVAL;VALUE=DURATION:PT1H
X-Robots-Tag:noindex
X-PUBLISHED-TTL:PT1H
BEGIN:VTIMEZONE
TZID:UTC
BEGIN:STANDARD
TZOFFSETFROM:+0000
TZOFFSETTO:+0000
TZNAME:UTC
DTSTART:20250101T000000
END:STANDARD
END:VTIMEZONE
BEGIN:VEVENT
DTSTART;TZID=UTC:20251003T120000
DTEND;TZID=UTC:20251003T203000
DTSTAMP:20260426T023254
CREATED:20250912T141704Z
LAST-MODIFIED:20250912T141704Z
UID:2229-1759492800-1759523400@d-fest.ru
SUMMARY:Конференция NOFER RUS GROUP 2025
DESCRIPTION:ПРОГРАММА КОНФЕРЕНЦИИ \n12:00 – 12:40 ПЕРСПЕКТИВЫ НЕЙРОДИЗАЙНА\nРасскажем о наших опытах и наработках\nИван Копылов\n\n12:40 – 12:55 ПРЕЗЕНТАЦИЯ HYDROSMART\nТоповый продукт собственной разработки\nBy NOFER RUS \n13:20 – 14:00 РЕМОНТ\, ЖИЗНЬ\, БЛОГИНГ\nПро ремонт\, жизнь и блогинг\nКирилл Аксенов \n14:35 – 14:50 ЗЕЛЕНАЯ ИНИЦИАТИВА\nПокажем\, как можно помочь экологии мира \n14:50 – 15:50 КВАРТИРА ОТ ШЕФА\nСекреты дизайна интерьера от профессионала сферы\nНаталья Преображенская \n16:10 – 17:10 ТЫ ЕДЕШЬ В БАРСЕЛОНУ\nПодведем итоги годового конкурса — кто же все таки поедет в Испанию\nКонкурс от ramonsoler. \n17:10 – 17:55 БИЗНЕС ПРЕЗЕНТАЦИЯ\nИнтересно расскажем о том\, как прошел год\nБудет интересно \n18:10 – 19:40\nВЕСЕЛЫЕ СТАРТЫ\nДетская игра с теле-звездой\nСекретный гость \nМосква МЦК «ЗИЛ»\nLOFT 4\, 2-й Кожуховский пр.\, 29\, корп. 6\,\nМЦК «ЗИЛ»
URL:https://d-fest.ru/event/%d0%ba%d0%be%d0%bd%d1%84%d0%b5%d1%80%d0%b5%d0%bd%d1%86%d0%b8%d1%8f-nofer-rus-group-2025/
LOCATION:МЦК «ЗИЛ»\, 2-й Кожуховский пр.\, 29\, корп. 6\, Москва\, Russian Federation
CATEGORIES:Конференция
ATTACH;FMTTYPE=image/png:https://d-fest.ru/wp-content/uploads/2025/09/Снимок-экрана-2025-09-12-в-17.16.19.png
END:VEVENT
END:VCALENDAR