BEGIN:VCALENDAR
VERSION:2.0
PRODID:-//Практики. DesignSpaces - ECPv6.11.2.1//NONSGML v1.0//EN
CALSCALE:GREGORIAN
METHOD:PUBLISH
X-WR-CALNAME:Практики. DesignSpaces
X-ORIGINAL-URL:https://d-fest.ru
X-WR-CALDESC:Мероприятия для Практики. DesignSpaces
REFRESH-INTERVAL;VALUE=DURATION:PT1H
X-Robots-Tag:noindex
X-PUBLISHED-TTL:PT1H
BEGIN:VTIMEZONE
TZID:UTC
BEGIN:STANDARD
TZOFFSETFROM:+0000
TZOFFSETTO:+0000
TZNAME:UTC
DTSTART:20250101T000000
END:STANDARD
END:VTIMEZONE
BEGIN:VEVENT
DTSTART;TZID=UTC:20251024T110000
DTEND;TZID=UTC:20251025T200000
DTSTAMP:20260426T023255
CREATED:20251015T105701Z
LAST-MODIFIED:20251015T105701Z
UID:2355-1761303600-1761422400@d-fest.ru
SUMMARY:Санкт-Петербург. Дизайн-Конференция 2025 "Кейсы"
DESCRIPTION:Двухдневная конференция\, посвященная актуальным вопросам в дизайне\, бизнесе\, развитии\, комплектации и авторском надзоре. Первый день — конференц-программа на трех площадках\, второй день — выездная практика.
URL:https://d-fest.ru/event/%d1%81%d0%b0%d0%bd%d0%ba%d1%82-%d0%bf%d0%b5%d1%82%d0%b5%d1%80%d0%b1%d1%83%d1%80%d0%b3-%d0%b4%d0%b8%d0%b7%d0%b0%d0%b9%d0%bd-%d0%ba%d0%be%d0%bd%d1%84%d0%b5%d1%80%d0%b5%d0%bd%d1%86%d0%b8%d1%8f-2025/
LOCATION:Казанская ул.\, 7\, Санкт-Петербург\, Казанская ул.\, 7\, Казанская ул.\, 7
CATEGORIES:Конференция
ATTACH;FMTTYPE=image/png:https://d-fest.ru/wp-content/uploads/2025/10/Снимок-экрана-2025-10-15-в-13.56.20.png
END:VEVENT
END:VCALENDAR