BEGIN:VCALENDAR
VERSION:2.0
PRODID:-//Практики. DesignSpaces - ECPv6.11.2.1//NONSGML v1.0//EN
CALSCALE:GREGORIAN
METHOD:PUBLISH
X-WR-CALNAME:Практики. DesignSpaces
X-ORIGINAL-URL:https://d-fest.ru
X-WR-CALDESC:Мероприятия для Практики. DesignSpaces
REFRESH-INTERVAL;VALUE=DURATION:PT1H
X-Robots-Tag:noindex
X-PUBLISHED-TTL:PT1H
BEGIN:VTIMEZONE
TZID:UTC
BEGIN:STANDARD
TZOFFSETFROM:+0000
TZOFFSETTO:+0000
TZNAME:UTC
DTSTART:20260101T000000
END:STANDARD
END:VTIMEZONE
BEGIN:VEVENT
DTSTART;TZID=UTC:20260215T120000
DTEND;TZID=UTC:20260215T180000
DTSTAMP:20260425T210953
CREATED:20260104T230730Z
LAST-MODIFIED:20260104T230730Z
UID:2608-1771156800-1771178400@d-fest.ru
SUMMARY:День Новосела
DESCRIPTION:Итак – мечта сбылась: вы стали обладателем своей квартиры или дома! Что дальше? – а дальше ремонт. Кто-то улыбнется и начнет творить; а у кого-то сразу испортится настроение\, ведь ремонт – это всегда не просто. \n  \nПриглашаем посетить День новосела\, который проводит ClubComplect – и все вопросы по ремонту и дизайну вашей квартиры\, дома\, офиса будут решены: \n  \n\nЛучшие технические решения\nДизайнерские проекты\nПоставщики материалов и любого оснащения и декора\nОпыт признанных мастеров и новаторские разработки\n\n  \nНа одной площадке – системы умный дом и самый изысканный декор; лучшие образцы европейской сантехники и интерьерная живопись; консультации технических специалистов и разработка индивидуального проекта от топовых московских дизайнеров.
URL:https://d-fest.ru/event/%d0%b4%d0%b5%d0%bd%d1%8c-%d0%bd%d0%be%d0%b2%d0%be%d1%81%d0%b5%d0%bb%d0%b0/
LOCATION:ПРОСТРАНСТВО «ВЕСНА»\, СПАРТАКОВСКИЙ ПЕР.\, Д.2\, СТР1\, Москва\, Russian Federation
CATEGORIES:Выставка,Конференция
ATTACH;FMTTYPE=image/png:https://d-fest.ru/wp-content/uploads/2026/01/Снимок-экрана-2026-01-05-в-02.05.43-1.png
END:VEVENT
END:VCALENDAR