BEGIN:VCALENDAR
VERSION:2.0
PRODID:-//Практики. DesignSpaces - ECPv6.11.2.1//NONSGML v1.0//EN
CALSCALE:GREGORIAN
METHOD:PUBLISH
X-WR-CALNAME:Практики. DesignSpaces
X-ORIGINAL-URL:https://d-fest.ru
X-WR-CALDESC:Мероприятия для Практики. DesignSpaces
REFRESH-INTERVAL;VALUE=DURATION:PT1H
X-Robots-Tag:noindex
X-PUBLISHED-TTL:PT1H
BEGIN:VTIMEZONE
TZID:UTC
BEGIN:STANDARD
TZOFFSETFROM:+0000
TZOFFSETTO:+0000
TZNAME:UTC
DTSTART:20260101T000000
END:STANDARD
END:VTIMEZONE
BEGIN:VEVENT
DTSTART;TZID=UTC:20260225T100000
DTEND;TZID=UTC:20260226T180000
DTSTAMP:20260425T195146
CREATED:20260117T070045Z
LAST-MODIFIED:20260117T070045Z
UID:2713-1772013600-1772128800@d-fest.ru
SUMMARY:СТРОЙ ФЕСТ
DESCRIPTION:Строительная выставка СТРОЙ ФЕСТ 2026 в Казани\nКазань 2026. 25—26 февраля. Мультиформатная площадка по развитию строительной отрасли приволжского региона россии.
URL:https://d-fest.ru/event/%d1%81%d1%82%d1%80%d0%be%d0%b9-%d1%84%d0%b5%d1%81%d1%82/
LOCATION:КАЗАНСКИЙ ИППОДРОМ\, АЛЬБЕРТА КАМАЛЕЕВА 27/1\, Казань\, Russian Federation
CATEGORIES:Выставка,Конференция
ATTACH;FMTTYPE=image/jpeg:https://d-fest.ru/wp-content/uploads/2026/01/img_2069-scaled.jpg
END:VEVENT
END:VCALENDAR