BEGIN:VCALENDAR
VERSION:2.0
PRODID:-//Практики. DesignSpaces - ECPv6.11.2.1//NONSGML v1.0//EN
CALSCALE:GREGORIAN
METHOD:PUBLISH
X-WR-CALNAME:Практики. DesignSpaces
X-ORIGINAL-URL:https://d-fest.ru
X-WR-CALDESC:Мероприятия для Практики. DesignSpaces
REFRESH-INTERVAL;VALUE=DURATION:PT1H
X-Robots-Tag:noindex
X-PUBLISHED-TTL:PT1H
BEGIN:VTIMEZONE
TZID:UTC
BEGIN:STANDARD
TZOFFSETFROM:+0000
TZOFFSETTO:+0000
TZNAME:UTC
DTSTART:20260101T000000
END:STANDARD
END:VTIMEZONE
BEGIN:VEVENT
DTSTART;TZID=UTC:20260517T100000
DTEND;TZID=UTC:20260519T190000
DTSTAMP:20260425T195144
CREATED:20260104T134336Z
LAST-MODIFIED:20260104T134336Z
UID:2473-1779012000-1779217200@d-fest.ru
SUMMARY:Кавказский инвестиционный форум
DESCRIPTION:17-19 мая\, Минеральные Воды\nМВЦ «МинводыЭкспо»\nКавказский инвестиционный форум – ключевая площадка для демонстрации перспективных инвестиционных проектов\, презентации достижений регионов Российской Федерации.\nУчастие в Форуме предоставляет возможность не только получить доступ к новым инвестиционным потокам\, но и заключить партнерские соглашения с лидерами отраслей. Вопросы\, обсуждаемые на КИФ\, становятся основой для будущих бизнес-тенденций Кавказа и России в целом.
URL:https://d-fest.ru/event/%d0%ba%d0%b0%d0%b2%d0%ba%d0%b0%d0%b7%d1%81%d0%ba%d0%b8%d0%b9-%d0%b8%d0%bd%d0%b2%d0%b5%d1%81%d1%82%d0%b8%d1%86%d0%b8%d0%be%d0%bd%d0%bd%d1%8b%d0%b9-%d1%84%d0%be%d1%80%d1%83%d0%bc/
LOCATION:МВЦ «МинводыЭкспо»\, ул. Автомобильная\, 31\, Ставропольский край\, Минераловодский городской округ\, хутор Красный Пахарь\, Russian Federation
CATEGORIES:Конференция
ATTACH;FMTTYPE=image/jpeg:https://d-fest.ru/wp-content/uploads/2026/01/AAV_3923-scaled.jpg
ORGANIZER;CN="%D0%A4%D0%BE%D0%BD%D0%B4 %D0%A0%D0%BE%D1%81%D0%BA%D0%BE%D0%BD%D0%B3%D1%80%D0%B5%D1%81%D1%81":MAILTO:info@roscongress.org
END:VEVENT
END:VCALENDAR