BEGIN:VCALENDAR
VERSION:2.0
PRODID:-//Практики. DesignSpaces - ECPv6.11.2.1//NONSGML v1.0//EN
CALSCALE:GREGORIAN
METHOD:PUBLISH
X-WR-CALNAME:Практики. DesignSpaces
X-ORIGINAL-URL:https://d-fest.ru
X-WR-CALDESC:Мероприятия для Практики. DesignSpaces
REFRESH-INTERVAL;VALUE=DURATION:PT1H
X-Robots-Tag:noindex
X-PUBLISHED-TTL:PT1H
BEGIN:VTIMEZONE
TZID:UTC
BEGIN:STANDARD
TZOFFSETFROM:+0000
TZOFFSETTO:+0000
TZNAME:UTC
DTSTART:20250101T000000
END:STANDARD
END:VTIMEZONE
BEGIN:VEVENT
DTSTART;TZID=UTC:20251113T100000
DTEND;TZID=UTC:20251113T170000
DTSTAMP:20260425T234924
CREATED:20251003T145921Z
LAST-MODIFIED:20251003T145921Z
UID:2292-1763028000-1763053200@d-fest.ru
SUMMARY:Конференция DesignParty by ДизайнВыставка
DESCRIPTION:13 ноября в «ТВОЙ ДОМ» Крокус Сити состоится однодневное мероприятие с деловой программой для практикующих дизайнеров\, заинтересованных в своем профессиональном развитии\, \nи экспозицией поставщиков.\nКонференция DesignParty начиная с 2022 года регулярно несколько раз в году объединяет дизайн-сообщество. Известные спикеры и эксперты делятся своими секретами успеха с практикующими дизайнерами\, архитекторами\, комплектаторами и другими специалистами сферы дизайна.\nТрадиционно конференции проводятся в крупных мебельных торговых центрах.\nМЕСТО ПРОВЕДЕНИЯ: ТК «ТВОЙ ДОМ» КРОКУС СИТИ\, 2 КОРПУС\, 4 ЭТАЖ\nАДЕРС: Г. КРАСНОГОРСК\, МЕЖДУНАРОДНАЯ УЛ.\, Д. 4 (М. МЯКИНИНО)
URL:https://d-fest.ru/event/%d0%ba%d0%be%d0%bd%d1%84%d0%b5%d1%80%d0%b5%d0%bd%d1%86%d0%b8%d1%8f-designparty-by-%d0%b4%d0%b8%d0%b7%d0%b0%d0%b9%d0%bd%d0%b2%d1%8b%d1%81%d1%82%d0%b0%d0%b2%d0%ba%d0%b0/
LOCATION:КРОКУС СИТИ\, МЕЖДУНАРОДНАЯ УЛ.\, Д. 4 (М. МЯКИНИНО)\, Красногорск\, Russian Federation
CATEGORIES:Конференция
ATTACH;FMTTYPE=image/png:https://d-fest.ru/wp-content/uploads/2025/10/Снимок-экрана-2025-10-03-в-17.52.09.png
END:VEVENT
BEGIN:VEVENT
DTSTART;TZID=UTC:20251128T100000
DTEND;TZID=UTC:20251128T180000
DTSTAMP:20260425T234924
CREATED:20251015T102740Z
LAST-MODIFIED:20251015T102740Z
UID:2350-1764324000-1764352800@d-fest.ru
SUMMARY:ДЕНЬ РЕМОНТА В ДОМЕ МЕЧТЫ
DESCRIPTION:Приглашаем вас на тематическую выставку-вдохновение «Ремонт в доме мечты».\nМы создадим особую атмосферу\, чтобы вы могли полностью погрузиться в мир дизайна и современных технологий для дома. Это ваш шанс найти идеи\, которые помогут превратить вашу квартиру или дом в идеальное пространство\, отражающее ваш стиль и характер.\nМы будем говорить не просто о ремонте\, а о том\, как создать место\, в котором хочется жить.\nДавайте встретимся\, чтобы обменяться идеями\, найти надежных партнеров и помечтать о вашем будущем уюте вместе! \nМы рады видеть всех гостей\, однако количество бесплатных приглашений ограничено. Успейте зарегистрироваться на мероприятие\, чтобы гарантировать себе место. \n  \nЧТО НАС ЖДЕТ НА ПУТИ К МЕЧТЕ? \n  \nВЫСТАВКА: более 50 компаний. Каждая компания на выставке представит своё решение или продукт\, которые обязательно должны присутствовать в Доме мечты. \n  \nДЕЛОВАЯ ПРОГРАММА: известные дизайнеры и архитекторы поделятся своими лайфхаками\, как прийти к мечте кратчайшим путём. \n  \nМАСТЕР-КЛАССЫ и ПРАКТИКИ: каждый желающий сможет на специальных мастер-классах визуализировать свою мечту и тем самым сделать её более реальной. \n  \nДЛЯ ГОСТЕЙ: вся творческая и развлекательная программа будет построена на создании атмосферы безмятежности и уюта — изысканная живая музыка\, благородные напитки и творчество ради создания красивых предметов для Дома мечты своими руками.
URL:https://d-fest.ru/event/%d0%b4%d0%b5%d0%bd%d1%8c-%d1%80%d0%b5%d0%bc%d0%be%d0%bd%d1%82%d0%b0-%d0%b2-%d0%b4%d0%be%d0%bc%d0%b5-%d0%bc%d0%b5%d1%87%d1%82%d1%8b/
LOCATION:ПРОСТРАНСТВО ВЕСНА\, Спартаковский переулок 2с1\, подъезд №7\, Санкт-Петербург\, Russian Federation
CATEGORIES:Вечеринка,Выставка,Конференция
ATTACH;FMTTYPE=image/png:https://d-fest.ru/wp-content/uploads/2025/08/Снимок-экрана-2025-08-13-в-13.29.47.png
END:VEVENT
BEGIN:VEVENT
DTSTART;TZID=UTC:20251128T100000
DTEND;TZID=UTC:20251129T180000
DTSTAMP:20260425T234924
CREATED:20251015T102248Z
LAST-MODIFIED:20251015T103352Z
UID:2347-1764324000-1764439200@d-fest.ru
SUMMARY:ГРАНИ ДИЗАЙНА В Г. САНКТ-ПЕТЕРБУРГ
DESCRIPTION:КОНФЕРЕНЦИЯ ДЛЯ ДИЗАЙНЕРОВ И АРХИТЕКТОРОВ\n\n\nг. Санкт-Петербург 28-29 ноября 2025\n2 дня / Живой формат / 13 экспертов
URL:https://d-fest.ru/event/%d0%b3%d1%80%d0%b0%d0%bd%d0%b8-%d0%b4%d0%b8%d0%b7%d0%b0%d0%b9%d0%bd%d0%b0-%d0%b2-%d0%b3-%d1%81%d0%b0%d0%bd%d0%ba%d1%82-%d0%bf%d0%b5%d1%82%d0%b5%d1%80%d0%b1%d1%83%d1%80%d0%b3/
LOCATION:Конгрессный центр «ПетроКонгресс»\, ул. Лодейнопольская\, 5\,\, Санкт-Петербург\, Russian Federation
CATEGORIES:Конференция
ATTACH;FMTTYPE=image/jpeg:https://d-fest.ru/wp-content/uploads/2025/10/1.jpg
END:VEVENT
END:VCALENDAR