BEGIN:VCALENDAR
VERSION:2.0
PRODID:-//Практики. DesignSpaces - ECPv6.11.2.1//NONSGML v1.0//EN
CALSCALE:GREGORIAN
METHOD:PUBLISH
X-ORIGINAL-URL:https://d-fest.ru
X-WR-CALDESC:Мероприятия для Практики. DesignSpaces
REFRESH-INTERVAL;VALUE=DURATION:PT1H
X-Robots-Tag:noindex
X-PUBLISHED-TTL:PT1H
BEGIN:VTIMEZONE
TZID:UTC
BEGIN:STANDARD
TZOFFSETFROM:+0000
TZOFFSETTO:+0000
TZNAME:UTC
DTSTART:20250101T000000
END:STANDARD
END:VTIMEZONE
BEGIN:VEVENT
DTSTART;TZID=UTC:20251114T160000
DTEND;TZID=UTC:20251114T200000
DTSTAMP:20260425T223255
CREATED:20250819T120700Z
LAST-MODIFIED:20250819T120700Z
UID:2096-1763136000-1763150400@d-fest.ru
SUMMARY:Мастермайнд для производителей и поставщиков "Система работы с дизайнерами"
DESCRIPTION:Приглашаем принять участие в очередном мастермайнде для компаний поставщиков\, где вы сможете получить новые интересные идеи для сотрудничества с дизайнерами и найти единомышленников для коллаборации.\nЧто такое мастермайнд? — Это группа взаимного совершенствования. Производители и поставщики собираются для решения проблем и обмена опытом. Например\, вы запускаете новый проект. Подбираете людей с позитивным опытом\, которые помогут не допустить ошибок и довести проект до запуска. \n\nзнакомство с коллегами\nчто на самом деле нужно дизайнерам\nпочему не работают обычные письма-рассылки\nкак должен выглядеть продающий сайт\, инстаграм\, шоу-рум\nкак построить слаженную команду для работы с дизайнерами и кто должен туда входить\nчто такое агентский договор\nкакие возможные маркетинговые варианты взаимодействия с дизайнерами\n\nобмен мнениями\nрешение спорных вопросов\nформаты коллабораций для сотрудничества с дизайнерами\n\nЧто вы получите: \n\nответы на вопросы по сотрудничеству с дизайнерами\nнетривиальные идеи\, которые сработали у коллег\nвектор развития направления работы с дизайнерами\nактивный нетворкинг с профессионалами рынка\n\nСпикеры: на согласовании \n  \nМесто проведения: ЦДиИ Expostroy\, конференц-зал\, 5 павильон\, 2 этаж. \nТелефон: 8-903-745-36-21
URL:https://d-fest.ru/event/%d0%bc%d0%b0%d1%81%d1%82%d0%b5%d1%80%d0%bc%d0%b0%d0%b9%d0%bd%d0%b4-%d0%b4%d0%bb%d1%8f-%d0%bf%d1%80%d0%be%d0%b8%d0%b7%d0%b2%d0%be%d0%b4%d0%b8%d1%82%d0%b5%d0%bb%d0%b5%d0%b9-%d0%b8-%d0%bf%d0%be%d1%81/
LOCATION:ЦДиИ Expostroy\, Нахимовский проспект 24\, Москва\, Russian Federation
CATEGORIES:Мастермайнд
ATTACH;FMTTYPE=image/jpeg:https://d-fest.ru/wp-content/uploads/2025/08/Без-названия-4.jpg
END:VEVENT
BEGIN:VEVENT
DTSTART;TZID=UTC:20251003T160000
DTEND;TZID=UTC:20251003T200000
DTSTAMP:20260425T223255
CREATED:20250930T145447Z
LAST-MODIFIED:20250930T145447Z
UID:2251-1759507200-1759521600@d-fest.ru
SUMMARY:Мастермайнд для производителей и поставщиков "Система работы с дизайнерами" ArchDialog
DESCRIPTION:Приглашаем принять участие в очередном мастермайнде для компаний поставщиков\, где вы сможете получить новые интересные идеи для сотрудничества с дизайнерами и найти единомышленников для коллаборации.\nЧто такое мастермайнд? — Это группа взаимного совершенствования. Производители и поставщики собираются для решения проблем и обмена опытом. Например\, вы запускаете новый проект. Подбираете людей с позитивным опытом\, которые помогут не допустить ошибок и довести проект до запуска. \n\nзнакомство с коллегами\nчто на самом деле нужно дизайнерам\nпочему не работают обычные письма-рассылки\nкак должен выглядеть продающий сайт\, инстаграм\, шоу-рум\nкак построить слаженную команду для работы с дизайнерами и кто должен туда входить\nчто такое агентский договор\nкакие возможные маркетинговые варианты взаимодействия с дизайнерами\nобмен мнениями\nрешение спорных вопросов\nформаты коллабораций для сотрудничества с дизайнерами\n\nЧто вы получите: \n\nответы на вопросы по сотрудничеству с дизайнерами\nнетривиальные идеи\, которые сработали у коллег\nвектор развития направления работы с дизайнерами\nактивный нетворкинг с профессионалами рынка
URL:https://d-fest.ru/event/%d0%bc%d0%b0%d1%81%d1%82%d0%b5%d1%80%d0%bc%d0%b0%d0%b9%d0%bd%d0%b4-%d0%b4%d0%bb%d1%8f-%d0%bf%d1%80%d0%be%d0%b8%d0%b7%d0%b2%d0%be%d0%b4%d0%b8%d1%82%d0%b5%d0%bb%d0%b5%d0%b9/
LOCATION:ЦДиИ Expostroy\, Нахимовский проспект 24\, Москва\, Russian Federation
CATEGORIES:Мастермайнд
ATTACH;FMTTYPE=image/png:https://d-fest.ru/wp-content/uploads/2025/09/Снимок-экрана-2025-09-30-в-17.53.44.png
END:VEVENT
BEGIN:VEVENT
DTSTART;TZID=UTC:20250827T190000
DTEND;TZID=UTC:20250827T213000
DTSTAMP:20260425T223255
CREATED:20250822T135913Z
LAST-MODIFIED:20250822T135913Z
UID:2149-1756321200-1756330200@d-fest.ru
SUMMARY:PREMIUM-ВСТРЕЧА МАСТЕРМАЙНД & НЕТВОРКИНГ МОСКВА
DESCRIPTION:ЧТО ВАС ЖДЁТ НА ВСТРЕЧЕ:\n\n\n\n\n\n\n\n\nОБМЕН ОПЫТОМ\, НОВЫЕ ЗНАКОМСТВА\, ЦЕННЫЕ ИНСАЙТЫ.\n\n\n\n\n\n\n\nНЕТВОРКИНГ ПОЗВОЛИТ ВАМ ПОЗНАКОМИТЬСЯ С ЕДИНОМЫШЛЕННИКАМИ\, НАЙТИ ПАРТНЁРОВ\, КЛИЕНТОВ ИЛИ НАСТАВНИКОВ\, А ТАКЖЕ ВДОХНОВИТЬСЯ ИСТОРИЯМИ ДРУГИХ УЧАСТНИКОВ\n\n\n\n\n\n\n\n\n\n\n\n\n\nЗДЕСЬ КАЖДЫЙ ГОТОВ ДЕЛИТЬСЯ И ПОДДЕРЖИВАТЬ\, ЧТОБЫ ВСЕ УШЛИ С КОНКРЕТНЫМИ ИДЕЯМИ И ПЛАНОМ ДЕЙСТВИЙ\n\n\n\n\n\nДРЕСС-КОД Smart-casual
URL:https://d-fest.ru/event/premium-%d0%b2%d1%81%d1%82%d1%80%d0%b5%d1%87%d0%b0-%d0%bc%d0%b0%d1%81%d1%82%d0%b5%d1%80%d0%bc%d0%b0%d0%b9%d0%bd%d0%b4-%d0%bd%d0%b5%d1%82%d0%b2%d0%be%d1%80%d0%ba%d0%b8%d0%bd%d0%b3-%d0%bc%d0%be%d1%81/
CATEGORIES:Мастермайнд,Нетворкинг
ATTACH;FMTTYPE=image/png:https://d-fest.ru/wp-content/uploads/2025/08/Снимок-экрана-2025-08-22-в-16.56.15.png
END:VEVENT
BEGIN:VEVENT
DTSTART;TZID=UTC:20250827T180000
DTEND;TZID=UTC:20250827T213000
DTSTAMP:20260425T223255
CREATED:20250822T135316Z
LAST-MODIFIED:20250822T135316Z
UID:2146-1756317600-1756330200@d-fest.ru
SUMMARY:Строймастермайнд и презентация "клуба Строителей" Самара
DESCRIPTION:ЧТО ВАС ЖДЁТ:\n\n\n\n\n\n\n\nПРЕЗЕНТАЦИЯ КЛУБА СТРОИТЕЛЕЙ — ВОЗМОЖНОСТИ\, РЕЗИДЕНТЫ\, ПЕРСПЕКТИВЫ\n\n\n\n\n\n\nСТРОЙМАСТЕРМАЙНД — РАЗБОР ВАШИХ БИЗНЕС-ЗАПРОСОВ В КРУГУ ПРЕДПРИНИМАТЕЛЕЙ\n\n\n\n\n\n\n\n\n\n\n\n\nНЕТВОРКИНГ — ПОЛЕЗНЫЕ ЗНАКОМСТВА С ПРЕДПРИНИМАТЕЛЯМИ СТРОИТЕЛЬНОЙ СФЕРЫ\n\n\n\nДРЕСС-КОД SMART-CASUAL
URL:https://d-fest.ru/event/%d1%81%d1%82%d1%80%d0%be%d0%b9%d0%bc%d0%b0%d1%81%d1%82%d0%b5%d1%80%d0%bc%d0%b0%d0%b9%d0%bd%d0%b4-%d0%b8-%d0%bf%d1%80%d0%b5%d0%b7%d0%b5%d0%bd%d1%82%d0%b0%d1%86%d0%b8%d1%8f-%d0%ba%d0%bb%d1%83%d0%b1/
CATEGORIES:Мастермайнд,Событие
ATTACH;FMTTYPE=image/png:https://d-fest.ru/wp-content/uploads/2025/08/Снимок-экрана-2025-08-22-в-16.44.26.png
END:VEVENT
BEGIN:VEVENT
DTSTART;TZID=UTC:20250825T183000
DTEND;TZID=UTC:20250825T210000
DTSTAMP:20260425T223255
CREATED:20250822T132157Z
LAST-MODIFIED:20250822T132157Z
UID:2139-1756146600-1756155600@d-fest.ru
SUMMARY:МАСТЕРМАЙНД ПРЕЗЕНТАЦИЯ КЛУБА СТРОИТЕЛЕЙ Симферополь
DESCRIPTION:ЖИВОЙ НЕТВОРКИНГ С ПРЕДПРИНИМАТЕЛЯМИ ВАШЕЙ СФЕРЫ \n\n\n\n\nКАК ПРОХОДИТ МАСТЕРМАЙНД\n\n\n\n\n\nЭТО МАЛАЯ ГРУППА\, ГДЕ КАЖДЫЙ УЧАСТНИК ПРИХОДИТ С ЗАПРОСОМ — СИТУАЦИЕЙ\, КОТОРАЯ ТРЕБУЕТ РЕШЕНИЯ ИЛИ ВЗГЛЯДА СО СТОРОНЫ\n\n\n\n\nВЫ ПРИХОДИТЕ С ОТКРЫТЫМ ЗАПРОСОМ И ГОТОВЫ ВКЛЮЧЁННО УЧАСТВОВАТЬ В ОБСУЖДЕНИИ ДРУГИХ КЕЙСОВ\n\n\nДРЕСС-КОД Smart-casual
URL:https://d-fest.ru/event/%d0%bc%d0%b0%d1%81%d1%82%d0%b5%d1%80%d0%bc%d0%b0%d0%b9%d0%bd%d0%b4-%d0%bf%d1%80%d0%b5%d0%b7%d0%b5%d0%bd%d1%82%d0%b0%d1%86%d0%b8%d1%8f-%d0%ba%d0%bb%d1%83%d0%b1%d0%b0-%d1%81%d1%82%d1%80%d0%be%d0%b8/
CATEGORIES:Мастермайнд
ATTACH;FMTTYPE=image/png:https://d-fest.ru/wp-content/uploads/2025/08/Снимок-экрана-2025-08-22-в-16.21.12.png
END:VEVENT
END:VCALENDAR