BEGIN:VCALENDAR
VERSION:2.0
PRODID:-//Практики. DesignSpaces - ECPv6.11.2.1//NONSGML v1.0//EN
CALSCALE:GREGORIAN
METHOD:PUBLISH
X-WR-CALNAME:Практики. DesignSpaces
X-ORIGINAL-URL:https://d-fest.ru
X-WR-CALDESC:Мероприятия для Практики. DesignSpaces
REFRESH-INTERVAL;VALUE=DURATION:PT1H
X-Robots-Tag:noindex
X-PUBLISHED-TTL:PT1H
BEGIN:VTIMEZONE
TZID:UTC
BEGIN:STANDARD
TZOFFSETFROM:+0000
TZOFFSETTO:+0000
TZNAME:UTC
DTSTART:20250101T000000
END:STANDARD
END:VTIMEZONE
BEGIN:VEVENT
DTSTART;TZID=UTC:20250603T100000
DTEND;TZID=UTC:20250605T190000
DTSTAMP:20260426T022935
CREATED:20250522T092756Z
LAST-MODIFIED:20250522T092756Z
UID:1745-1748944800-1749150000@d-fest.ru
SUMMARY:РОССИЙСКИЕ ДНИ ДИЗАЙНА И АРХИТЕКТУРЫ. Краснодар
DESCRIPTION:С 3 по 5 июня 2025 в Краснодаре состоится 35 ВЫСТАВКА проекта РОССИЙСКИЕ ДНИ ДИЗАЙНА И АРХИТЕКТУРЫ — крупнейшая международная дизайн выставка отделочных материалов и предметов декора для интерьеров и экстерьеров. Во всех городах проекта традиционно аншлаги\, события посещает большое количество дизайнеров\, архитекторов\, декораторов\, начинающих специалистов и мастеров-отделочников. \nВ 2024 году событие посетило 1437 человек\, среди участников выставки представлено более 150 известных брендов на площади 2400 кв.м.\nРегистрационная база региона составляет более 5000 человек. \nВ июне 2025 года всех посетителей ожидает дизайн-выставка\, стильные экспозиции\, ежедневные розыгрыши ценных призов\, практические мастер-классы\, консультации по отделочным материалам и подбору товаров для ремонта. А для специалистов состоится Форум дизайнеров и архитекторов\, с участием известных профессионалов и экспертов в области дизайна и архитектуры. \nПо мнению участников и посетителей\, РОССИЙСКИЕ ДНИ ДИЗАЙНА И АРХИТЕКТУРЫ — это своевременный и актуальный выставочно-образовательный проект\, созданный по мировым стандартам\, и\, пожалуй\, не имеющий аналогов в стране.
URL:https://d-fest.ru/event/%d1%80%d0%be%d1%81%d1%81%d0%b8%d0%b9%d1%81%d0%ba%d0%b8%d0%b5-%d0%b4%d0%bd%d0%b8-%d0%b4%d0%b8%d0%b7%d0%b0%d0%b9%d0%bd%d0%b0-%d0%b8-%d0%b0%d1%80%d1%85%d0%b8%d1%82%d0%b5%d0%ba%d1%82%d1%83%d1%80%d1%8b/
LOCATION:ДС Олимп\, ул. Береговая\, д. 144\, Краснодар\, Russian Federation
CATEGORIES:Форум
ATTACH;FMTTYPE=image/jpeg:https://d-fest.ru/wp-content/uploads/2025/05/q3jr1y4eeb8yk0xbru5ax11cdwjvltie.jpg
END:VEVENT
END:VCALENDAR