BEGIN:VCALENDAR
VERSION:2.0
PRODID:-//Практики. DesignSpaces - ECPv6.11.2.1//NONSGML v1.0//EN
CALSCALE:GREGORIAN
METHOD:PUBLISH
X-ORIGINAL-URL:https://d-fest.ru
X-WR-CALDESC:Мероприятия для Практики. DesignSpaces
REFRESH-INTERVAL;VALUE=DURATION:PT1H
X-Robots-Tag:noindex
X-PUBLISHED-TTL:PT1H
BEGIN:VTIMEZONE
TZID:UTC
BEGIN:STANDARD
TZOFFSETFROM:+0000
TZOFFSETTO:+0000
TZNAME:UTC
DTSTART:20250101T000000
END:STANDARD
END:VTIMEZONE
BEGIN:VEVENT
DTSTART;TZID=UTC:20251009T100000
DTEND;TZID=UTC:20251010T190000
DTSTAMP:20260425T234545
CREATED:20250711T081117Z
LAST-MODIFIED:20250711T081117Z
UID:1770-1760004000-1760122800@d-fest.ru
SUMMARY:FERODIZ XXV 2025
DESCRIPTION:Ежегодный фестиваль «Феродиз»\, проводящийся 25 год на территории КавМинВод\, известное для широкой публики и обладающее авторитетом у представителей творческих индустрий со всей России мероприятие. \nОсобо значимо это событие для студентов и преподавателей профильных ВУЗов и СПО. По итогам конкурса\, дипломами Фестиваля будет отмечено 60 студенческих работ. В профессиональной секции будут отмечены 20 работ профессионалов. Дипломы Фестиваля высоко ценятся в различных рейтингах\, учитываются Высшей аттестационной комиссией. \n  \nВ 2025 году будет проведен 25й\, юбилейный фестиваль «Феродиз». Это единственный и уникальный фестиваль в сфере креативных индустрий в Ставропольском крае\, который традиционно собирает молодых и профессиональных дизайнеров и других креаторов со всей России. \nФеродиз — это рекламно-презентационная площадка для креативных предпринимателей и студентов профильных ВУЗов и СПО\, где участники не только смогут презентовать свои профессиональные навыки\, достижения\, креативный продукт\, но и озвучить свои социальные инициативы и проекты перед представителями министерств\, бизнес-сообществ и будущими коллегами. \nОсновными организаторами являются Союз дизайнеров КМВ\, Высшая Школа дизайна и архитектуры (ПГУ) и Союз архитекторов России на КМВ. Фестиваль будет проведен 10−11 октября в городе Железноводске Ставропольского края: ГДК им. Пускепалиса. \nОсновные мероприятия Фестиваля: \n\nКонкурс «Феродиз» по 15 номинациям фестиваля. Экспозиция размещается в напечатанном виде в ГДК и на сайте (от 300 проектов);\nВыставка-ярмарка народных\, художественных промыслов (Шатры на площади перед Пушкинской галереей\, от 50 участников);\nВыставка предметов ДПИ (от 100 предметов\, ГДК)\nВыставка живописи (от 100 работ\, Пушкинская галерея);\nШоу-показ моделей одежды (не менее 20 коллекций одежды\, ГДК);\nОбразовательная площадка для креативных предпринимателей и молодежи (от 200 участников\, ГДК);\nМастер-классы для всех желающих (от 150 участников\, все площадки).\n\nНа фестивале будет работать образовательная площадка для будущих и действующих креативных предпринимателей\, организаторами которой являются Корпорация развития Ставропольского края — опорная краевая организация по поддержке и развитию креативных индустрий.
URL:https://d-fest.ru/event/ferodiz-xxv-2025/
CATEGORIES:Форум
ATTACH;FMTTYPE=image/jpeg:https://d-fest.ru/wp-content/uploads/2025/05/IMG_7242.jpeg
END:VEVENT
END:VCALENDAR