BEGIN:VCALENDAR
VERSION:2.0
PRODID:-//Практики. DesignSpaces - ECPv6.11.2.1//NONSGML v1.0//EN
CALSCALE:GREGORIAN
METHOD:PUBLISH
X-ORIGINAL-URL:https://d-fest.ru
X-WR-CALDESC:Мероприятия для Практики. DesignSpaces
REFRESH-INTERVAL;VALUE=DURATION:PT1H
X-Robots-Tag:noindex
X-PUBLISHED-TTL:PT1H
BEGIN:VTIMEZONE
TZID:UTC
BEGIN:STANDARD
TZOFFSETFROM:+0000
TZOFFSETTO:+0000
TZNAME:UTC
DTSTART:20260101T000000
END:STANDARD
END:VTIMEZONE
BEGIN:VEVENT
DTSTART;TZID=UTC:20260610T100000
DTEND;TZID=UTC:20260614T170000
DTSTAMP:20260425T183622
CREATED:20260104T135643Z
LAST-MODIFIED:20260104T135643Z
UID:2483-1781085600-1781456400@d-fest.ru
SUMMARY:Международный туристический форум «Путешествуй!»
DESCRIPTION:Международный туристический форум «Путешествуй!» – ключевое событие российской туриндустрии мирового масштаба и основная площадка\, объединяющая профессионалов отраслевого сообщества и широкую аудиторию путешественников. \nУникальный формат позволяет представить гражданам туристический потенциал России и зарубежных направлений\, продемонстрировать разнообразие видов туризма.
URL:https://d-fest.ru/event/%d0%bc%d0%b5%d0%b6%d0%b4%d1%83%d0%bd%d0%b0%d1%80%d0%be%d0%b4%d0%bd%d1%8b%d0%b9-%d1%82%d1%83%d1%80%d0%b8%d1%81%d1%82%d0%b8%d1%87%d0%b5%d1%81%d0%ba%d0%b8%d0%b9-%d1%84%d0%be%d1%80%d1%83%d0%bc/
LOCATION:ВДНХ\, проспект Мира\, 119\, Москва\, Russian Federation
CATEGORIES:Выставка,Конференция,Форум
ATTACH;FMTTYPE=image/jpeg:https://d-fest.ru/wp-content/uploads/2026/01/photo_2024-06-11_13-50-18.jpg
ORGANIZER;CN="%D0%A4%D0%BE%D0%BD%D0%B4 %D0%A0%D0%BE%D1%81%D0%BA%D0%BE%D0%BD%D0%B3%D1%80%D0%B5%D1%81%D1%81":MAILTO:info@roscongress.org
END:VEVENT
END:VCALENDAR