BEGIN:VCALENDAR
VERSION:2.0
PRODID:-//Практики. DesignSpaces - ECPv6.11.2.1//NONSGML v1.0//EN
CALSCALE:GREGORIAN
METHOD:PUBLISH
X-ORIGINAL-URL:https://d-fest.ru
X-WR-CALDESC:Мероприятия для Практики. DesignSpaces
REFRESH-INTERVAL;VALUE=DURATION:PT1H
X-Robots-Tag:noindex
X-PUBLISHED-TTL:PT1H
BEGIN:VTIMEZONE
TZID:UTC
BEGIN:STANDARD
TZOFFSETFROM:+0000
TZOFFSETTO:+0000
TZNAME:UTC
DTSTART:20250101T000000
END:STANDARD
END:VTIMEZONE
BEGIN:VEVENT
DTSTART;TZID=UTC:20251129T103000
DTEND;TZID=UTC:20251129T210000
DTSTAMP:20260425T210443
CREATED:20250930T151714Z
LAST-MODIFIED:20250930T151714Z
UID:2263-1764412200-1764450000@d-fest.ru
SUMMARY:Russian Interior Week 2025: Гала Форум
DESCRIPTION:Завершающая дизайн-конференция в Москве с подведением итогов года и стратпланированием развития бизнеса в 2026 году. Мероприятие объединит авторскую дизайн-экспозицию\, лекторий\, мастер-майнды\, Финал конкурса молодых дизайнеров «Дизайн-Перспектива» при поддержке Президентского Фонда Культурных Инициатив\, награждение конкурса «Спикер Года»\, а также концерт с фуршетом и приятное общение.\n\nИскусство и культура16+\n\n\n\n\nАдрес: Дворец Культуры\, ул. Шарикоподшипниковская\, д. 15\, строение 1 \nГлавная сцена «Будущее профессии». Для инсайтов и идей \n11:00 -11:30 Сбор гостей \n11:30 — 12:30 Разогрев. Мастер-класс по поиску УТП дизайнера\n12:30 — 13:00 Нейродизайн: как интерьер влияет на мозг и эмоции. Как научные данные переводить в проект. \n13:30 — 14:00 Иммерсивные интерьеры и mixed reality. Проекционный дизайн\, AR/VR-шоу-румы\, digital-стены. Кейсы отелей\, офисов\, музеев.\n13:30 — 14:00 Перерыв\n14:00 — 15:00 Мастер-класс по личному бренду от звездного маркетолога\n15:00 — 16:00 Перерыв на обед\n16:00 — 16:30 Поколение Alpha и Z: новые запросы к пространствам. Интерьеры для тех\, кто вырос в TikTok и VR.\n16:30 — 17:00 Smart-материалы и цифровая мебель. Что нового на рынке комплектации.\n17:00 — 17:30 Будет ли дизайнер нужен в 2030? Право и дизайн в будущем. Главные правила\, которые помогут в профессии прямо сейчас\, авторские права на проекты\, созданные с помощью AI.\n17:30 Выступление хэдлайнера. AI-революция в профессии дизайнера. Где он помогает\, а где заменяет. \n18:30 — 19:00 Перерыв \n19:00 — 21:30 Afterparty. Музыка\, фуршет\, премия «Спикер Года»\, подарки\, розыгрыш IPHONE \n  \nСцена «Перспектива». Для старта в профессии \n12:00 – 12:15 Открытие форума. \n12.15 — 13.00 Карта рынка дизайна 2026: жильё\, коммерция\, HoReCa\, staging\, визуализация. Какой путь выбрать дизайнеру \n13:00 — 13:30 Выступление партнеров \n13:30 — 14:00 Процесс проекта от преддоговора до сдачи: роли\, артефакты\, контроль.\nАртефакты: бриф\, ТЗ\, планировка\, ведомости\, смета\, график поставок. \n14:00 — 14:30 Выступление партнеров \n14:30 — 15:00 Ошибки новичков: что реально сливает бюджет клиента. Технические грабли: электрика\, свет\, эргономика\, узлы\, сметы. \n15:00 — 15:30 Перерыв \n15:30 — 16:00 Анти-«болтовня»: грабли\, на которые наступает начинающий дизайнер. \n16:00 — 16:45 Выступление партнеров \n17:00 — 18:00 Церемония объявления и награждения финалистов и победителей VIII Международного конкурса молодых дизайнеров «Дизайн-Перспектива 2025» \n  \nСцена «Практикум». Мастер-майнды со спикерами года для прокачки бизнеса \n\n12:30-14:00 Привлечение клиентов. Комплексные продажи\n15:00-16:30 Делегирование. Правила построения команды\n\n  \nСтоимость участия: Билет на 29 ноября (Москва\, очно): 1100 руб \nБилет на дизайн-экскурсии 30 ноября приобретается отдельно:​​https://archdialog.timepad.ru/event… \n 
URL:https://d-fest.ru/event/russian-interior-week-2025-%d0%b3%d0%b0%d0%bb%d0%b0-%d1%84%d0%be%d1%80%d1%83%d0%bc/
CATEGORIES:Форум
ATTACH;FMTTYPE=image/png:https://d-fest.ru/wp-content/uploads/2025/09/Снимок-экрана-2025-09-30-в-18.12.04.png
END:VEVENT
END:VCALENDAR