BEGIN:VCALENDAR
VERSION:2.0
PRODID:-//Практики. DesignSpaces - ECPv6.11.2.1//NONSGML v1.0//EN
CALSCALE:GREGORIAN
METHOD:PUBLISH
X-WR-CALNAME:Практики. DesignSpaces
X-ORIGINAL-URL:https://d-fest.ru
X-WR-CALDESC:Мероприятия для Практики. DesignSpaces
REFRESH-INTERVAL;VALUE=DURATION:PT1H
X-Robots-Tag:noindex
X-PUBLISHED-TTL:PT1H
BEGIN:VTIMEZONE
TZID:UTC
BEGIN:STANDARD
TZOFFSETFROM:+0000
TZOFFSETTO:+0000
TZNAME:UTC
DTSTART:20260101T000000
END:STANDARD
END:VTIMEZONE
BEGIN:VEVENT
DTSTART;TZID=UTC:20260413T080000
DTEND;TZID=UTC:20260418T170000
DTSTAMP:20260425T154302
CREATED:20260104T144832Z
LAST-MODIFIED:20260104T144832Z
UID:2514-1776067200-1776531600@d-fest.ru
SUMMARY:«Перспектива’26»
DESCRIPTION:ТЕМА ФЕСТИВАЛЯ: ПЕРЕПЛЕТЕНИЕ\nОрганизатор:\nСоюз московских архитекторов при поддержке Союза архитекторов России\, Правительства Москвы. \nКураторы:\nАнастасия Успенская\, Татьяна Осецкая. \nЦели:\nОсновной целью фестиваля является поддержка молодых профессионалов в области архитектуры\, стимулирование их творческого самовыражения и развитие навыков\, необходимых для решения сложных задач современной урбанистики и создания комфортных городских пространств. Фестиваль стал платформой для презентации инновационных идей и концепций\, способствуя развитию архитектурного искусства и повышению стандартов проектирования в России. \nЗадачи:\n\nпродвижении уникальных идей и оказание помощи в профессиональном становлении талантливой молодежи\, будущих лидеров отрасли;\nоткрытие новых имен в архитектурном сообществе\, обеспечивая необходимых условий для дальнейшего роста;\nдемонстрация потенциала молодых профессионалов в вопросах современной архитектуры\, создания комфортной среды жизнедеятельности человека\, благоустройства территории города;\nвыстраивание открытого диалога с городом и включение молодых талантливых специалистов в работу по освоению городских и общественных пространств;\nконсолидация творческой молодежи\, реализация профессиональных способностей участников — формирование молодого поколения профессионального цеха;\nраскрытие творческого потенциала архитектурной молодежи\, ориентированной на нестандартность\, оригинальность идей\, способность мыслить вне стереотипов.\n\nПрограмма:\nВ рамках фестиваля состоятся два конкурса: смотр-конкурс молодых архитекторов «Перспектива» (до 35 лет) и всероссийский открытый студенческий архитектурный конкурс на разработку концепции Дома культуры: новое плетение. \nУчастники:\nДипломированные молодые архитекторы до 35 лет и студенты архитектурных вузов и факультетов. \nОсновная аудитория:\nФестиваль направлен на привлечение внимания широкой аудитории\, интересующейся современной архитектурой\, урбанизмом и дизайном. \n\nгосударственные органы\, отвечающие за политику в области архитектуры и градостроительства\nстуденты архитектурных вузов\nначинающие архитекторы\, дизайнеры интерьеров\nпредставители строительных компаний\nинвесторы\, девелоперы\nпреподаватели профильных дисциплин\nгородские активисты и энтузиасты городской среды.\n\n  \n  \nМанифест:\nПЕРЕПЛЕТЕНИЕ \nМир мчится вперёд. Меняются форматы и формы общения\, сценарии и инфраструктура городов\, переосмысляются и переплетаются культуры и традиции\, каждый день плетется новая реальность\, новая среда. Культура\, традиции\, память места\, сплетаются с новыми смыслами и местами на карте города\, новыми формами и форматами его жизни. \nАрхитектура — один из языков города и общества. Диалог между деревом и нейросетью\, между кирпичом и архитектурным бетоном. Она — мост\, на котором встречаются «а что\, если?» и «давайте сделаем!». \nМолодые архитекторы\, чувствуют особенно остро время перемен\, потребность добавить новые нити смыслов и форм\, в ткань города и сообщества\, смело пробуют новое и вступают в дискуссии и экспериментируют\, создавая для себя свою среду\, свой новый дом\, свое сообщество! \nЭти супер способности\, видение и чувствование мы приглашаем тебя принести на Перспективу — фестиваль молодых архитекторов и современной архитектуры! \n«Перспектива’26» — это наша общая стройплощадка идей. Здесь всё переплетается: конкурсы и дискуссии\, воркшопы и лекции\, выставки молодых и долгие споры о том\, что такое молодость\, случайные разговоры и диалог с наставниками. Это живая ткань профессионального доверия и развития. \nПрисоединяйся! \nПринеси свою нить — свою дерзость\, свою бессонницу\, свою веру в будущее\, свои самые смелые высказывания и невероятные эскизы! \nПриглашаем тебя\, принеси свою нить в «завтра»! \n  \nИстория фестиваля:\nФестиваль имеет продолжительную историю и начал проводиться с 2006 года\, изначально позиционируясь как престижный конкурс молодых архитекторов «Перспектива» для демонстрации достижений молодых архитекторов. После изменений формата с 2014 года мероприятие приобрело статус широкомасштабного фестиваля\, объединяя деловую и конкурсную программы. \nЗа прошедшие годы в конкурсе на премию «Перспектива» приняло участие более 1000 молодых профессионалов\, представлено более 500 работ\, демонстрирующих качественное «безумство» идей и высокий потенциал. Более 100 архитекторов получили право стать членами Союза московских архитекторов. \nГлавная премия фестиваля «За творческий потенциал» присуждается молодым архитекторам в конкурсе идей.
URL:https://d-fest.ru/event/%d0%bf%d0%b5%d1%80%d1%81%d0%bf%d0%b5%d0%ba%d1%82%d0%b8%d0%b2%d0%b026-2/
LOCATION:Центральный дом архитектора\, Гранатный пер.\, д. 7\, стр. 1\, Москва\, Russian Federation
CATEGORIES:Премия,Фестиваль
ATTACH;FMTTYPE=image/jpeg:https://d-fest.ru/wp-content/uploads/2026/01/e26uztu75wv7wu3o5e2kkk4ellgqdnke.jpg
ORGANIZER;CN="%D0%A1%D0%BE%D1%8E%D0%B7 %D0%BC%D0%BE%D1%81%D0%BA%D0%BE%D0%B2%D1%81%D0%BA%D0%B8%D1%85 %D0%B0%D1%80%D1%85%D0%B8%D1%82%D0%B5%D0%BA%D1%82%D0%BE%D1%80%D0%BE%D0%B2":MAILTO:moskvarch@mail.ru
END:VEVENT
END:VCALENDAR