BEGIN:VCALENDAR
VERSION:2.0
PRODID:-//Практики. DesignSpaces - ECPv6.11.2.1//NONSGML v1.0//EN
CALSCALE:GREGORIAN
METHOD:PUBLISH
X-WR-CALNAME:Практики. DesignSpaces
X-ORIGINAL-URL:https://d-fest.ru
X-WR-CALDESC:Мероприятия для Практики. DesignSpaces
REFRESH-INTERVAL;VALUE=DURATION:PT1H
X-Robots-Tag:noindex
X-PUBLISHED-TTL:PT1H
BEGIN:VTIMEZONE
TZID:UTC
BEGIN:STANDARD
TZOFFSETFROM:+0000
TZOFFSETTO:+0000
TZNAME:UTC
DTSTART:20250101T000000
END:STANDARD
END:VTIMEZONE
BEGIN:VEVENT
DTSTART;TZID=UTC:20260304T120000
DTEND;TZID=UTC:20260305T180000
DTSTAMP:20260426T021918
CREATED:20251015T112802Z
LAST-MODIFIED:20251015T112802Z
UID:2368-1772625600-1772733600@d-fest.ru
SUMMARY:XII КОНФЕРЕНЦИЯ ПО РАЗВИТИЮ БИЗНЕСА МОСКВА
DESCRIPTION:Конференция 4-5 Марта 2026 \nВся информация на сайте
URL:https://d-fest.ru/event/xii-%d0%ba%d0%be%d0%bd%d1%84%d0%b5%d1%80%d0%b5%d0%bd%d1%86%d0%b8%d1%8f-%d0%bf%d0%be-%d1%80%d0%b0%d0%b7%d0%b2%d0%b8%d1%82%d0%b8%d1%8e-%d0%b1%d0%b8%d0%b7%d0%bd%d0%b5%d1%81%d0%b0-%d0%bc%d0%be%d1%81%d0%ba/
CATEGORIES:Конференция
ATTACH;FMTTYPE=image/png:https://d-fest.ru/wp-content/uploads/2025/10/Снимок-экрана-2025-10-15-в-14.14.38-1.png
END:VEVENT
BEGIN:VEVENT
DTSTART;TZID=UTC:20250919T150000
DTEND;TZID=UTC:20250919T190000
DTSTAMP:20260426T021918
CREATED:20250819T114224Z
LAST-MODIFIED:20250819T114300Z
UID:2089-1758294000-1758308400@d-fest.ru
SUMMARY:HoReCa-дизайн: особенности работы на рынке рестораторов. Технология создания проектов в индустрии HoReCa
DESCRIPTION:Хотите освоить тонкости работы с рестораторами? Мечтаете создавать успешные проекты в сфере HoReCa? Приглашаем вас на специализированное мероприятие для дизайнеров интерьеров\, где вы узнаете секреты работы в сфере HoReCa и решите реальный кейс заказчика!\nВ программе:  \n15:00- 15:15 Сбор гостей  \n15:15 — 16:30 Лекция «HoReCa: Умный брендинг в дизайне интерьера» \n16:30 — 17:00 Практическая работа с заказчиком (Кофейня)   \n17:00 — 17:30 Составление концепций для заказчика (для практической части понадобится ноутбук/планшет) \n17:30 — 18:00 Разбор концепций и обратная связь от клиента \n18:00 — 18:30 Розыгрыш призов\, завершение мероприятия  \nСпикеры:  \nАнна Разгулова — архитектор\, дизайнер\, журналист\, автор каналов Сказ про Dva Kvadrata\, Дело в квадрате. \nВиктория Сатылова — менеджер по коммуникациям Neighbors. \nМесто проведения: ЦДиИ Expostroy\, конференц-зал\, 5 павильон\, 2 этаж. \nТелефон: 8-903-745-36-21
URL:https://d-fest.ru/event/horeca-%d0%b4%d0%b8%d0%b7%d0%b0%d0%b9%d0%bd-%d0%be%d1%81%d0%be%d0%b1%d0%b5%d0%bd%d0%bd%d0%be%d1%81%d1%82%d0%b8-%d1%80%d0%b0%d0%b1%d0%be%d1%82%d1%8b-%d0%bd%d0%b0-%d1%80%d1%8b%d0%bd%d0%ba%d0%b5-%d1%80/
LOCATION:ЦДиИ Expostroy\, Нахимовский проспект 24\, Москва\, Russian Federation
CATEGORIES:Лекция
ATTACH;FMTTYPE=image/jpeg:https://d-fest.ru/wp-content/uploads/2025/08/Без-названия-2.jpg
END:VEVENT
BEGIN:VEVENT
DTSTART;TZID=UTC:20250919T103000
DTEND;TZID=UTC:20250920T190000
DTSTAMP:20260426T021918
CREATED:20250815T100428Z
LAST-MODIFIED:20250815T100428Z
UID:1968-1758277800-1758394800@d-fest.ru
SUMMARY:X Конференция по комплектации и развитию бизнеса 2025
DESCRIPTION:Для тех кто хочет узнать\, как сохранить и приумножить свой уровень дохода и рентабельность каждого проекта. Это самое масштабное событие\, посвященное такой интимной теме\, как финансы в дизайне! \nЛучшие представители индустрии поделятся с вами своим опытом и реализованными проектами. \n\n\n\n\n\n\nЕВА БЕРГМАН\n Cоздатель и совладелец выставки «MADE IN RUSSIA EXPO» и журнала Русский Lifestyle\nПредметный дизайнер и ведущий дизайнер интерьеров России\nВ профессии более 15 лет.\nТема: Комплектация проектов российскими брендами: создание авторских коллекций в проекты частных клиентов\, работа с Российскими компаниями как предметный дизайнер\, маркетинг «по-русски»\, развитие отросли и ее проблематика\n\n\n\nЕВГЕНИЙ ТЮРИН\nВедущий эксперт по развитию бизнеса для дизайнеров.\nПрезидент Союза Дизайнеров и Архитекторов.\nМосква\nТема: Формируется\n\n\nЕКАТЕРИНА ИЛЛАРИОНОВА\nПрактикующий дизайнер интерьера с архитектурным образованием\nОснователь премиальной студии дизайна FORMIO Group\n\n\n\nТема: Формируется\n\nМАКСИМ ДАЦЕВ\n Основатель архитектурно-строительного бюро AS BUREAU\nСоучредитель фабрики по производству мягкой мебели\nПочетный резидент Союза Дизайнеров и Архитекторов\nТема: Как выбрать идеальную строительную бригаду и избежать ошибок в ремонте\n\n\n\nАННА ХОМИЦКАЯ\nОснователь и креативный директор дизайн-бюро.\nТема: Формируется\n\n\n\nАРИНА КУРОЧКИНА\nРуководитель Дизайн-студии «Push`Ya»\nДизайнер общественных пространств и жилых интерьеров\nВасту — эксперт\n\n\nТема: Формируется\n\nАНАСТАСИЯ ШУМОВА\nОснователь и руководитель студии дизайна интерьера AS Interiors & Design\nДизайнер интерьера\nВладелец мебельного производства более 15 лет\n\n\n\n\n\n Тема: Комплектация маленьких проектов. Сложности и особенности\n\n\n\nДАРЬЯ СТЕПАНОВА\nОснователь и руководитель архитектурного дизайн бюро полного цикла «77/12».\n Дизайнер общественных и жилых пространств\n Эксперт передачи «черный список» на телеканале Пятница\nТема: Премиум-дизайн в России: как создать востребованный продукт для luxury-сегмента\n(Фишки\, регламенты и подводные камни работы с взыскательной аудиторией)\n\n\nДАРЬЯ ЗАТРАВКИНА\nВладелец дизайн-студии «ZATRAVKINA DARYA | interior designer»\nВ индустрии дизайна 15 лет\nПочетный резидент Союза Дизайнеров и Архитекторов\nТема: Формируется\n\n\nМАРИЯ ТИНГАЕВА\nДизайнер в отставке\nСертифицированный бизнес-тренер\nМагистр психологии\nТема: За что клиенты готовы платить дорого? Заблуждения дизайнеров и разоблачения заказчиков\n\n\nПОЛИНА ЧАПЛАНОВА\n Основатель студии дизайна интерьера POLINA CHAPLANOVA DESIGN\nБолее 20 лет​ создает​ жилые и общественные интерьеры\n12 лет опыта работы и реализации в сегменте ПРЕМИУМ класса в таких странах как Россия\, Италия\, Испании\, Великобритании\, Франции\, Ближний Восток.\n\nТема: Формируется\n\nЕКАТЕРИНА ПЕЧАТКИНА\nЛандшафтный дизайнер\nДизайнер интерьера\nПочетный член Союза Дизайнеров и Архитекторов\nТема: Формируется\n\n\nСВЕТЛАНА ИВАНОВА\nИнтерьерный дизайнер и декоратор\nПочетный резидент Союза Дизайнеров и Архитекторов\nРуководитель студии Art-Absolute\nТема: Формируется\n\n\nИРИНА БОГАТИКОВА\nВладелец группы компаний: архитектура\, дизайн\, декор\, АРТ.\nОбразование: МАИ\, МАРХИ\, MosArtScool.\nОпыт деятельности в области дизайна и архитектуры: с 2000 г.\nТема: Формируется\n\n\n\n\n\n\n\n\n\n16 АКТУАЛЬНЫХ ТЕМ\n\n\nО комплектации в реалиях нового рынка\n\n\n15 ЭКСПЕРТОВ СПИКЕРОВ\nУспешных и медийных представителей рынка дизайна\, которые нашли свои решения для новых обстоятельств\n\n\n2 ДНЯ насыщенного контента в удобном формате
URL:https://d-fest.ru/event/%d0%ba%d0%be%d0%bd%d1%84%d0%b5%d1%80%d0%b5%d0%bd%d1%86%d0%b8%d1%8f-%d0%bf%d0%be-%d0%ba%d0%be%d0%bc%d0%bf%d0%bb%d0%b5%d0%ba%d1%82%d0%b0%d1%86%d0%b8%d0%b8-%d0%b8-%d1%80%d0%b0%d0%b7%d0%b2%d0%b8%d1%82/
LOCATION:ЗАЛ AMBER PLAZA\, ул. Краснопролетарская 36\, Москва\, Russian Federation
CATEGORIES:Конференция
ATTACH;FMTTYPE=image/png:https://d-fest.ru/wp-content/uploads/2025/08/IMG_9293.png
END:VEVENT
BEGIN:VEVENT
DTSTART;TZID=UTC:20250916T150000
DTEND;TZID=UTC:20250916T170000
DTSTAMP:20260426T021918
CREATED:20250910T145547Z
LAST-MODIFIED:20250910T145547Z
UID:2205-1758034800-1758042000@d-fest.ru
SUMMARY:Business Network от журнала Hi home
DESCRIPTION:16 сентября в 15:00 приглашаем дизайнеров\,  и всех профессионалов интерьерной индустрии на уникальное событие — Business Network! \nЗачем приходить? \n✅ Познакомитесь с проверенными поставщиками и дизайнерами Москвы \n✅ Расширите базу деловых контактов \n✅ Узнаете о трендах и новинках интерьерного рынка \n✅ Всё — в формате  комфортного нетворкинга \nМОСКВА. \nДата мероприятия: \n16 сентября 2025 г.  \nМесто проведения:  \nТК «Каширский двор» Каширское ш.\, 19\, корп. 1\, 2 этаж павильон 2-А20 \nВремя мероприятия:  \n15:00 \nПодробности и  \nрегистрация: \n8 915 128 55 04 — Анастасия
URL:https://d-fest.ru/event/business-network-%d0%be%d1%82-%d0%b6%d1%83%d1%80%d0%bd%d0%b0%d0%bb%d0%b0-hi-home-2/
LOCATION:«Каширский двор»\, Каширское ш.\, 19\, корп. 1\, Москва\, Russian Federation
CATEGORIES:Нетворкинг
ATTACH;FMTTYPE=image/jpeg:https://d-fest.ru/wp-content/uploads/2025/09/2025-09-10-17.54.54.jpg
END:VEVENT
BEGIN:VEVENT
DTSTART;TZID=UTC:20250911T180000
DTEND;TZID=UTC:20250911T213000
DTSTAMP:20260426T021918
CREATED:20250822T131333Z
LAST-MODIFIED:20250822T131333Z
UID:2133-1757613600-1757626200@d-fest.ru
SUMMARY:ОТКРЫТИЕ ПРЕДСТАВИТЕЛЬСТВА  КЛУБА СТРОИТЕЛЕЙ Новосибирск
DESCRIPTION:Федеральное бизнес-сообщество «Клуб Строителей» приглашает Вас принять участие в мероприятии\, которое состоится 11 сентября 2025 года \n\nБИЗНЕС-ФОРУМ С ЭКСПЕРТАМИ ПО ПРОДАЖАМ\, МАРКЕТИНГУ И ФИНАНСАМ\nПРЕЗЕНТАЦИЯ КЛУБА СТРОИТЕЛЕЙ\n\nНа одной площадке соберутся эксперты\, предприниматели и собственники\, чтобы в открытом и прикладном формате обсудить: \n\n\n\n\n\n\nКАК УСИЛИВАТЬ МАРКЕТИНГ И ПРОДАЖИ В СТРОИТЕЛЬНОЙ СФЕРЕ\n\n\n\n\nКАК ВЫСТРАИВАТЬ КОМАНДУ\, СИСТЕМУ И РАСТИ ЧЕРЕЗ ЦИФРЫ\n\n\n\n\nКАКИЕ РЕШЕНИЯ РАБОТАЮТ СЕГОДНЯ НА РЫНКЕ\, А КАКИЕ — УЖЕ НЕТ
URL:https://d-fest.ru/event/%d0%be%d1%82%d0%ba%d1%80%d1%8b%d1%82%d0%b8%d0%b5-%d0%bf%d1%80%d0%b5%d0%b4%d1%81%d1%82%d0%b0%d0%b2%d0%b8%d1%82%d0%b5%d0%bb%d1%8c%d1%81%d1%82%d0%b2%d0%b0-%d0%ba%d0%bb%d1%83%d0%b1%d0%b0-%d1%81%d1%82/
CATEGORIES:Нетворкинг,Презентация,Событие
ATTACH;FMTTYPE=image/png:https://d-fest.ru/wp-content/uploads/2025/08/Снимок-экрана-2025-08-22-в-16.08.41.png
END:VEVENT
END:VCALENDAR