BEGIN:VCALENDAR
VERSION:2.0
PRODID:-//Практики. DesignSpaces - ECPv6.11.2.1//NONSGML v1.0//EN
CALSCALE:GREGORIAN
METHOD:PUBLISH
X-ORIGINAL-URL:https://d-fest.ru
X-WR-CALDESC:Мероприятия для Практики. DesignSpaces
REFRESH-INTERVAL;VALUE=DURATION:PT1H
X-Robots-Tag:noindex
X-PUBLISHED-TTL:PT1H
BEGIN:VTIMEZONE
TZID:UTC
BEGIN:STANDARD
TZOFFSETFROM:+0000
TZOFFSETTO:+0000
TZNAME:UTC
DTSTART:20250101T000000
END:STANDARD
END:VTIMEZONE
BEGIN:VEVENT
DTSTART;TZID=UTC:20251008T150000
DTEND;TZID=UTC:20251008T230000
DTSTAMP:20260425T194536
CREATED:20250815T103443Z
LAST-MODIFIED:20250815T103443Z
UID:1991-1759935600-1759964400@d-fest.ru
SUMMARY:ARTDOM DESIGN TOUR 2025 СПБ
DESCRIPTION:ARTDOM DESIGN TOUR 2025 – серия мероприятий для дизайнеров\, декораторов и архитекторов \, которые пройдут в 8 городах России и СНГ в форматах лекций\, панельных дискуссий и вечеринок с трендсеттерами и экспертами индустрии. \nСанкт- Петербург \nЧто будет?\nКультурные мероприятия и презентация выставки ARTDOM на самых модных площадках городов с привлечением международных лидеров индустрии. \n1. Лекции от лидеров мнений /панельные дискуссии. Авторские подборки российских новинок\, в сочетании с мировыми трендами — коллекции и новинки 2025−2026\, привлечение локальных инфлюенсеров\, выступления иностранных спикеров.\n2. Презентация экосистемы ARTDOM. Выступления амбассадоров об итогах ARTDOM 2025 и о дальнейших планах и задачах \nДима Логинов — Предметный дизайнер\, член экспертного совета ARTDOM\nАнастасия Ромашкевич — Главный ex-редактор AD и автор канала «Ромашковый сбор»\nГабриэле Буратти -Архитектор и дизайнер\, сооснователь студии BURATTI ARCHITETTI\nТатьяна Белохина — Главный редактор медиа Interior+Design\nDraga & Aurel — Дизайнеры\, художники\, преподаватели\, перформеры \n3. Выступления партнеров \n4. Коктейль-вечеринка\, кофе-брейк\, нетворкинг \nВозможны изменения по выступлению спикеров. Регистрация на сайте.
URL:https://d-fest.ru/event/artdom-design-tour-2025-%d1%81%d0%bf%d0%b1/
CATEGORIES:Вечеринка,Выставка,Лекция,Нетворкинг,Презентация,Событие
ATTACH;FMTTYPE=image/jpeg:https://d-fest.ru/wp-content/uploads/2025/08/IMG_9294.jpg
END:VEVENT
BEGIN:VEVENT
DTSTART;TZID=UTC:20250904T100000
DTEND;TZID=UTC:20250906T200000
DTSTAMP:20260425T194536
CREATED:20250817T145250Z
LAST-MODIFIED:20250817T145250Z
UID:2013-1756980000-1757188800@d-fest.ru
SUMMARY:Дизайн Выставка & Design Party
DESCRIPTION:ИНТЕРЬЕРНЫЙ ПРОЕКТ ДИЗАЙН-ВЫСТАВКИ «4 УГЛА» на Made in Russia Expo \nДизайнВыставка&DesignParty  – это платформа для вовлеченных в сферу интерьерного дизайна профессионалов\, которая предоставляет новые возможности и решения для растущего рынка. В 2025 году проект расширяет свою представленность: появляются новые форматы и площадки. \n\nКонференция DesignParty – профессиональная деловая программа с ведущими экспертами рынка.\nИнтерьерный проект «4 угла» – интерьерные решения для жилых и общественных пространств.\nДизайнВыставка интерьерных предметов и архитектурных решений – яркая экспозиция мебели и предметов интерьера российских и иностранных брендов. Тимирязев центр\, Москва
URL:https://d-fest.ru/event/%d0%b4%d0%b8%d0%b7%d0%b0%d0%b9%d0%bd-%d0%b2%d1%8b%d1%81%d1%82%d0%b0%d0%b2%d0%ba%d0%b0-design-party-%d0%ba%d0%be%d0%bd%d1%84%d0%b5%d1%80%d0%b5%d0%bd%d1%86%d0%b8%d1%8f/
LOCATION:Тимирязев Центр\, Верхняя аллея\, 8\, Москва\, Russian Federation
CATEGORIES:Вечеринка,Выставка,Лекция,Событие
ATTACH;FMTTYPE=image/png:https://d-fest.ru/wp-content/uploads/2025/08/Снимок-экрана-2025-08-17-в-17.48.39.png
END:VEVENT
END:VCALENDAR