BEGIN:VCALENDAR
VERSION:2.0
PRODID:-//Практики. DesignSpaces - ECPv6.11.2.1//NONSGML v1.0//EN
CALSCALE:GREGORIAN
METHOD:PUBLISH
X-WR-CALNAME:Практики. DesignSpaces
X-ORIGINAL-URL:https://d-fest.ru
X-WR-CALDESC:Мероприятия для Практики. DesignSpaces
REFRESH-INTERVAL;VALUE=DURATION:PT1H
X-Robots-Tag:noindex
X-PUBLISHED-TTL:PT1H
BEGIN:VTIMEZONE
TZID:UTC
BEGIN:STANDARD
TZOFFSETFROM:+0000
TZOFFSETTO:+0000
TZNAME:UTC
DTSTART:20250101T000000
END:STANDARD
END:VTIMEZONE
BEGIN:VEVENT
DTSTART;TZID=UTC:20251009T100000
DTEND;TZID=UTC:20251028T170000
DTSTAMP:20260426T032839
CREATED:20251003T053713Z
LAST-MODIFIED:20251003T053755Z
UID:2269-1760004000-1761670800@d-fest.ru
SUMMARY:Трын*Трава. Современный русский стиль
DESCRIPTION:ИДЕЯ И ФИЛОСОФИЯ\n\n\n\nВ славянской мифологии «трын-трава» – волшебное растение\, которое трудно разыскать\, но если его добыть\, оно придает нашедшему невиданную силу и смелость. Мы выяснили\, что загадочным словом «трын» – на Руси называли чертополох. Это название сохранилось до сих пор у некоторых славянских народов. Один народ забыл\, а другой помнит. Чертополох во многих культурах является особо почитаемым растением\, а на Руси существовал даже день чертополоха. \nСтилизованное изображение чертополоха встречается у многих народах в оберегах и орнаментах\, поэтому именно он стал символом и логотипом выставки. Для нас это очень символично: русский стиль\, который мы показываем людям\, всегда был рядом\, но мы забыли его истинный смысл\, а теперь открываем заново\, поднимая на поверхность то общее\, что объединяет народы\, проживающие на территории России. \nРусский стиль – это что-то очень самобытное и родное\, но при этом неразрывно связанное с мировой культурой. Именно через русский стиль можно найти так необходимую сейчас общность и Трын*Трава помогает в этом. \n\n\n\n\n\nБилет взрослый — 600 рублей\nДети до 8 лет  — бесплатно\nСтуденты\, пенсионеры\, граждане с 8 до 18 лет — 350 рублей
URL:https://d-fest.ru/event/%d1%82%d1%80%d1%8b%d0%bd%d1%82%d1%80%d0%b0%d0%b2%d0%b0-%d1%81%d0%be%d0%b2%d1%80%d0%b5%d0%bc%d0%b5%d0%bd%d0%bd%d1%8b%d0%b9-%d1%80%d1%83%d1%81%d1%81%d0%ba%d0%b8%d0%b9-%d1%81%d1%82%d0%b8%d0%bb%d1%8c/
LOCATION:Музей-Усадьба Муравьевых-Апостолов\, Улица Старая Басманная\, дом 23/9\, стр.1\, Москва\, Russian Federation
CATEGORIES:Выставка
ATTACH;FMTTYPE=image/jpeg:https://d-fest.ru/wp-content/uploads/2025/10/vystavka_tryn_trava.jpg
END:VEVENT
BEGIN:VEVENT
DTSTART;TZID=UTC:20251021T100000
DTEND;TZID=UTC:20251024T180000
DTSTAMP:20260426T032839
CREATED:20250817T143104Z
LAST-MODIFIED:20250817T143104Z
UID:2009-1761040800-1761328800@d-fest.ru
SUMMARY:INTERLIGHT SMART CITY & HOME
DESCRIPTION:Международная выставка освещения\, электротехники и системных решений для умного города и дома. \n\nЛидирующий международный проект\, объединяющий профессионалов в области освещения\, автоматизации зданий\, умного города\, дома и систем безопасности со всего мира. На протяжении 30 лет существования выставка Interlight | Smart City & Home прошла долгий путь и стала точкой сбора профессионалов из разных сфер.\n\n\n\n\n\nINTERLIGHT\nТехническое освещение\nАрхитектурное освещение\nКомпоненты\nЭлектрические лампы\nПраздничное освещение\n\n\nSMART CITY & HOME\nУмный город\nУмный дом\nЭлектротехника\nАвтоматизация зданий\nИнтегрированные системы безопасности\n\n\nРегистрация на сайте
URL:https://d-fest.ru/event/interlight-smart-city-home/
LOCATION:Крокус Экспо\, 65–66 км МКАД\, станция «Мякинино»\, Москва\, Russian Federation
CATEGORIES:Выставка
ATTACH;FMTTYPE=image/png:https://d-fest.ru/wp-content/uploads/2025/08/od9v1irivwgvk6hmxk7btat3s9fd8brw.png
END:VEVENT
BEGIN:VEVENT
DTSTART;TZID=UTC:20251028T093000
DTEND;TZID=UTC:20251028T180000
DTSTAMP:20260426T032839
CREATED:20250908T191425Z
LAST-MODIFIED:20250908T192849Z
UID:2184-1761643800-1761674400@d-fest.ru
SUMMARY:Общестроительный Слёт в Нижнем Новгороде
DESCRIPTION:Первый Общестроительный Слёт в Нижнем Новгороде — это уникальный формат В2В встреч для мастеров и строителей.\nНа одной площадке соберутся производители и специалисты в сфере ремонтно-отделочных работ\, монтажники инженерных систем\, проектировщики\, дизайнеры среди которых профессионалы и начинающие мастера из разных регионов России. \nВ программе Слета конкурсы и мастер-классы от популярных блогеров-мастеров\, конкурс на целый день для каждого из посетителей.
URL:https://d-fest.ru/event/%d0%be%d0%b1%d1%89%d0%b5%d1%81%d1%82%d1%80%d0%be%d0%b8%d1%82%d0%b5%d0%bb%d1%8c%d0%bd%d1%8b%d0%b9-%d1%81%d0%bb%d1%91%d1%82-%d0%b2-%d0%bd%d0%b8%d0%b6%d0%bd%d0%b5%d0%bc-%d0%bd%d0%be%d0%b2%d0%b3%d0%be/
LOCATION:Ярмарка\, павильон №2\, Совнаркомовская ул.\, 13\, корп. 2\, Нижний Новгород\, Russian Federation
CATEGORIES:Встреча,Выставка,Конференция,Лекция
ATTACH;FMTTYPE=image/png:https://d-fest.ru/wp-content/uploads/2025/09/Снимок-экрана-2025-09-08-в-22.05.40-1.png
ORGANIZER;CN="%D0%98%D0%9F %D0%9A%D0%BE%D1%81%D0%BC%D1%8B%D0%BD%D0%B8%D0%BD %D0%90.%D0%95.":MAILTO:slet.media2021@gmail.com
END:VEVENT
BEGIN:VEVENT
DTSTART;TZID=UTC:20251028T120000
DTEND;TZID=UTC:20251101T180000
DTSTAMP:20260426T032839
CREATED:20250910T145046Z
LAST-MODIFIED:20250910T145046Z
UID:2200-1761652800-1762020000@d-fest.ru
SUMMARY:IDEM LA DOLCE VITA  DEL DESIGN
DESCRIPTION:28 ОКТЯБРЯ – 1 НОЯБРЯ \nНеделя Итальянского дизайна в Москве \nКреативное пространство Новый Манеж \n30 ИТАЛЬЯНСКИХ БРЕНДОВ И 5 ЭКСПЕРТА ИНДУСТРИИ: УЗНАЙТЕ ВСЕ О КОНЦЕПЦИИ MADE IN ITALY И ИННОВАЦИЯХ В ДИЗАЙНЕ.  \nIDEM ОБЪЕДИНЯЕТ ВЕДУЩИХ ЭКСПЕРТОВ И ТАЛАНТЛИВЫХ МЕЖДУНАРОДНЫХ ДИЗАЙНЕРОВ В ДИАЛОГЕ О БУДУЩЕМ ИНДУСТРИИ. \n\n\nРегистрация на сайте
URL:https://d-fest.ru/event/idem-la-dolce-vita-del-design/
LOCATION:Новый Манеж\, Георгиевский пер.\,3\, Москва\, Russian Federation
CATEGORIES:Выставка
ATTACH;FMTTYPE=image/png:https://d-fest.ru/wp-content/uploads/2025/09/Снимок-экрана-2025-09-10-в-17.43.36.png
END:VEVENT
BEGIN:VEVENT
DTSTART;TZID=UTC:20251029T100000
DTEND;TZID=UTC:20251030T200000
DTSTAMP:20260426T032839
CREATED:20250908T192629Z
LAST-MODIFIED:20250908T192629Z
UID:2191-1761732000-1761854400@d-fest.ru
SUMMARY:Design Build Expo 2025
DESCRIPTION:Международная специализированная выставка по дизайну интерьеров \nDecor Build Expo – это ведущее мероприятие в сфере дизайна интерьера и строительства\, предоставляющее уникальную возможность ознакомиться с новейшими трендами\, технологиями и материалами в этих областях.  Выставка объединит ведущих производителей\, дизайнеров и архитекторов\, предлагая обширный спектр экспонатов\, от мебели и отделочных материалов до инновационных строительных решений. \nВ рамках выставки будут проведены мастер-классы\, семинары\, презентации \nЭто отличная возможность для расширения профессиональных знаний\, установления деловых контактов и поиска вдохновения. \nВ рамках Design Build Expo архитекторы\, строители\, поставщики и производители объединяют усилия для создания оригинальных концепций стендов\, которые станут частью выставочной экспозиции форума. \nУчастникам предлагается разработать инновационные сценарии для различных сфер жизни — работы\, обучения\, отдыха\, покупок и развлечений — с учетом интересов нового поколения заказчиков. \nКаждый участник проекта получает официальный статус экспонента и возможность использовать Design Decor Expo как свое полноценное представительство\, пространство для встреч\, делового и неформального общения \nТематика стендов \n\nОфисные пространства\n\nОфисы и отдельные офисные зоны\nКоворкинги\, лаунджи\, тайм-кафе\n\n\n\n\nЖилые и гостиничные объекты\n\nОтели\nЖилые пространства\n\n\n\n\nГородская среда и ландшафт\n\nЛандшафтный дизайн\nБлагоустройство городского типа\n\n\n\n\nИнтерьеры\n\nДизайнерские решения для спален\, кухонь\, гостиных\, ванных комнат
URL:https://d-fest.ru/event/design-build-expo-2025/
LOCATION:Севкабель Порт\, Севкабель Порт\, Цех\, Кожевенная линия\, 40б\,\, Санкт-Петербург\, Russian Federation
CATEGORIES:Выставка
ATTACH;FMTTYPE=image/png:https://d-fest.ru/wp-content/uploads/2025/09/Снимок-экрана-2025-09-08-в-22.25.31.png
END:VEVENT
BEGIN:VEVENT
DTSTART;TZID=UTC:20251211T100000
DTEND;TZID=UTC:20251214T200000
DTSTAMP:20260426T032839
CREATED:20251003T054725Z
LAST-MODIFIED:20251003T055337Z
UID:2277-1765447200-1765742400@d-fest.ru
SUMMARY:Московская неделя  интерьера и дизайна
DESCRIPTION:МОСКВА – СТОЛИЦА ДИЗАЙНА \nКонцепция посвящена демонстрации мощи и потенциала отечественного дизайна\, который получил новое дыхание и развитие в последние год. Через образ «красной нити» вставка подчеркивает непрерывность развития российского дизайна\, его влияние на международные тенденции и признание Москв как мировой столци дизайна. \n 
URL:https://d-fest.ru/event/%d0%bc%d0%be%d1%81%d0%ba%d0%be%d0%b2%d1%81%d0%ba%d0%b0%d1%8f-%d0%bd%d0%b5%d0%b4%d0%b5%d0%bb%d1%8f-%d0%b8%d0%bd%d1%82%d0%b5%d1%80%d1%8c%d0%b5%d1%80%d0%b0-%d0%b8-%d0%b4%d0%b8%d0%b7%d0%b0%d0%b9/
LOCATION:ВДНХ\, проспект Мира\, 119\, Москва\, Russian Federation
CATEGORIES:Выставка
ATTACH;FMTTYPE=image/jpeg:https://d-fest.ru/wp-content/uploads/2025/10/scale_1200-1.jpeg
END:VEVENT
BEGIN:VEVENT
DTSTART;TZID=UTC:20260115T100000
DTEND;TZID=UTC:20260119T180000
DTSTAMP:20260426T032839
CREATED:20251008T182238Z
LAST-MODIFIED:20260104T130706Z
UID:2337-1768471200-1768845600@d-fest.ru
SUMMARY:Maison & Objet Paris (M&O) Autumn 2026 - международный салон интерьерного дизайна\, предметов декора и подарков
DESCRIPTION:Дизайн отталкивается от своих корней\, чтобы подняться выше . \nНа стыке необработанного материала и современной формы рождается тихая сила. Мебель — это уже не просто череда предметов: она становится продолжением знания\, ремесла\, памяти. То\, что исходит от неё\, выходит за рамки эстетики: это аура\, дыхание\, след прошлого\, перенесённый в будущее. Каждое творение принадлежит органической непрерывности\, медленному\, воплощённому преобразованию. \nMaison&Objet делает акцент на живом дизайне: каждый предмет несет в себе отпечаток создаваемой истории.
URL:https://d-fest.ru/event/maison-objet-paris-mo-autumn-2026-%d0%bc%d0%b5%d0%b6%d0%b4%d1%83%d0%bd%d0%b0%d1%80%d0%be%d0%b4%d0%bd%d1%8b%d0%b9-%d1%81%d0%b0%d0%bb%d0%be%d0%bd-%d0%b8%d0%bd%d1%82%d0%b5%d1%80%d1%8c%d0%b5%d1%80/
LOCATION:Paris Nord Villepinte\, Nord 2 93420 Villepinte\, Paris
CATEGORIES:Выставка
ATTACH;FMTTYPE=image/png:https://d-fest.ru/wp-content/uploads/2025/10/Снимок-экрана-2026-01-04-в-15.54.33.png
END:VEVENT
BEGIN:VEVENT
DTSTART;TZID=UTC:20260127T100000
DTEND;TZID=UTC:20260131T180000
DTSTAMP:20260426T032840
CREATED:20251008T150037Z
LAST-MODIFIED:20260104T131031Z
UID:2320-1769508000-1769882400@d-fest.ru
SUMMARY:Istanbul Furniture Fair 2026
DESCRIPTION:Выставка мебели для дома и офиса \nВыставка Istanbul Furniture Fair 2026 проводится c 27 по 31 января в городе Стамбул\, Турция. \nМеждународная мебельная выставка IIFF2026 в Стамбуле — крупнейшее отраслевое мероприятие\, объединяющее все группы товаров мебельной промышленности\, знакомящее мир с турецкой мебелью. Выставка проводится одновременно в 2 выставочных зонах и предоставляет участникам возможность пообщаться с профессионалами из более чем 150 стран.
URL:https://d-fest.ru/event/istanbul-furniture-fair-2026/
CATEGORIES:Выставка
ATTACH;FMTTYPE=image/png:https://d-fest.ru/wp-content/uploads/2025/10/Снимок-экрана-2026-01-04-в-16.08.34.png
END:VEVENT
BEGIN:VEVENT
DTSTART;TZID=UTC:20260210T100000
DTEND;TZID=UTC:20260213T180000
DTSTAMP:20260426T032840
CREATED:20251015T112410Z
LAST-MODIFIED:20260106T122002Z
UID:2363-1770717600-1771005600@d-fest.ru
SUMMARY:"СИБИРСКАЯ СТРОИТЕЛЬНАЯ НЕДЕЛЯ" НОВОСИБИРСК
DESCRIPTION:ВЫСТАВКА в Новосибирске 10-13 Февраля 2026\n\n\n\nВся информация на сайте
URL:https://d-fest.ru/event/%d1%81%d0%b8%d0%b1%d0%b8%d1%80%d1%81%d0%ba%d0%b0%d1%8f-%d1%81%d1%82%d1%80%d0%be%d0%b8%d1%82%d0%b5%d0%bb%d1%8c%d0%bd%d0%b0%d1%8f-%d0%bd%d0%b5%d0%b4%d0%b5%d0%bb%d1%8f-%d0%bd%d0%be%d0%b2%d0%be%d1%81/
CATEGORIES:Выставка
ATTACH;FMTTYPE=image/jpeg:https://d-fest.ru/wp-content/uploads/2025/10/50406dc9-d3d7-458c-ae72-623723b7714b.jpg
END:VEVENT
BEGIN:VEVENT
DTSTART;TZID=UTC:20260219T100000
DTEND;TZID=UTC:20260221T183000
DTSTAMP:20260426T032840
CREATED:20251008T110354Z
LAST-MODIFIED:20260105T133322Z
UID:2307-1771495200-1771698600@d-fest.ru
SUMMARY:ARTDOM 2026
DESCRIPTION:МЕЖДУНАРОДНАЯ ВЫСТАВКА МЕБЕЛИ\, ИНТЕРЬЕРНЫХ РЕШЕНИЙ И ИСКУССТВА\n \n\n\nARTDOM— это главное событие интерьерной моды\, которое собирает мировые и локальные мебельные фабрики\, лидеров и экспертов индустрии дизайна.\n\n\n\nВыставка и группа проектов ARTDOM — это международное комьюнити брендов индустрии дизайна и искусства\, интерьерных дизайнеров\, художников и архитекторов\, собирающее и формирующее тренды\, что окружают нас сейчас и будут окружать в будущем.\n\n\n\nКаждый год мы открываем новый художественный сезон глобальной выставкой интерьерного дизайна и искусства\, задавая его сакральную тему. Тема декларации внутренней свободы\, собственного стиля для каждого пройдет красной нитью через все событие и связанные с ним активности.Наша цель не просто связывать мировые бренды с дизайнерами\, производителей с байерами. Нам важно давать постоянный рост заказов фабрикам и бюро\, чтобы мир не переставал становиться прекраснее и свободнее. \n\n\n\nDESIGN WEEK:\nПРЕМЬЕРЫ И ЗАКРЫТЫЕ ПОКАЗЫ В ШОУРУМАХ\, ГАЛЕРЕЯХ\, МУЗЕЯХ ГОРОДА \n\n\n\nSELECT:\nОНЛАЙН-ПЛАТФОРМА ПО ПРОДАЖЕ ПРЕДМЕТОВ МЕБЕЛИ\, ДЕКОРА\, ОТДЕЛКИ И ИСКУССТВА\n\n\nPROMOTION:\nPR-ПОДДЕРЖКА И ОТРАСЛЕВОЙ КОНСАЛТИНГ БРЕНДОВ\n\n\nEDUCATION: ЭКСПЕРТНЫЙ КОНТЕНТ ОТ ЛИДЕРОВ ОТРАСЛИ\, ВЫСТУПЛЕНИЯ\, ЛЕКЦИИ И ДИСКУССИИ\n\n\nCONTESTS & GRANTS: ПРОГРАММА ПОДДЕРЖКИ И ПРОДВИЖЕНИЯ ТАЛАНТЛИВЫХ ДИЗАЙНЕРОВ\n\n\nDEVELOPMENT & DESIGN FORUM: СОТРУДНИЧЕСТВО И ПРОЕКТЫ С ВЕДУЩИМИ ДЕВЕЛОПЕРАМИ ИНДУСТРИИ.
URL:https://d-fest.ru/event/artdom-2026/
LOCATION:Крокус Экспо\, 65–66 км МКАД\, станция «Мякинино»\, Москва\, Russian Federation
CATEGORIES:Выставка
ATTACH;FMTTYPE=image/jpeg:https://d-fest.ru/wp-content/uploads/2025/10/DSC01727.jpg
END:VEVENT
BEGIN:VEVENT
DTSTART;TZID=UTC:20260315T100000
DTEND;TZID=UTC:20260319T183000
DTSTAMP:20260426T032840
CREATED:20251008T153408Z
LAST-MODIFIED:20251008T153408Z
UID:2329-1773568800-1773945000@d-fest.ru
SUMMARY:International Famous Furniture Fair (Dongguan) 2026
DESCRIPTION:Одна из крупнейших международных выставок мебели в Китае. \nОна объединяет профессионалов отрасли\, производителей\, розничных торговцев\, дизайнеров\, импортеров и поставщиков. \n5 дней торговли и выставок для поддержания актуальности вашего бизнеса и перспектив.
URL:https://d-fest.ru/event/international-famous-furniture-fair-dongguan-2026/
CATEGORIES:Выставка
ATTACH;FMTTYPE=image/png:https://d-fest.ru/wp-content/uploads/2025/10/Снимок-экрана-2025-10-08-в-18.25.01.png
END:VEVENT
BEGIN:VEVENT
DTSTART;TZID=UTC:20260331T100000
DTEND;TZID=UTC:20260403T180000
DTSTAMP:20260426T032840
CREATED:20251008T110937Z
LAST-MODIFIED:20260104T145127Z
UID:2311-1774951200-1775239200@d-fest.ru
SUMMARY:MosBuild 2026
DESCRIPTION:Крупнейшая международная строительно-интерьерная выставка в России\, СНГ и Восточной Европе\n1 000+ ведущих компаний из 20 стран мира\nВ выставке MosBuild принимают участие производители и поставщики строительных и отделочных материалов\, сантехники\, светотехники\, оконных технологий\, мебели и предметов интерьера из России и других стран мира. Участники представляют материалы и решения для каждого этапа возведения зданий: строительства\, отделки\, ремонта и декорирования.
URL:https://d-fest.ru/event/mosbuild-2026/
LOCATION:Крокус Экспо\, 65–66 км МКАД\, станция «Мякинино»\, Москва\, Russian Federation
CATEGORIES:Выставка
ATTACH;FMTTYPE=image/jpeg:https://d-fest.ru/wp-content/uploads/2025/10/392_A5807_304f3028e9.jpg
END:VEVENT
BEGIN:VEVENT
DTSTART;TZID=UTC:20260519T100000
DTEND;TZID=UTC:20260521T180000
DTSTAMP:20260426T032840
CREATED:20251008T150731Z
LAST-MODIFIED:20251008T150731Z
UID:2323-1779184800-1779386400@d-fest.ru
SUMMARY:Строительство 2026 - Уральская выставка-форум
DESCRIPTION:Объединяем все направления индустрии на одной площадке.\n\n\n\n\n\nСтроительные\, отделочные материалы\n\n\n\n\n\n\n\n\n\nИнструменты\n\n\n\n\n\n\n\n\n\nФасадные и кровельные системы\n\n\n\n\n\n\n\n\n\nДвери\, перегородки лестницы\n\n\n\n\n\n\n\n\n\nБани\, бассейны\, заборы\, гаражные решения\n\n\n\n\n\n\n\n\n\nТехнологии «умного дома»\n\n\n\n\n\n\n\n\n\nФасадный и интерьерный декор\n\n\n\n\n\n\n\n\n\nСистемы отопления\, водоснабжения\, электроснабжения\n\n\n\n\n\n\n\n\n\nДвери\, перегородки лестницы
URL:https://d-fest.ru/event/%d1%81%d1%82%d1%80%d0%be%d0%b8%d1%82%d0%b5%d0%bb%d1%8c%d1%81%d1%82%d0%b2%d0%be-2026-%d1%83%d1%80%d0%b0%d0%bb%d1%8c%d1%81%d0%ba%d0%b0%d1%8f-%d0%b2%d1%8b%d1%81%d1%82%d0%b0%d0%b2%d0%ba%d0%b0-%d1%84/
CATEGORIES:Выставка,Форум
ATTACH;FMTTYPE=image/png:https://d-fest.ru/wp-content/uploads/2025/10/Снимок-экрана-2025-10-08-в-18.04.23.png
END:VEVENT
BEGIN:VEVENT
DTSTART;TZID=UTC:20260602T100000
DTEND;TZID=UTC:20260604T180000
DTSTAMP:20260426T032840
CREATED:20251008T151501Z
LAST-MODIFIED:20251008T151501Z
UID:2326-1780394400-1780596000@d-fest.ru
SUMMARY:Index Dubai 2026 - фестиваль дизайна интерьера
DESCRIPTION:Экспонируемые продукты: \nТовары для дома\nДизайн интерьера\nПредметы декора и мебель\nКерамические\, стекольные и деревянные изделия\nСтоловые принадлежности\nОсветительные приборы
URL:https://d-fest.ru/event/index-dubai-2026-%d1%84%d0%b5%d1%81%d1%82%d0%b8%d0%b2%d0%b0%d0%bb%d1%8c-%d0%b4%d0%b8%d0%b7%d0%b0%d0%b9%d0%bd%d0%b0-%d0%b8%d0%bd%d1%82%d0%b5%d1%80%d1%8c%d0%b5%d1%80%d0%b0/
CATEGORIES:Выставка
ATTACH;FMTTYPE=image/png:https://d-fest.ru/wp-content/uploads/2025/10/Снимок-экрана-2025-10-08-в-18.10.35.png
END:VEVENT
END:VCALENDAR