BEGIN:VCALENDAR
VERSION:2.0
PRODID:-//Практики. DesignSpaces - ECPv6.11.2.1//NONSGML v1.0//EN
CALSCALE:GREGORIAN
METHOD:PUBLISH
X-ORIGINAL-URL:https://d-fest.ru
X-WR-CALDESC:Мероприятия для Практики. DesignSpaces
REFRESH-INTERVAL;VALUE=DURATION:PT1H
X-Robots-Tag:noindex
X-PUBLISHED-TTL:PT1H
BEGIN:VTIMEZONE
TZID:UTC
BEGIN:STANDARD
TZOFFSETFROM:+0000
TZOFFSETTO:+0000
TZNAME:UTC
DTSTART:20250101T000000
END:STANDARD
END:VTIMEZONE
BEGIN:VEVENT
DTSTART;TZID=UTC:20250827T120000
DTEND;TZID=UTC:20250827T140000
DTSTAMP:20260426T040028
CREATED:20250815T091258Z
LAST-MODIFIED:20250815T091258Z
UID:1940-1756296000-1756303200@d-fest.ru
SUMMARY:Орнамент в интерьере — как не перегрузить пространство и говорить узором
DESCRIPTION:Разбираем орнамент в интерьере: как выбрать\, сочетать\, не перегрузить. Психология восприятия узоров\, типичные ошибки и современные приёмы. Полезно для дизайнеров\, декораторов и всех\, кто работает с текстилем. Онлайн + офлайн.  \nСпикер: Юлия Аббасова — текстильный дизайнер\, владелица шоу рума по пошиву штор\, преподаватель и консультант \nО чём поговорим:\n— Как орнамент влияет на восприятие пространства\n— Психология узоров: когда меньше — значит больше\n— Ошибки в работе с орнаментом и как их избежать\n— Тренды 2025 года: что в моде и как применять\n— Комбинации с однотонным текстилем\, цветом и фактурой\n— Где искать вдохновение и как не копировать\n— Практические примеры из проектов \nПочему стоит прийти:\n— Узнаете\, как работать с узорами и при этом не перегружать интерьер\n— Получите советы по подбору орнамента под задачи клиента\n— Сможете использовать полученные знания в проектах сразу\n— Поймёте\, как говорить на языке узора и создавать настроение через ткань \nКоличество мест ограничено. Обязательно зарегистрируйтесь.\nМосква\, Большой Коптевский проезд\, д. 3\, стр. 1 (м. Аэропорт)
URL:https://d-fest.ru/event/%d0%be%d1%80%d0%bd%d0%b0%d0%bc%d0%b5%d0%bd%d1%82-%d0%b2-%d0%b8%d0%bd%d1%82%d0%b5%d1%80%d1%8c%d0%b5%d1%80%d0%b5/
LOCATION:Большой Коптевский проезд\, д. 3\, стр. 1\, Большой Коптевский проезд\, д. 3\, стр. 1 (м. Аэропорт)\, Москва\, Russian Federation
CATEGORIES:Лекция
ATTACH;FMTTYPE=image/png:https://d-fest.ru/wp-content/uploads/2025/08/IMG_9285.png
END:VEVENT
BEGIN:VEVENT
DTSTART;TZID=UTC:20250822T140000
DTEND;TZID=UTC:20250823T040000
DTSTAMP:20260426T040028
CREATED:20250815T090131Z
LAST-MODIFIED:20250815T090131Z
UID:1930-1755871200-1755921600@d-fest.ru
SUMMARY:Артбалкон 2025 — фестиваль дизайна\, архитектуры и счастья
DESCRIPTION:Артбалкон — это ключевое событие лета для архитекторов\, дизайнеров\, предпринимателей и всех\, кто работает с креативными идеями. Здесь вы найдёте вдохновение\, новые знания и полезные знакомства в живой\, дружелюбной атмосфере. \nТема 2025 года: Счастье как фундамент \nКак строить бизнес\, проекты и жизнь с опорой на радость и смысл? \nПрограмма фестиваля и зоны: \nАртбалкон — открытая площадка (1200 м²\, 2 этаж Artplay) \n14:00–23:00 \nЛёгкие и вдохновляющие лекции\, стендапы и живые диалоги на пересечении дизайна\, бизнеса и личного роста. \nDJ-сеты\, архитектурное световое оформление\, фудкорт и бар. \nМастер-класс по флористике от ребят из Дикий Base и другие творческие активности. \nArtplay Media — территория будущего мышления \n16:00–22:00 \nПод кураторством Андрея Киселёва и проекта Sintez Space — глубокие выступления о цифровом искусстве\, искусственном интеллекте\, нейросетях и архитектуре будущего. \nВнутренний двор Artplay — Afterparty \n21:00–03:00 \nУютное пространство с коврами и огоньками\, где можно расслабиться\, потанцевать и пообщаться под вечернюю музыку. \nЗакрытая партнёрская зона \nПространство с брендированным баром\, кейтерингом и зонами отдыха для нетворкинга и комфортного общения с профессионалами индустрии. \nВход свободный — регистрация обязательна \nМеста ограничены — зарегистрируйтесь прямо сейчас\, чтобы гарантировать себе место на фестивале. \nПодробнее о проекте — artbalkon.space \nЖдём вас на Артбалконе — месте\, где рождаются идеи и строится будущее дизайна и архитектуры! \n22 августа | Artplay
URL:https://d-fest.ru/event/%d0%b0%d1%80%d1%82%d0%b1%d0%b0%d0%bb%d0%ba%d0%be%d0%bd-2025-%d1%84%d0%b5%d1%81%d1%82%d0%b8%d0%b2%d0%b0%d0%bb%d1%8c-%d0%b4%d0%b8%d0%b7%d0%b0%d0%b9%d0%bd%d0%b0-%d0%b0%d1%80%d1%85%d0%b8%d1%82/
LOCATION:Центр дизайна ARTPLAY\, Нижняя Сыромятническая ул.\, 10\, стр. 2\, Москва\, Russian Federation
CATEGORIES:Конференция,Лекция,Нетворкинг,Презентация,Семинар,Событие
ATTACH;FMTTYPE=image/jpeg:https://d-fest.ru/wp-content/uploads/2025/08/IMG_9284.jpg
END:VEVENT
BEGIN:VEVENT
DTSTART;TZID=UTC:20250822T130000
DTEND;TZID=UTC:20250822T150000
DTSTAMP:20260426T040028
CREATED:20250814T152123Z
LAST-MODIFIED:20250814T152123Z
UID:1897-1755867600-1755874800@d-fest.ru
SUMMARY:Древесина и натуральные материалы в современном интерьере
DESCRIPTION:WOOODSTOCK Семинар-презентация «Древесина и натуральные материалы в современном интерьере» \nЧто узнают Вы и ваши коллеги на семинаре:\n— Возможности исключения ошибок при выборе и согласовании древесины на проект\n— Способы комплексного сопровождения и защиты проектов\n— Приемы точной реализации отделки с древесиной\, как на 3D-визуализации и утвержденном заказчиком образце\n— Новинки в натуральных отделочных материалах на нашем рынке\n— Полезные  для дизайнеров\, руководителей проектов\, архитекторов и производителей фишки инструменты. Бюджет\, экономия и выгодное предложение заказчикам.\n— Виды\, свойства и ассортимент древесины\n— Области и способы  применения натуральных материалов в современном интерьере \nСанкт-Петербург\, улица Салова дом 57 корпус 5 строение 6
URL:https://d-fest.ru/event/%d0%b4%d1%80%d0%b5%d0%b2%d0%b5%d1%81%d0%b8%d0%bd%d0%b0-%d0%b8-%d0%bd%d0%b0%d1%82%d1%83%d1%80%d0%b0%d0%bb%d1%8c%d0%bd%d1%8b%d0%b5-%d0%bc%d0%b0%d1%82%d0%b5%d1%80%d0%b8%d0%b0%d0%bb%d1%8b-%d0%b8%d0%bd/
LOCATION:улица Салова дом 57 корпус 5 строение 6\, улица Салова дом 57 корпус 5 строение 6\, Санкт-Петербург\, Russian Federation
CATEGORIES:Семинар
ATTACH;FMTTYPE=image/png:https://d-fest.ru/wp-content/uploads/2025/08/IMG_9275.png
END:VEVENT
BEGIN:VEVENT
DTSTART;TZID=UTC:20250821T183000
DTEND;TZID=UTC:20250821T210000
DTSTAMP:20260426T040028
CREATED:20250820T111617Z
LAST-MODIFIED:20250820T111617Z
UID:2099-1755801000-1755810000@d-fest.ru
SUMMARY:ОЦИФРОВКА ОБЪЕКТОВ НЕДВИЖИМОСТИ. КАК ОПРЕДЕЛИТЬ ТОЧНЫЙ ДЕНЬ ПРОДАЖИ ОБЪЕКТА
DESCRIPTION:1 августа в 18:30 в Санкт-Петербурге пройдет встреча с экспертом недвижимости  — Денисом Малыхиным \nОснователь сервиса «Личный помощник»\, руководитель агентства «Центр Вторичного Жилья» и партнёр Bitrix24. Входит в ТОП-13 агентств по версии ЦИАН и «Серебряный партнёр» Сбера. \nЧто обсудим на встрече: \n▪️Цифровые инструменты для управления объектами \n▪️Методы точного прогнозирования продаж \n▪️Секреты аналитики рынка недвижимости
URL:https://d-fest.ru/event/%d0%be%d1%86%d0%b8%d1%84%d1%80%d0%be%d0%b2%d0%ba%d0%b0-%d0%be%d0%b1%d1%8a%d0%b5%d0%ba%d1%82%d0%be%d0%b2-%d0%bd%d0%b5%d0%b4%d0%b2%d0%b8%d0%b6%d0%b8%d0%bc%d0%be%d1%81%d1%82%d0%b8-%d0%ba%d0%b0%d0%ba/
CATEGORIES:Лекция
ATTACH;FMTTYPE=image/png:https://d-fest.ru/wp-content/uploads/2025/08/Снимок-экрана-2025-08-20-в-14.14.24.png
END:VEVENT
BEGIN:VEVENT
DTSTART;TZID=UTC:20250821T170000
DTEND;TZID=UTC:20250821T210000
DTSTAMP:20260426T040028
CREATED:20250814T102004Z
LAST-MODIFIED:20250814T102004Z
UID:1843-1755795600-1755810000@d-fest.ru
SUMMARY:Презентация «Палантир 2.0»
DESCRIPTION:Северная столица!  \nСостоится презентация посвященная проведенному в нем рестайлингу. \n Мероприятие объединит все лучшее из двух столиц:  \n— из Москвы приедет известный архитектор Михаил Новинский — Член Союза Архитекторов России\, победитель международных премий и основатель дизайн-бюро MNdesighn.  \nА также\, генеральные партнеры: мультибрендовый поставщик техники и сантехники «ТехникаОптом»\, краски премиум сегмента Majestic\, представлять мебель будет Fanakov’s и другие гости\, не станем раскрывать все карты сразу.  \n  \nВ программе:  \n17:00 — welcome drink\, чайная церемония  \n17:45 — Михаил Новинский «Интерьер как материализация внутреннего мира заказчика средствами архитектуры и дизайна»  \n19:30 — выступление секретного гостя  \n20:00 — фуршет\, живая музыка  \n  \nВ течение вечера — розыгрыш знаковых подарков от партнеров. \n  \nСанкт-Петербург\, Московский пр-т\, 106
URL:https://d-fest.ru/event/%d0%bf%d1%80%d0%b5%d0%b7%d0%b5%d0%bd%d1%82%d0%b0%d1%86%d0%b8%d1%8f-%d0%bf%d0%b0%d0%bb%d0%b0%d0%bd%d1%82%d0%b8%d1%80-2-0/
LOCATION:Палантир\, Московский пр-т\, 106\, Санкт-Петербург\, Russian Federation
CATEGORIES:Презентация
ATTACH;FMTTYPE=image/jpeg:https://d-fest.ru/wp-content/uploads/2025/08/IMG_9257.jpg
END:VEVENT
BEGIN:VEVENT
DTSTART;TZID=UTC:20250820T120000
DTEND;TZID=UTC:20250820T143000
DTSTAMP:20260426T040028
CREATED:20250814T151125Z
LAST-MODIFIED:20250814T151125Z
UID:1888-1755691200-1755700200@d-fest.ru
SUMMARY:Безопасный текстиль: всё о негорючих тканях в интерьере
DESCRIPTION:Лекция о негорючих тканях в интерьере\nУзнайте\, как работать с тканями\, соответствующими требованиям пожарной безопасности\, какие существуют стандарты (FR\, M1\, B1\, Trevira CS)\, что они значат и где действительно нужны. Плюс — живой краш-тест: как ткани реагируют на огонь и тепло. \nСпикер:\nЮлия Аббасова — практикующий текстильный дизайнер\, владелица собственного шоу рума по пошиву штор Harmony. Более 18 лет работает с текстилем для интерьеров\, знает рынок изнутри и делится только тем\, что проверено на практике. \nТемы лекции:\n— Какие ткани считаются негорючими и в чём разница между ними\n— Обозначения и стандарты: как расшифровать FR\, M1\, B1\, Trevira CS\n— Где обязательна негорючесть: дома\, рестораны\, отели\, шоурумы\n— Маркетинг vs реальность: на что ведутся дизайнеры\n— Краш-тест тканей вживую: огонь\, нагрев\, реакции\n— Как выбирать поставщиков и оформлять проектную документацию\n— Можно ли совместить безопасность\, эстетику и комфорт \nПодходит для:\n— Дизайнеров интерьера\n— Архитекторов\n— Декораторов\n— Менеджеров интерьерных студий\n— Всех\, кто работает с текстилем или хочет внедрить его грамотно и безопасно \nОсобенность лекции: всё покажем вживую!\nТкани пройдут краш-тест прямо на ваших глазах — вы увидите\, как ведут себя материалы в реальных условиях и точно не ошибётесь в следующих проектах. \nКоличество мест ограничено. Обязательно зарегистрируйтесь.\nМосква\, Большой Коптевский проезд\, д. 3\, стр. 1 (м. Аэропорт)
URL:https://d-fest.ru/event/%d0%b1%d0%b5%d0%b7%d0%be%d0%bf%d0%b0%d1%81%d0%bd%d1%8b%d0%b9-%d1%82%d0%b5%d0%ba%d1%81%d1%82%d0%b8%d0%bb%d1%8c-%d0%b8%d0%bd%d1%82%d0%b5%d1%80%d1%8c%d0%b5%d1%80/
LOCATION:Большой Коптевский проезд\, д. 3\, стр. 1\, Большой Коптевский проезд\, д. 3\, стр. 1 (м. Аэропорт)\, Москва\, Russian Federation
CATEGORIES:Лекция
ATTACH;FMTTYPE=image/png:https://d-fest.ru/wp-content/uploads/2025/08/IMG_9274.png
END:VEVENT
BEGIN:VEVENT
DTSTART;TZID=UTC:20250820T110000
DTEND;TZID=UTC:20250820T150000
DTSTAMP:20260426T040028
CREATED:20250814T145141Z
LAST-MODIFIED:20250814T145141Z
UID:1866-1755687600-1755702000@d-fest.ru
SUMMARY:Business Network от журнала Hi home
DESCRIPTION:Экспресс-знакомства (Speed Business Dating) дизайнеров и поставщиков .\nМероприятие будет интересно производителям\, поставщикам товаров и услуг для интерьеров\, дизайнерам и архитекторам. \nПроизводители представят новинки и ключевые коллекции.\nРасскажут о текущих выгодных предложениях и условиях сотрудничества.\nВыслушают запросы и сформируют перспективы для совместных проектов.\nСможете найти новых надежных партнеров. \nПосле основной части (12:30-14:30) вас ждет блок неформального нетворкинга (14:30-16:00) за фуршетом для закрепления контактов и углубления бесед. \nДля участия в мероприятии необходима предварительная регистрация. 
URL:https://d-fest.ru/event/business-network-%d0%be%d1%82-%d0%b6%d1%83%d1%80%d0%bd%d0%b0%d0%bb%d0%b0-hi-home/
LOCATION:Hi home\, Санкт-Петербург\, Russian Federation
CATEGORIES:Нетворкинг
ATTACH;FMTTYPE=image/jpeg:https://d-fest.ru/wp-content/uploads/2025/08/IMG_9271.jpg
END:VEVENT
BEGIN:VEVENT
DTSTART;TZID=UTC:20250819T180000
DTEND;TZID=UTC:20250819T193000
DTSTAMP:20260426T040028
CREATED:20250814T143931Z
LAST-MODIFIED:20250814T143931Z
UID:1861-1755626400-1755631800@d-fest.ru
SUMMARY:Лидогенерация. Как дизайнеру выстроить стабильный поток клиентов и сильную команду?
DESCRIPTION:Лекция Юлии Аббасовой\, «Лидогенерация в дизайн индустрии» \nНа лекции Юлия Аббасова поделится личными кейсами и инструментами\, которые помогли ей выстроить систему лидогенерации\, эффективного найма и масштабировать студию без выгорания. \n— Где искать клиентов в 2025 году: актуальные и нестандартные каналы\n— Как превратить поток заявок в реальные продажи: ошибки и лайфхаки\n— Воронка продаж для дизайнеров: как не терять клиентов на этапе переписки\n— Личный бренд как магнит: где и как «светиться» без выгорания\n— Как выстраивать команду «под себя»: найм\, делегирование\, управление\n— Почему некоторые дизайнеры не растут — и как это изменить\n— Как выйти из операционки и начать мыслить как предприниматель \nЮлия Аббасова — основатель студии текстильного дизайна Harmony с 18-летним опытом и успешным предпринимателем в сфере текстиля\, флористики и недвижимости. За последний год она помогла более 20 предпринимателям увеличить оборот с 300 тыс. до 1\,5 млн рублей за 3 месяца.\nСреди проектов — оформление частного интерьера для клиента из списка Forbes\, гостиничный комплекс «Москино»\, зал заседаний Правительства Рязанской области.\nЮлия — эксперт с практическим опытом и стратегическим мышлением. \nРегистрация по тел: 8 967 247 22 24\, Наталья
URL:https://d-fest.ru/event/%d0%bb%d0%b8%d0%b4%d0%be%d0%b3%d0%b5%d0%bd%d0%b5%d1%80%d0%b0%d1%86%d0%b8%d1%8f-%d0%b4%d0%b8%d0%b7%d0%b0%d0%b9%d0%bd-%d0%ba%d0%bb%d0%b8%d0%b5%d0%bd%d1%82%d1%8b/
LOCATION:Сретенский бульвар\, д.6/1\, стр.1\, 1 подъезд\, 1 этаж\, Сретенский бульвар\, д.6/1\, стр.1\, 1 подъезд\, 1 этаж\, Москва\, Russian Federation
CATEGORIES:Лекция
ATTACH;FMTTYPE=image/png:https://d-fest.ru/wp-content/uploads/2025/08/IMG_9269.png
END:VEVENT
BEGIN:VEVENT
DTSTART;TZID=UTC:20250819T174500
DTEND;TZID=UTC:20250819T200000
DTSTAMP:20260426T040028
CREATED:20250814T110058Z
LAST-MODIFIED:20250814T193810Z
UID:1850-1755625500-1755633600@d-fest.ru
SUMMARY:Круглый стол: «Дизайн в международном контексте» Архдиалог
DESCRIPTION:Приглашаем вас принять участие в уникальном круглом столе\, где ведущие дизайнеры из Европы\, Китая и ОАЭ поделятся своими секретами успеха на международных рынках. Объединяем опыт ведущих дизайнеров интерьера со всего мира!\nКлючевые темы обсуждения: \n\nКультурные коды в современном дизайне\nАдаптация проектов под разные рынки\nРабота с международными заказчиками\nОсобенности ценообразования в разных странах\nСекреты создания универсальных проектов\nОсобенности работы с материалами в разных странах\nЭкологические стандарты в международном дизайне\nОтветы на вопросы участников                                 Для кого будет интересно мероприятие:\n\nДизайнеров интерьера\, желающих расширить географию работы\nВладельцев дизайн-студий\nСпециалистов\, планирующих выход на международный рынок\nПрофессионалов\, интересующихся глобальными трендами\n\nСпикеры:  \nМария Иванилова — интерьерный инфлюенсер\, хедлайнер красивого бизнеса с Китаем\, блогер со 100.000 аудиторией\, 10 лет в теме дизайна и ремонта\, 5 — в комплектации по импорту из Китая.\nВлада Крупкина и Людмила Старченко — дизайнеры\, основательницы бюро “Premier Home”. Топ 100 дизайнеров России 2025 по версии журнала Интерьерный и в 12 дизайнеров Москвы которых стоит знать по версии журнала Salon\, открыли 2й офис в Дубае 2\,5 года назад\, самый большой проект там — вилла 1700м²\, самый большой проект в России — бутик отель в Сочи 2500м²\nКузнецов Александр — Основатель и креативный директор студии архитектурного дизайна FISHEYE. Более 16 лет в профессии. Реализовано более 250 проектов в России и Европе. Офисы в Санкт-Петербурге и Марбелье (Испания). Специализация: комплексные интерьерные проекты для городской и загородной недвижимости\, от концепции до реализации. Входит в топ-100 архитектурных бюро по версии отраслевых СМИ. Эксперт в создании дизайна\, который увеличивает ликвидность и капитализацию объекта.Место проведения: ЦДиИ Expostroy\, Конференц-зал\, 5 павильон\, 2 этаж.Телефон: 8-903-745-36-21
URL:https://d-fest.ru/event/%d0%ba%d1%80%d1%83%d0%b3%d0%bb%d1%8b%d0%b9-%d1%81%d1%82%d0%be%d0%bb-%d0%b2%d0%b5%d0%b4%d1%83%d1%89%d0%b8%d0%b5-%d0%b4%d0%b8%d0%b7%d0%b0%d0%b9%d0%bd%d0%b5%d1%80%d1%8b-%d0%b4%d0%b8%d0%b7%d0%b0%d0%b9/
LOCATION:ЦДиИ Expostroy\, Нахимовский проспект 24\, Москва\, Russian Federation
CATEGORIES:Круглый стол
ATTACH;FMTTYPE=image/png:https://d-fest.ru/wp-content/uploads/2025/08/IMG_9258.png
END:VEVENT
BEGIN:VEVENT
DTSTART;TZID=UTC:20250815T170000
DTEND;TZID=UTC:20250815T210000
DTSTAMP:20260426T040028
CREATED:20250814T094905Z
LAST-MODIFIED:20250814T094905Z
UID:1837-1755277200-1755291600@d-fest.ru
SUMMARY:ДИЗАЙНЕР vs ПРОРАБ: КАК ПОСТРОИТЬ ВЗАИМОДЕЙСТВИЕ МЕЖДУ ДВУМЯ МИРАМИ
DESCRIPTION:Приглашаем вас 15 августа в 17:00 на лекцию от основателя студии ремонта и дизайна Belov Remont – Екатерина Белова. \nНа создание этой лекции нас вдохновили интерьерные дизайнеры — участники многочисленных мероприятий компании Marideco. Поэтому мы хотим поделиться с вами накопленным опытом и ответить на все интересующие вас вопросы — готовьте их 😉 \n✏️О чём будет лекция: \n • Разберёмся\, почему возникают недопонимания между дизайнером и прорабом; \n • Какую роль играет дизайнер в построении благоприятных отношений; \n • Кто виноват в конфликтах и что с этим делать? \n • Первый выход на объект — почему он так важен? \n • Базовый минимум: регулярность контроля и встреч. \n⏰15 августа\, 17:00 — 20:00 \nВстречаемся в шоуруме Ferrado и Marideco по адресу: \nFerrado\, ул. Ленинский проспект\, 70/11
URL:https://d-fest.ru/event/%d0%b4%d0%b8%d0%b7%d0%b0%d0%b9%d0%bd%d0%b5%d1%80-vs-%d0%bf%d1%80%d0%be%d1%80%d0%b0%d0%b1-%d0%ba%d0%b0%d0%ba-%d0%bf%d0%be%d1%81%d1%82%d1%80%d0%be%d0%b8%d1%82%d1%8c-%d0%b2%d0%b7%d0%b0%d0%b8%d0%bc%d0%be/
LOCATION:шоуруме Ferrado\, ул. Ленинский проспект\, 70/11\, Москва\, Russian Federation
CATEGORIES:Лекция
ATTACH;FMTTYPE=image/jpeg:https://d-fest.ru/wp-content/uploads/2025/08/IMG_9256.jpg
END:VEVENT
BEGIN:VEVENT
DTSTART;TZID=UTC:20250814T165000
DTEND;TZID=UTC:20250814T210000
DTSTAMP:20260426T040028
CREATED:20250814T150341Z
LAST-MODIFIED:20250814T150341Z
UID:1879-1755190200-1755205200@d-fest.ru
SUMMARY:Экскурсия для дизайнеров по шоурумам Artplay
DESCRIPTION:Не покидая единой территории\, мы будем путешествовать поступательно от 18 к 21 веку\, совершим переход от промышленного наследия к креативному предпринимательству. Погрузимся в историю площадки (команда бережно сохраняет архитектурное наследие)\, узнаем про скрытые пасхалки\, заглянем в топовые мебельные и световые шоурумы\, где познакомимся с представителями бизнесов и узнаем про новинки индустрии. \nНас ждут в салонах\nBarcelona Design\nДом архитектуры и дизайна\nPerfecto Porte\nKraska Store\nУмный дом Sber \nИгристое — неотъемлемая часть программы! \nВнимание! Мы изменили место сбора для вашего удобства.\nНовая точка сбора: ул. Нижняя Сыромятническая\, дом 10\, строение 12.\nКоординаты: 55.752746\, 37.668787
URL:https://d-fest.ru/event/%d1%8d%d0%ba%d1%81%d0%ba%d1%83%d1%80%d1%81%d0%b8%d1%8f-%d0%b4%d0%bb%d1%8f-%d0%b4%d0%b8%d0%b7%d0%b0%d0%b9%d0%bd%d0%b5%d1%80%d0%be%d0%b2-%d0%bf%d0%be-%d1%88%d0%be%d1%83%d1%80%d1%83%d0%bc%d0%b0%d0%bc-art/
LOCATION:Центр дизайна и архитектуры Artplay\, ул. Нижняя Сыромятническая 10\, Москва\, Russian Federation
ATTACH;FMTTYPE=image/png:https://d-fest.ru/wp-content/uploads/2025/08/IMG_9273.png
END:VEVENT
BEGIN:VEVENT
DTSTART;TZID=UTC:20250807T150000
DTEND;TZID=UTC:20250807T210000
DTSTAMP:20260426T040028
CREATED:20250729T100733Z
LAST-MODIFIED:20250729T100733Z
UID:1813-1754578800-1754600400@d-fest.ru
SUMMARY:BUILD JOKER
DESCRIPTION:Мероприятие для участников архитектурно-дизайнерской и строительной сферы. \nкрутые спикеры\, полезные знакомства\, эффективный networking\, новые игры в стиле Joker\, квиз\, призы\, выставка\, диджей\, afterparty \n  \nПочетные гости Владимир Галоян\, Алексей Волков\, Сергей Александров\, Анастасия Муравьева\, Наталья Корельская\, Виктория Киорсак и многие другие. \n  \nА также живое выступление рок-группы Бориса Уборевича-Боровского Bomb Lane Band.
URL:https://d-fest.ru/event/build-joker/
LOCATION:Центр дизайна ARTPLAY\, Нижняя Сыромятническая ул.\, 10\, стр. 2\, Москва\, Russian Federation
CATEGORIES:Форум
ATTACH;FMTTYPE=image/jpeg:https://d-fest.ru/wp-content/uploads/2025/07/img_00101_2.jpg.webp.jpeg
ORGANIZER;CN="DESIGNJOKER":MAILTO:info@designjoker.ru
END:VEVENT
BEGIN:VEVENT
DTSTART;TZID=UTC:20250731T160000
DTEND;TZID=UTC:20250731T210000
DTSTAMP:20260426T040028
CREATED:20250729T084337Z
LAST-MODIFIED:20250729T084501Z
UID:1807-1753977600-1753995600@d-fest.ru
SUMMARY:Деловой пикник на пляже
DESCRIPTION:Деловой клуб «Красивые дома» приглашает! \nБИЗНЕС-ГОСТИНАЯ \nПрезентация новых выпусков журналов \n«Дом и сад»\, «Деревянные дома»\, \n«Камины и отопление»\, \n«Бассейны и сауны» \nПИЦЦА-БРЕЙК \nИнтерактивная дискуссия в 2-х частях модератор АЛЕКСАНДР КОНОНЕНКО архитектор\, дизайнер\, телеведущий\, амбассадор ИД «Красивые Дома» \nБАРБЕКЮ НА ПЛЯЖНОМ БЕРЕГУ
URL:https://d-fest.ru/event/%d0%b4%d0%b5%d0%bb%d0%be%d0%b2%d0%be%d0%b9-%d0%bf%d0%b8%d0%ba%d0%bd%d0%b8%d0%ba-%d0%bd%d0%b0-%d0%bf%d0%bb%d1%8f%d0%b6%d0%b5/
LOCATION:ARDO STUDIO\, ул.Дениса Давыдова\,4\, Москва\, Russian Federation
CATEGORIES:Бизнес-завтрак
ATTACH;FMTTYPE=image/jpeg:https://d-fest.ru/wp-content/uploads/2025/07/IMAGE-2025-07-29-113639-e1753778691916.jpg
END:VEVENT
BEGIN:VEVENT
DTSTART;TZID=UTC:20250603T100000
DTEND;TZID=UTC:20250605T190000
DTSTAMP:20260426T040028
CREATED:20250522T092756Z
LAST-MODIFIED:20250522T092756Z
UID:1745-1748944800-1749150000@d-fest.ru
SUMMARY:РОССИЙСКИЕ ДНИ ДИЗАЙНА И АРХИТЕКТУРЫ. Краснодар
DESCRIPTION:С 3 по 5 июня 2025 в Краснодаре состоится 35 ВЫСТАВКА проекта РОССИЙСКИЕ ДНИ ДИЗАЙНА И АРХИТЕКТУРЫ — крупнейшая международная дизайн выставка отделочных материалов и предметов декора для интерьеров и экстерьеров. Во всех городах проекта традиционно аншлаги\, события посещает большое количество дизайнеров\, архитекторов\, декораторов\, начинающих специалистов и мастеров-отделочников. \nВ 2024 году событие посетило 1437 человек\, среди участников выставки представлено более 150 известных брендов на площади 2400 кв.м.\nРегистрационная база региона составляет более 5000 человек. \nВ июне 2025 года всех посетителей ожидает дизайн-выставка\, стильные экспозиции\, ежедневные розыгрыши ценных призов\, практические мастер-классы\, консультации по отделочным материалам и подбору товаров для ремонта. А для специалистов состоится Форум дизайнеров и архитекторов\, с участием известных профессионалов и экспертов в области дизайна и архитектуры. \nПо мнению участников и посетителей\, РОССИЙСКИЕ ДНИ ДИЗАЙНА И АРХИТЕКТУРЫ — это своевременный и актуальный выставочно-образовательный проект\, созданный по мировым стандартам\, и\, пожалуй\, не имеющий аналогов в стране.
URL:https://d-fest.ru/event/%d1%80%d0%be%d1%81%d1%81%d0%b8%d0%b9%d1%81%d0%ba%d0%b8%d0%b5-%d0%b4%d0%bd%d0%b8-%d0%b4%d0%b8%d0%b7%d0%b0%d0%b9%d0%bd%d0%b0-%d0%b8-%d0%b0%d1%80%d1%85%d0%b8%d1%82%d0%b5%d0%ba%d1%82%d1%83%d1%80%d1%8b/
LOCATION:ДС Олимп\, ул. Береговая\, д. 144\, Краснодар\, Russian Federation
CATEGORIES:Форум
ATTACH;FMTTYPE=image/jpeg:https://d-fest.ru/wp-content/uploads/2025/05/q3jr1y4eeb8yk0xbru5ax11cdwjvltie.jpg
END:VEVENT
BEGIN:VEVENT
DTSTART;TZID=UTC:20250522T110000
DTEND;TZID=UTC:20250525T200000
DTSTAMP:20260426T040028
CREATED:20250512T101119Z
LAST-MODIFIED:20250522T223713Z
UID:1635-1747911600-1748203200@d-fest.ru
SUMMARY:VI Московская неделя интерьера и дизайна
DESCRIPTION:ЦЕНТРАЛЬНАЯ ТЕМА ВЫСТАВКИ «ПРИРОДА ДИЗАЙНА»\n\nVI Московская неделя интерьера и дизайна черпает вдохновение из самой природы. Концепция выставки объединяет элегантный\, современный дизайн с органическими элементами\, создавая эстетику\, которая выглядит утонченно и естественно. \nЭта выставка символизирует обновление и свежий взгляд на дизайн. Здесь переплетаются новизна\, молодость\, энергия\, яркие идеи и талант российских дизайнеров.
URL:https://d-fest.ru/event/vi-%d0%bc%d0%be%d1%81%d0%ba%d0%be%d0%b2%d1%81%d0%ba%d0%b0%d1%8f-%d0%bd%d0%b5%d0%b4%d0%b5%d0%bb%d1%8f-%d0%b8%d0%bd%d1%82%d0%b5%d1%80%d1%8c%d0%b5%d1%80%d0%b0-%d0%b8-%d0%b4%d0%b8%d0%b7%d0%b0%d0%b9%d0%bd/
LOCATION:ЦВЗ «Манеж»\, Манежная пл\, д.1.\, Москва\, Russian Federation
CATEGORIES:Выставка
ATTACH;FMTTYPE=image/jpeg:https://d-fest.ru/wp-content/uploads/2025/05/i-1.jpeg
END:VEVENT
BEGIN:VEVENT
DTSTART;TZID=UTC:20250515T100000
DTEND;TZID=UTC:20250517T180000
DTSTAMP:20260426T040028
CREATED:20250511T210853Z
LAST-MODIFIED:20250522T223851Z
UID:1616-1747303200-1747504800@d-fest.ru
SUMMARY:HIVE FURNITURE SHOW 2025
DESCRIPTION:С 15 по 17 мая в Шардже (ОАЭ) пройдет 5-я Международная выставка мебели HIVE FURNITURE SHOW — ключевое событие мебельной индустрии\, где вас ждут лучшие фабрики\, эксклюзивные тренды и новые бизнес-возможности! \nВыставка мебели Hive Furniture Show 2025\, которая пройдет с 15 по 17 мая в Дубае\, — это больше\, чем просто выставка\, это ворота на мировой рынок мебели и дизайна интерьера. Это мероприятие\, привлекающее тысячи профессионалов\, производителей\, розничных продавцов\, дизайнеров и лиц\, принимающих отраслевые решения\, является краеугольным камнем для демонстрации инноваций\, установления контактов с потенциальными покупателями и изучения последних тенденций в области мебели для дома и коммерческих помещений. Являясь одним из самых ожидаемых событий в Дубае\, выставка Hive 2025 предлагает непревзойденную экспозицию для брендов\, стремящихся выделиться в конкурентной отрасли.
URL:https://d-fest.ru/event/hive-furniture-show-2025/
LOCATION:Expo Centre Sharjah\, Sharjah\, United Arab Emirates
CATEGORIES:Выставка
ATTACH;FMTTYPE=image/webp:https://d-fest.ru/wp-content/uploads/2025/05/why-exhibit-at-hfs.webp
END:VEVENT
END:VCALENDAR