BEGIN:VCALENDAR
VERSION:2.0
PRODID:-//Практики. DesignSpaces - ECPv6.11.2.1//NONSGML v1.0//EN
CALSCALE:GREGORIAN
METHOD:PUBLISH
X-ORIGINAL-URL:https://d-fest.ru
X-WR-CALDESC:Мероприятия для Практики. DesignSpaces
REFRESH-INTERVAL;VALUE=DURATION:PT1H
X-Robots-Tag:noindex
X-PUBLISHED-TTL:PT1H
BEGIN:VTIMEZONE
TZID:UTC
BEGIN:STANDARD
TZOFFSETFROM:+0000
TZOFFSETTO:+0000
TZNAME:UTC
DTSTART:20260101T000000
END:STANDARD
END:VTIMEZONE
BEGIN:VEVENT
DTSTART;TZID=UTC:20260421T100000
DTEND;TZID=UTC:20260426T170000
DTSTAMP:20260425T154303
CREATED:20260104T220938Z
LAST-MODIFIED:20260104T220938Z
UID:2582-1776765600-1777222800@d-fest.ru
SUMMARY:Salone del Mobile.Milano 2026
DESCRIPTION:Salone del Mobile Milano 2026 — главное событие в мире дизайна\, которое традиционно пройдет в Милане и соберет ведущих архитекторов\, дизайнеров\, производителей и представителей интерьерной индустрии. Ежегодно миланский мебельный салон задает направление для мировых трендов\, определяя\, как будет выглядеть интерьер будущего. В 2026 году выставка обещает стать особенно масштабной: ожидается участие более двух тысяч брендов из разных стран\, тысячи новых коллекций и сотни премьер. \n  \nДаты проведения мероприятия: с 21 по 26 апреля 2026 года. \nФормат: только для профессионалов отрасли (trade-only event). \nДни посещения по категориям: \n\nПоставщики\, производители мебельного сектора: 24\, 25\, 26 апреля.\nШирокая публика: 25\, 26 апреля.\nСтуденты: 24\, 25\, 26 апреля.\n\nЧасы работы iSaloni в Милане: \n\nПосетители: с 9:30 до 18:30.\nПресса: с 8:30 до 18:30.\nЭкспоненты: с 8:30 до 19:00.\n\nВ качестве экспонентов выступают: производители мебели и предметов интерьера\, поставщики материалов и технологий\, дизайнерские студии\, бренды\, представляющие новинки отрасли. \nО выставке Salone del Mobile в Милане\nВыставка iSaloni — крупнейшая международная мебельная экспозиция\, которая проводится с 1961 года. Это настоящее культурное явление\, которое объединяет дизайн\, технологии\, ремесло и искусство. Здесь представлены лучшие образцы современного и классического стиля\, а также концепции\, отражающие ценности устойчивого развития\, инноваций и гармонии человека с пространством. \nSalone Internazionale del Mobile включает в себя десятки тематических зон\, где выставляется мебель для гостиной\, спальни\, кухни\, ванных комнат\, а также аксессуары\, освещение\, предметы декора. Выставка демонстрирует\, как меняются представления о пространстве и эстетике\, как выстраивается баланс между функциональностью и эмоциональной выразительностью.
URL:https://d-fest.ru/event/salone-del-mobile-milano-2026/
LOCATION:Милан\,  Milano\, Italy
CATEGORIES:Выставка
ATTACH;FMTTYPE=image/webp:https://d-fest.ru/wp-content/uploads/2026/01/00-arch.jpg.webp.jpeg.webp
END:VEVENT
BEGIN:VEVENT
DTSTART;TZID=UTC:20260424T080000
DTEND;TZID=UTC:20260426T170000
DTSTAMP:20260425T154303
CREATED:20260104T143132Z
LAST-MODIFIED:20260104T143132Z
UID:2505-1777017600-1777222800@d-fest.ru
SUMMARY:КРЫМСКАЯ НЕДЕЛЯ ДИЗАЙНА\, ИНТЕРЬЕРА\, ДЕКОРА И ИСКУССТВА
DESCRIPTION:Выставка собирает дизайнеров\, производителей и тех\, кто работает с ремонтом и интерьером. Здесь показывают актуальные решения\, знакомят с брендами и дают возможность напрямую пообщаться со специалистами. \nВ экспозиции — мебель\, декор\, отделочные материалы\, окна и двери\, инженерные и климатические системы\, предметы искусства. Параллельно проходят деловые сессии\, форум «Дизайн Строй Про / Крым»\, выставки дизайнеров\, ярмарка локальных брендов\, лекции и мастер-классы. Завершается программа конкурсом «Лучший дизайнер Крыма».
URL:https://d-fest.ru/event/%d0%ba%d1%80%d1%8b%d0%bc%d1%81%d0%ba%d0%b0%d1%8f-%d0%bd%d0%b5%d0%b4%d0%b5%d0%bb%d1%8f-%d0%b4%d0%b8%d0%b7%d0%b0%d0%b9%d0%bd%d0%b0-%d0%b8%d0%bd%d1%82%d0%b5%d1%80%d1%8c%d0%b5%d1%80%d0%b0-%d0%b4%d0%b5/
LOCATION:Ялта
CATEGORIES:Выставка,Конференция
ATTACH;FMTTYPE=image/webp:https://d-fest.ru/wp-content/uploads/2026/01/01a647ff-acd9-4f67-a77e-a47cb3d02613.jpg.webp
END:VEVENT
BEGIN:VEVENT
DTSTART;TZID=UTC:20260528T120000
DTEND;TZID=UTC:20260529T180000
DTSTAMP:20260425T154303
CREATED:20251015T114208Z
LAST-MODIFIED:20251015T114208Z
UID:2378-1779969600-1780077600@d-fest.ru
SUMMARY:ЗАГОРОДНЫЕ ДОМА\, ЛАНДШАФТ И КОМПЛЕКТАЦИЯ МОСКВА
DESCRIPTION:Мероприятие 28-29 Мая 2026 \nВся информация на сайте
URL:https://d-fest.ru/event/%d0%b7%d0%b0%d0%b3%d0%be%d1%80%d0%be%d0%b4%d0%bd%d1%8b%d0%b5-%d0%b4%d0%be%d0%bc%d0%b0-%d0%bb%d0%b0%d0%bd%d0%b4%d1%88%d0%b0%d1%84%d1%82-%d0%b8-%d0%ba%d0%be%d0%bc%d0%bf%d0%bb%d0%b5%d0%ba%d1%82%d0%b0/
CATEGORIES:Конференция
ATTACH;FMTTYPE=image/png:https://d-fest.ru/wp-content/uploads/2025/10/Снимок-экрана-2025-10-15-в-14.14.38.png
END:VEVENT
BEGIN:VEVENT
DTSTART;TZID=UTC:20260602T100000
DTEND;TZID=UTC:20260604T180000
DTSTAMP:20260425T154303
CREATED:20251008T151501Z
LAST-MODIFIED:20251008T151501Z
UID:2326-1780394400-1780596000@d-fest.ru
SUMMARY:Index Dubai 2026 - фестиваль дизайна интерьера
DESCRIPTION:Экспонируемые продукты: \nТовары для дома\nДизайн интерьера\nПредметы декора и мебель\nКерамические\, стекольные и деревянные изделия\nСтоловые принадлежности\nОсветительные приборы
URL:https://d-fest.ru/event/index-dubai-2026-%d1%84%d0%b5%d1%81%d1%82%d0%b8%d0%b2%d0%b0%d0%bb%d1%8c-%d0%b4%d0%b8%d0%b7%d0%b0%d0%b9%d0%bd%d0%b0-%d0%b8%d0%bd%d1%82%d0%b5%d1%80%d1%8c%d0%b5%d1%80%d0%b0/
CATEGORIES:Выставка
ATTACH;FMTTYPE=image/png:https://d-fest.ru/wp-content/uploads/2025/10/Снимок-экрана-2025-10-08-в-18.10.35.png
END:VEVENT
BEGIN:VEVENT
DTSTART;TZID=UTC:20260603T100000
DTEND;TZID=UTC:20260606T170000
DTSTAMP:20260425T154303
CREATED:20260104T135158Z
LAST-MODIFIED:20260104T135158Z
UID:2478-1780480800-1780765200@d-fest.ru
SUMMARY:ПЕТЕРБУРГСКИЙ МЕЖДУНАРОДНЫЙ ЭКОНОМИЧЕСКИЙ  ФОРУМ
DESCRIPTION:ПМЭФ — одно из самых масштабных и значимых деловых событий в мире. ПМЭФ проходит ежегодно\, начиная с 1997 года. С 2006 года Форум проводится под патронатом и при участии Президента Российской Федерации. \nПМЭФ — это пространство для диалога и развития деловых связей\, не имеющее аналогов. Это возможность найти партнеров для развития бизнеса в России и за ее пределами\, расширить круг заказчиков и поставщиков\, выйти на контакт с лицами\, напрямую принимающими решения\, привлечь внимание потенциальных инвесторов и ведущих СМИ. \nПМЭФ зарекомендовал себя в качестве ключевого глобального мероприятия\, на котором в прикладном ключе обсуждаются современные экономические проблемы\, стоящие перед Россией\, развивающимися рынками и миром в целом\, принимаются практические решения\, запускаются инновационные масштабные проекты и получают реальные очертания новые подходы к адаптации мировой экономики к современным условиям. \nВ 2025 году участие в Форуме приняли 24 200 человек из 144 стран и территорий\, включая Россию. Форум собрал на своей площадке порядка 8700 представителей российского и иностранного бизнеса. По итогам работы Форума было подписано 1084 соглашения на общую сумму 6 трлн 480 млрд 869 млн рублей (учтены соглашения\, сумма которых не является коммерческой тайной). \nОтраслевые и тематические мероприятия\, посвященные международной кооперации МСП (36 сессий\, 327 докладчиков) и лекарственной безопасности (17 сессий\, 114 докладчиков)\, посетили более 2350 представителей из 37 стран\, включая Россию. \nМолодежный форум «День будущего» объединил более 8000 молодых лидеров\, предпринимателей и экспертов\, представителей всех регионов России\, более 220 вузов и 60 научных организаций.
URL:https://d-fest.ru/event/%d0%bf%d0%b5%d1%82%d0%b5%d1%80%d0%b1%d1%83%d1%80%d0%b3%d1%81%d0%ba%d0%b8%d0%b9-%d0%bc%d0%b5%d0%b6%d0%b4%d1%83%d0%bd%d0%b0%d1%80%d0%be%d0%b4%d0%bd%d1%8b%d0%b9-%d1%8d%d0%ba%d0%be%d0%bd%d0%be%d0%bc%d0%b8/
LOCATION:КВЦ «Экспофорум»\, Петербургское ш.\, 64/1\, Санкт-Петербург\, 196605
CATEGORIES:Выставка,Конференция,Нетворкинг
ATTACH;FMTTYPE=image/jpeg:https://d-fest.ru/wp-content/uploads/2026/01/photo_2025-06-18_09-07-17.jpg__0_16x9.jpg
ORGANIZER;CN="%D0%A4%D0%BE%D0%BD%D0%B4 %D0%A0%D0%BE%D1%81%D0%BA%D0%BE%D0%BD%D0%B3%D1%80%D0%B5%D1%81%D1%81":MAILTO:info@roscongress.org
END:VEVENT
BEGIN:VEVENT
DTSTART;TZID=UTC:20260618T120000
DTEND;TZID=UTC:20260618T180000
DTSTAMP:20260425T154303
CREATED:20251015T114506Z
LAST-MODIFIED:20251015T114506Z
UID:2380-1781784000-1781805600@d-fest.ru
SUMMARY:ГРАНИ ДИЗАЙНА КРАСНОЯРСК
DESCRIPTION:БИЗНЕС-КОНФЕРЕНЦИЯ ДЛЯ ДИЗАЙНЕРОВ 18 Июня 2026 \nВся информация на сайте
URL:https://d-fest.ru/event/%d0%b3%d1%80%d0%b0%d0%bd%d0%b8-%d0%b4%d0%b8%d0%b7%d0%b0%d0%b9%d0%bd%d0%b0-%d0%ba%d1%80%d0%b0%d1%81%d0%bd%d0%be%d1%8f%d1%80%d1%81%d0%ba/
CATEGORIES:Конференция
ATTACH;FMTTYPE=image/png:https://d-fest.ru/wp-content/uploads/2025/10/Снимок-экрана-2025-10-15-в-14.14.38.png
END:VEVENT
BEGIN:VEVENT
DTSTART;TZID=UTC:20260625T123000
DTEND;TZID=UTC:20260625T183000
DTSTAMP:20260425T154303
CREATED:20251015T114726Z
LAST-MODIFIED:20251015T114726Z
UID:2382-1782390600-1782412200@d-fest.ru
SUMMARY:БЕЛДИЗАЙН  МИНСК
DESCRIPTION:КОНФЕРЕНЦИЯ ПО РАЗВИТИЮ БИЗНЕСА И КОМПЛЕКТАЦИИ 25 Июня 2026 \nВся информация на сайте
URL:https://d-fest.ru/event/%d0%b1%d0%b5%d0%bb%d0%b4%d0%b8%d0%b7%d0%b0%d0%b9%d0%bd-%d0%bc%d0%b8%d0%bd%d1%81%d0%ba/
CATEGORIES:Конференция
ATTACH;FMTTYPE=image/png:https://d-fest.ru/wp-content/uploads/2025/10/Снимок-экрана-2025-10-15-в-14.14.38.png
END:VEVENT
BEGIN:VEVENT
DTSTART;TZID=UTC:20260719T100000
DTEND;TZID=UTC:20260719T170000
DTSTAMP:20260425T154303
CREATED:20260105T091339Z
LAST-MODIFIED:20260105T091339Z
UID:2631-1784455200-1784480400@d-fest.ru
SUMMARY:Дизэйр Москва
DESCRIPTION:Клуб комплектаторов — сообщество дизайнеров интерьера и поставщиков с девизом «экономим время для творчества».\nОснован в сентябре 2019 года.
URL:https://d-fest.ru/event/%d0%b4%d0%b8%d0%b7%d1%8d%d0%b9%d1%80-%d0%bc%d0%be%d1%81%d0%ba%d0%b2%d0%b0/
LOCATION:White Park Мякининское шоссе д. 3\, Рублевский пляж
CATEGORIES:Выставка,Конференция
ATTACH;FMTTYPE=image/png:https://d-fest.ru/wp-content/uploads/2026/01/image.png
END:VEVENT
BEGIN:VEVENT
DTSTART;TZID=UTC:20260723T123000
DTEND;TZID=UTC:20260723T180000
DTSTAMP:20260425T154303
CREATED:20251015T114939Z
LAST-MODIFIED:20251015T114939Z
UID:2384-1784809800-1784829600@d-fest.ru
SUMMARY:ГРАНИ ДИЗАЙНА  КАЗАНЬ
DESCRIPTION:БИЗНЕС-КОНФЕРЕНЦИЯ ДЛЯ ДИЗАЙНЕРОВ 23 Июля 2026 \nВся информация на сайте
URL:https://d-fest.ru/event/%d0%b3%d1%80%d0%b0%d0%bd%d0%b8-%d0%b4%d0%b8%d0%b7%d0%b0%d0%b9%d0%bd%d0%b0-%d0%ba%d0%b0%d0%b7%d0%b0%d0%bd%d1%8c/
CATEGORIES:Конференция
ATTACH;FMTTYPE=image/png:https://d-fest.ru/wp-content/uploads/2025/10/Снимок-экрана-2025-10-15-в-14.14.38.png
END:VEVENT
BEGIN:VEVENT
DTSTART;TZID=UTC:20260813T120000
DTEND;TZID=UTC:20260813T180000
DTSTAMP:20260425T154303
CREATED:20251015T115155Z
LAST-MODIFIED:20251015T115155Z
UID:2386-1786622400-1786644000@d-fest.ru
SUMMARY:ГРАНИ ДИЗАЙНА КРАСНОДАР
DESCRIPTION:БИЗНЕС-КОНФЕРЕНЦИЯ ДЛЯ ДИЗАЙНЕРОВ\n13 Августа 2026\n\n\n\n\n\nВся информация на сайте
URL:https://d-fest.ru/event/%d0%b3%d1%80%d0%b0%d0%bd%d0%b8-%d0%b4%d0%b8%d0%b7%d0%b0%d0%b9%d0%bd%d0%b0-%d0%ba%d1%80%d0%b0%d1%81%d0%bd%d0%be%d0%b4%d0%b0%d1%80/
CATEGORIES:Конференция
ATTACH;FMTTYPE=image/png:https://d-fest.ru/wp-content/uploads/2025/10/Снимок-экрана-2025-10-15-в-14.14.38.png
END:VEVENT
BEGIN:VEVENT
DTSTART;TZID=UTC:20260820T120000
DTEND;TZID=UTC:20260821T180000
DTSTAMP:20260425T154303
CREATED:20251015T115429Z
LAST-MODIFIED:20251015T115429Z
UID:2388-1787227200-1787335200@d-fest.ru
SUMMARY:XII КОНФЕРЕНЦИЯ HORECA И ОБЩЕСТВЕННЫЕ ИНТЕРЬЕРЫ 2026
DESCRIPTION:МОСКВА\n\n20-21 Августа 2026\n\n\n\nВся информация на сайте
URL:https://d-fest.ru/event/xii-%d0%ba%d0%be%d0%bd%d1%84%d0%b5%d1%80%d0%b5%d0%bd%d1%86%d0%b8%d1%8f-horeca-%d0%b8-%d0%be%d0%b1%d1%89%d0%b5%d1%81%d1%82%d0%b2%d0%b5%d0%bd%d0%bd%d1%8b%d0%b5-%d0%b8%d0%bd%d1%82%d0%b5%d1%80%d1%8c%d0%b5/
CATEGORIES:Конференция
ATTACH;FMTTYPE=image/png:https://d-fest.ru/wp-content/uploads/2025/10/Снимок-экрана-2025-10-15-в-14.14.38.png
END:VEVENT
BEGIN:VEVENT
DTSTART;TZID=UTC:20260903T120000
DTEND;TZID=UTC:20260903T180000
DTSTAMP:20260425T154303
CREATED:20251015T115638Z
LAST-MODIFIED:20251015T115638Z
UID:2390-1788436800-1788458400@d-fest.ru
SUMMARY:ГРАНИ ДИЗАЙНА САМАРА
DESCRIPTION:БИЗНЕС-КОНФЕРЕНЦИЯ ДЛЯ ДИЗАЙНЕРОВ 3 Сентября 2026 \nВся информация на сайте
URL:https://d-fest.ru/event/%d0%b3%d1%80%d0%b0%d0%bd%d0%b8-%d0%b4%d0%b8%d0%b7%d0%b0%d0%b9%d0%bd%d0%b0-%d1%81%d0%b0%d0%bc%d0%b0%d1%80%d0%b0/
CATEGORIES:Конференция
ATTACH;FMTTYPE=image/png:https://d-fest.ru/wp-content/uploads/2025/10/Снимок-экрана-2025-10-15-в-14.14.38.png
END:VEVENT
BEGIN:VEVENT
DTSTART;TZID=UTC:20260924T120000
DTEND;TZID=UTC:20260924T183000
DTSTAMP:20260425T154303
CREATED:20251015T115840Z
LAST-MODIFIED:20251015T115840Z
UID:2392-1790251200-1790274600@d-fest.ru
SUMMARY:ГРАНИ ДИЗАЙНА НОВОСИБИРСК
DESCRIPTION:БИЗНЕС-КОНФЕРЕНЦИЯ ДЛЯ ДИЗАЙНЕРОВ\n24 Сентября 2026
URL:https://d-fest.ru/event/%d0%b3%d1%80%d0%b0%d0%bd%d0%b8-%d0%b4%d0%b8%d0%b7%d0%b0%d0%b9%d0%bd%d0%b0-%d0%bd%d0%be%d0%b2%d0%be%d1%81%d0%b8%d0%b1%d0%b8%d1%80%d1%81%d0%ba/
CATEGORIES:Конференция
ATTACH;FMTTYPE=image/png:https://d-fest.ru/wp-content/uploads/2025/10/Снимок-экрана-2025-10-15-в-14.14.38.png
END:VEVENT
BEGIN:VEVENT
DTSTART;TZID=UTC:20261007T100000
DTEND;TZID=UTC:20261009T180000
DTSTAMP:20260425T154303
CREATED:20260104T215042Z
LAST-MODIFIED:20260104T215042Z
UID:2569-1791367200-1791568800@d-fest.ru
SUMMARY:РУССКИЙ ДОМ 2026
DESCRIPTION:Русский дом. Креативные регионы 2026 — международная выставка дизайна интерьеров и технологий \nВыставка Русский дом. Креативные регионы 2026 проводится c 7 по 9 октября в городе Москва\, Россия. \nОсновные тематические направления мероприятия: Интерьерный дизайн\, Дизайн\, Декор\, Освещение. \n\n\n\n\nВЫСТАВКА «РУССКИЙ ДОМ. КРЕАТИВНЫЕ РЕГИОНЫ» \nЭто международная выставка дизайна интерьеров и технологий\, направленная на воссоединение с историческими и культурными корнями через современные интерьерные решения. \nНАША МИССИЯ:\nМиссия выставки «Русский Дом. Креативные регионы» — представить современные достижения индустрии дизайна\, искусства и технологий\, демонстрируя их связь с богатым историческим и культурным наследием России\, и способствовать укреплению международного сотрудничества в этих сферах
URL:https://d-fest.ru/event/%d1%80%d1%83%d1%81%d1%81%d0%ba%d0%b8%d0%b9-%d0%b4%d0%be%d0%bc-2026/
LOCATION:Гостиный двор\, Ильинка\, д.4\, Москва\, Russian Federation
CATEGORIES:Выставка
ATTACH;FMTTYPE=image/webp:https://d-fest.ru/wp-content/uploads/2026/01/glavnaya.1536x1152.webp
END:VEVENT
END:VCALENDAR