BEGIN:VCALENDAR
VERSION:2.0
PRODID:-//Практики. DesignSpaces - ECPv6.11.2.1//NONSGML v1.0//EN
CALSCALE:GREGORIAN
METHOD:PUBLISH
X-ORIGINAL-URL:https://d-fest.ru
X-WR-CALDESC:Мероприятия для Практики. DesignSpaces
REFRESH-INTERVAL;VALUE=DURATION:PT1H
X-Robots-Tag:noindex
X-PUBLISHED-TTL:PT1H
BEGIN:VTIMEZONE
TZID:UTC
BEGIN:STANDARD
TZOFFSETFROM:+0000
TZOFFSETTO:+0000
TZNAME:UTC
DTSTART:20260101T000000
END:STANDARD
END:VTIMEZONE
BEGIN:VEVENT
DTSTART;TZID=UTC:20260205T120000
DTEND;TZID=UTC:20260205T180000
DTSTAMP:20260425T194316
CREATED:20251015T111929Z
LAST-MODIFIED:20260105T133647Z
UID:2360-1770292800-1770314400@d-fest.ru
SUMMARY:ГРАНИ ДИЗАЙНА Уфа
DESCRIPTION:БИЗНЕС-КОНФЕРЕНЦИЯ ДЛЯ ДИЗАЙНЕРОВ\n5 Февраля 2026
URL:https://d-fest.ru/event/%d0%b3%d1%80%d0%b0%d0%bd%d0%b8-%d0%b4%d0%b8%d0%b7%d0%b0%d0%b9%d0%bd%d0%b0-%d1%83%d1%84%d0%b0/
CATEGORIES:Конференция
ATTACH;FMTTYPE=image/png:https://d-fest.ru/wp-content/uploads/2025/10/photo.png
END:VEVENT
BEGIN:VEVENT
DTSTART;TZID=UTC:20260212T100000
DTEND;TZID=UTC:20260212T203000
DTSTAMP:20260425T194316
CREATED:20260104T203122Z
LAST-MODIFIED:20260104T203122Z
UID:2528-1770890400-1770928200@d-fest.ru
SUMMARY:HOMEFEST  Тюмень
DESCRIPTION:Региональные выставки помогают бизнесу находить новые рынки сбыта\, расширяя географию продаж и укрепляя позиции на локальных рынках.
URL:https://d-fest.ru/event/homefest-%d1%82%d1%8e%d0%bc%d0%b5%d0%bd%d1%8c/
LOCATION:Тюмень
CATEGORIES:Выставка,Конференция
ATTACH;FMTTYPE=image/png:https://d-fest.ru/wp-content/uploads/2026/01/Logo_HF_grey.png
END:VEVENT
BEGIN:VEVENT
DTSTART;TZID=UTC:20260216T160000
DTEND;TZID=UTC:20260216T230000
DTSTAMP:20260425T194316
CREATED:20260104T215524Z
LAST-MODIFIED:20260105T133247Z
UID:2572-1771257600-1771282800@d-fest.ru
SUMMARY:ADDAWARDS
DESCRIPTION:Встречайте итоговое событие XI сезона премии ADDAWARDS.RU: “THE FUTURE TOUCH”! Это не просто торжество\, а феерическое погружение в мир Digital-Art-Deco\, где столетие стиля ар-деко преодолевает вековой порог и оживает через искры цифрового искусства и ритмы XXI века в 2026 году! Присоединяйтесь к нам на Церемонии награждения победителей международной премии\, которая чествует гениев дизайна и архитектуры\, чьи работы сияют\, как звезды в футуристическом небе! \nВ этом сезоне мы побили все рекорды по количеству проектов\, вошедших в шорт-лист\, числу партнёров и членов экспертного совета\, жюри и амбассадоров! И чтобы достойно отпраздновать финал сезона\, выбрали одну из самых современных\, технологичных и универсальных концертных площадок в мире — «Барвиха Luxury Village». Именно здесь впервые прозвучат имена обладателей победных трофи\, тех\, чьи проекты оказались лучшими из лучших в 2025 году. \nГостей ждёт насыщенная программа: презентация новой коллекции дверных ручек бренда Morelli by Dima Loginoff\, Торжественная Церемония награждения\, выставка дизайн-инсталляций и подарки от наших партнёров\, поздравления от членов жюри\, сюрпризы от организаторов\, а также вечеринка и праздничный фуршет. \nНе пропустите! \n16.02.2026 — Москва\, концертный зал «Барвиха Luxury Village».  \nСбор гостей с 16 до 17 часов.  \nНачало программы — в 17:00.  \nЗавершение вечера — 23:00. \nУчастники шорт-листа тоже получат оригинальные дипломы\, потому что пройти через отбор Экспертного совета и попасть в шорт-лист премии ADDAWARDS.R — это большое достижение! И мы будем рады видеть всех\, кто отлично поработал в 2025 году. \nПодробности участия в церемонии награждения: https://finestreet-mediagroup.timepad.ru/event/3673138/ \nНе упустите шанс стать частью этого события! Приходите\, чтобы чествовать победителей\, отметить ваш личный успех\, праздновать завершение XI сезона\, общаться и танцевать.
URL:https://d-fest.ru/event/addawards/
LOCATION:Барвиха Luxury Village
CATEGORIES:Премия
ATTACH;FMTTYPE=image/jpeg:https://d-fest.ru/wp-content/uploads/2026/01/1200_800_firstil_KHI_fin_FIN_333.jpg
END:VEVENT
BEGIN:VEVENT
DTSTART;TZID=UTC:20260219T100000
DTEND;TZID=UTC:20260221T183000
DTSTAMP:20260425T194316
CREATED:20251008T110354Z
LAST-MODIFIED:20260105T133322Z
UID:2307-1771495200-1771698600@d-fest.ru
SUMMARY:ARTDOM 2026
DESCRIPTION:МЕЖДУНАРОДНАЯ ВЫСТАВКА МЕБЕЛИ\, ИНТЕРЬЕРНЫХ РЕШЕНИЙ И ИСКУССТВА\n \n\n\nARTDOM— это главное событие интерьерной моды\, которое собирает мировые и локальные мебельные фабрики\, лидеров и экспертов индустрии дизайна.\n\n\n\nВыставка и группа проектов ARTDOM — это международное комьюнити брендов индустрии дизайна и искусства\, интерьерных дизайнеров\, художников и архитекторов\, собирающее и формирующее тренды\, что окружают нас сейчас и будут окружать в будущем.\n\n\n\nКаждый год мы открываем новый художественный сезон глобальной выставкой интерьерного дизайна и искусства\, задавая его сакральную тему. Тема декларации внутренней свободы\, собственного стиля для каждого пройдет красной нитью через все событие и связанные с ним активности.Наша цель не просто связывать мировые бренды с дизайнерами\, производителей с байерами. Нам важно давать постоянный рост заказов фабрикам и бюро\, чтобы мир не переставал становиться прекраснее и свободнее. \n\n\n\nDESIGN WEEK:\nПРЕМЬЕРЫ И ЗАКРЫТЫЕ ПОКАЗЫ В ШОУРУМАХ\, ГАЛЕРЕЯХ\, МУЗЕЯХ ГОРОДА \n\n\n\nSELECT:\nОНЛАЙН-ПЛАТФОРМА ПО ПРОДАЖЕ ПРЕДМЕТОВ МЕБЕЛИ\, ДЕКОРА\, ОТДЕЛКИ И ИСКУССТВА\n\n\nPROMOTION:\nPR-ПОДДЕРЖКА И ОТРАСЛЕВОЙ КОНСАЛТИНГ БРЕНДОВ\n\n\nEDUCATION: ЭКСПЕРТНЫЙ КОНТЕНТ ОТ ЛИДЕРОВ ОТРАСЛИ\, ВЫСТУПЛЕНИЯ\, ЛЕКЦИИ И ДИСКУССИИ\n\n\nCONTESTS & GRANTS: ПРОГРАММА ПОДДЕРЖКИ И ПРОДВИЖЕНИЯ ТАЛАНТЛИВЫХ ДИЗАЙНЕРОВ\n\n\nDEVELOPMENT & DESIGN FORUM: СОТРУДНИЧЕСТВО И ПРОЕКТЫ С ВЕДУЩИМИ ДЕВЕЛОПЕРАМИ ИНДУСТРИИ.
URL:https://d-fest.ru/event/artdom-2026/
LOCATION:Крокус Экспо\, 65–66 км МКАД\, станция «Мякинино»\, Москва\, Russian Federation
CATEGORIES:Выставка
ATTACH;FMTTYPE=image/jpeg:https://d-fest.ru/wp-content/uploads/2025/10/DSC01727.jpg
END:VEVENT
BEGIN:VEVENT
DTSTART;TZID=UTC:20260225T100000
DTEND;TZID=UTC:20260225T170000
DTSTAMP:20260425T194316
CREATED:20260104T224321Z
LAST-MODIFIED:20260104T224321Z
UID:2599-1772013600-1772038800@d-fest.ru
SUMMARY:«Русский Бум»
DESCRIPTION:Презентация номера «Русский Бум» МОСКВА\nARTPLAY\, 25 февраля
URL:https://d-fest.ru/event/%d1%80%d1%83%d1%81%d1%81%d0%ba%d0%b8%d0%b9-%d0%b1%d1%83%d0%bc/
LOCATION:Центр дизайна ARTPLAY\, Нижняя Сыромятническая ул.\, 10\, стр. 2\, Москва\, Russian Federation
CATEGORIES:Событие
ATTACH;FMTTYPE=image/jpeg:https://d-fest.ru/wp-content/uploads/2026/01/444.jpg
END:VEVENT
END:VCALENDAR