BEGIN:VCALENDAR
VERSION:2.0
PRODID:-//Практики. DesignSpaces - ECPv6.11.2.1//NONSGML v1.0//EN
CALSCALE:GREGORIAN
METHOD:PUBLISH
X-WR-CALNAME:Практики. DesignSpaces
X-ORIGINAL-URL:https://d-fest.ru
X-WR-CALDESC:Мероприятия для Практики. DesignSpaces
REFRESH-INTERVAL;VALUE=DURATION:PT1H
X-Robots-Tag:noindex
X-PUBLISHED-TTL:PT1H
BEGIN:VTIMEZONE
TZID:UTC
BEGIN:STANDARD
TZOFFSETFROM:+0000
TZOFFSETTO:+0000
TZNAME:UTC
DTSTART:20250101T000000
END:STANDARD
END:VTIMEZONE
BEGIN:VEVENT
DTSTART;TZID=UTC:20250910T180000
DTEND;TZID=UTC:20250910T220000
DTSTAMP:20260426T021918
CREATED:20250820T114440Z
LAST-MODIFIED:20250820T114440Z
UID:2112-1757527200-1757541600@d-fest.ru
SUMMARY:ARTDOM DESIGN TOUR 2025 Новосибирск
DESCRIPTION:ARTDOM DESIGN TOUR 2025 – серия мероприятий для дизайнеров\, декораторов и архитекторов \, которые пройдут в 8 городах России и СНГ в форматах лекций\, панельных дискуссий и вечеринок с трендсеттерами и экспертами индустрии. \nНовосибирск \nЧто будет?\nКультурные мероприятия и презентация выставки ARTDOM на самых модных площадках городов с привлечением международных лидеров индустрии. \n1. Лекции от лидеров мнений /панельные дискуссии. Авторские подборки российских новинок\, в сочетании с мировыми трендами — коллекции и новинки 2025−2026\, привлечение локальных инфлюенсеров\, выступления иностранных спикеров.\n2. Презентация экосистемы ARTDOM. Выступления амбассадоров об итогах ARTDOM 2025 и о дальнейших планах и задачах \nДима Логинов — Предметный дизайнер\, член экспертного совета ARTDOM\nАнастасия Ромашкевич — Главный ex-редактор AD и автор канала «Ромашковый сбор»\nГабриэле Буратти -Архитектор и дизайнер\, сооснователь студии BURATTI ARCHITETTI\nТатьяна Белохина — Главный редактор медиа Interior+Design\nDraga & Aurel — Дизайнеры\, художники\, преподаватели\, перформеры \n3. Выступления партнеров \n4. Коктейль-вечеринка\, кофе-брейк\, нетворкинг \nВозможны изменения по выступлению спикеров. Регистрация на сайте.
URL:https://d-fest.ru/event/artdom-design-tour-2025-%d0%bd%d0%be%d0%b2%d0%be%d1%81%d0%b8%d0%b1%d0%b8%d1%80%d1%81%d0%ba/
LOCATION:Центр Дизайна «Мельница»\, Фабричная ул. 31\, Новосибирск\, Russian Federation
CATEGORIES:Событие
ATTACH;FMTTYPE=image/jpeg:https://d-fest.ru/wp-content/uploads/2025/08/IMG_9294.jpg
END:VEVENT
END:VCALENDAR