BEGIN:VCALENDAR
VERSION:2.0
PRODID:-//Практики. DesignSpaces - ECPv6.11.2.1//NONSGML v1.0//EN
CALSCALE:GREGORIAN
METHOD:PUBLISH
X-WR-CALNAME:Практики. DesignSpaces
X-ORIGINAL-URL:https://d-fest.ru
X-WR-CALDESC:Мероприятия для Практики. DesignSpaces
REFRESH-INTERVAL;VALUE=DURATION:PT1H
X-Robots-Tag:noindex
X-PUBLISHED-TTL:PT1H
BEGIN:VTIMEZONE
TZID:UTC
BEGIN:STANDARD
TZOFFSETFROM:+0000
TZOFFSETTO:+0000
TZNAME:UTC
DTSTART:20250101T000000
END:STANDARD
END:VTIMEZONE
BEGIN:VEVENT
DTSTART;TZID=UTC:20250916T173000
DTEND;TZID=UTC:20250916T200000
DTSTAMP:20260426T021819
CREATED:20250819T113500Z
LAST-MODIFIED:20250819T113500Z
UID:2086-1758043800-1758052800@d-fest.ru
SUMMARY:Керамогранит в интерьере: учимся на чужих ошибках — гайд для дизайнеров
DESCRIPTION:Приглашаем на практическое мероприятие\, где мы разберем самые распространенные ошибки в работе с керамикой и научимся их предотвращать!\nВ программе: \n\nАнализ типичных ошибок в проектировании с керамогранитом\nОсновные промахи при выборе плитки и их последствия\nТехнологические ошибки при укладке и способы их избежать\nПроблемы эксплуатации и методы их предупреждения\nБюджетные риски при работе с керамогранитом\nПрактические кейсы неудачных проектов и их разбор\nОсобенности монтажа различных видов плиткиДля кого это мероприятие:\n\nДизайнеров интерьеров\nАрхитекторов\nСтроителей\nПроектировщиков\nНачинающих специалистов в сфере отделки\n\nСпикер: Никита Усанов — представитель дистрибьютера  керамогранита GLOBUS CERAMICA\, руководитель центра обработки керамического гранита N2\, эксперт по работе с камнем и плитой с опытом более 10 лет.
URL:https://d-fest.ru/event/%d0%ba%d0%b5%d1%80%d0%b0%d0%bc%d0%be%d0%b3%d1%80%d0%b0%d0%bd%d0%b8%d1%82-%d0%b2-%d0%b8%d0%bd%d1%82%d0%b5%d1%80%d1%8c%d0%b5%d1%80%d0%b5-%d1%83%d1%87%d0%b8%d0%bc%d1%81%d1%8f-%d0%bd%d0%b0-%d1%87%d1%83/
LOCATION:ЦДиИ Expostroy\, Нахимовский проспект 24\, Москва\, Russian Federation
CATEGORIES:Лекция,Семинар
ATTACH;FMTTYPE=image/jpeg:https://d-fest.ru/wp-content/uploads/2025/08/Без-названия-1.jpg
END:VEVENT
BEGIN:VEVENT
DTSTART;TZID=UTC:20250906T120000
DTEND;TZID=UTC:20250907T180000
DTSTAMP:20260426T021819
CREATED:20250902T110734Z
LAST-MODIFIED:20250902T110734Z
UID:2176-1757160000-1757268000@d-fest.ru
SUMMARY:Ceramania
DESCRIPTION:Выставка керамики в Москве \n6-7 сентября здесь будут представлены очень разные изделия от росписных тарелок\, изящных брошек до массивных интерьерных ваз. \nУвидим авторов со разных городов России\, работающими не только с керамикой\, но и деревом\, стеклом\, металлом и текстилем \nВ фестивальной программе: зона свободной лепки\, мастер-классы\, развлечения\, лекции\,  зона отдыха и фуд-корт. \nВ программе мастер-классы для детей и взрослых.
URL:https://d-fest.ru/event/ceramania/
LOCATION:ЦСИ Винзавод\, Зеленый Ангар (4-й Сыромятнический пер.\, 1/8\, стр. 6)\, Москва\, Russian Federation
CATEGORIES:Выставка
ATTACH;FMTTYPE=image/png:https://d-fest.ru/wp-content/uploads/2025/09/Снимок-экрана-2025-09-02-в-14.02.19.png
END:VEVENT
END:VCALENDAR