BEGIN:VCALENDAR
VERSION:2.0
PRODID:-//Практики. DesignSpaces - ECPv6.11.2.1//NONSGML v1.0//EN
CALSCALE:GREGORIAN
METHOD:PUBLISH
X-ORIGINAL-URL:https://d-fest.ru
X-WR-CALDESC:Мероприятия для Практики. DesignSpaces
REFRESH-INTERVAL;VALUE=DURATION:PT1H
X-Robots-Tag:noindex
X-PUBLISHED-TTL:PT1H
BEGIN:VTIMEZONE
TZID:UTC
BEGIN:STANDARD
TZOFFSETFROM:+0000
TZOFFSETTO:+0000
TZNAME:UTC
DTSTART:20260101T000000
END:STANDARD
END:VTIMEZONE
BEGIN:VEVENT
DTSTART;TZID=UTC:20260625T123000
DTEND;TZID=UTC:20260625T183000
DTSTAMP:20260426T010015
CREATED:20251015T114726Z
LAST-MODIFIED:20251015T114726Z
UID:2382-1782390600-1782412200@d-fest.ru
SUMMARY:БЕЛДИЗАЙН  МИНСК
DESCRIPTION:КОНФЕРЕНЦИЯ ПО РАЗВИТИЮ БИЗНЕСА И КОМПЛЕКТАЦИИ 25 Июня 2026 \nВся информация на сайте
URL:https://d-fest.ru/event/%d0%b1%d0%b5%d0%bb%d0%b4%d0%b8%d0%b7%d0%b0%d0%b9%d0%bd-%d0%bc%d0%b8%d0%bd%d1%81%d0%ba/
CATEGORIES:Конференция
ATTACH;FMTTYPE=image/png:https://d-fest.ru/wp-content/uploads/2025/10/Снимок-экрана-2025-10-15-в-14.14.38.png
END:VEVENT
END:VCALENDAR