BEGIN:VCALENDAR
VERSION:2.0
PRODID:-//Практики. DesignSpaces - ECPv6.11.2.1//NONSGML v1.0//EN
CALSCALE:GREGORIAN
METHOD:PUBLISH
X-WR-CALNAME:Практики. DesignSpaces
X-ORIGINAL-URL:https://d-fest.ru
X-WR-CALDESC:Мероприятия для Практики. DesignSpaces
REFRESH-INTERVAL;VALUE=DURATION:PT1H
X-Robots-Tag:noindex
X-PUBLISHED-TTL:PT1H
BEGIN:VTIMEZONE
TZID:UTC
BEGIN:STANDARD
TZOFFSETFROM:+0000
TZOFFSETTO:+0000
TZNAME:UTC
DTSTART:20250101T000000
END:STANDARD
END:VTIMEZONE
BEGIN:VEVENT
DTSTART;TZID=UTC:20250911T150000
DTEND;TZID=UTC:20250911T163000
DTSTAMP:20260426T011317
CREATED:20250818T171346Z
LAST-MODIFIED:20250818T171500Z
UID:2075-1757602800-1757608200@d-fest.ru
SUMMARY:Концепция формирования российского предметного дизайна. Как зарабатывать на дизайнерской мебели.
DESCRIPTION:Тема: Концепция формирования российского предметного дизайна. Как зарабатывать на дизайнерской мебели. \nОписание: Есть большое культурное наследние и готовые проекты в мебели\, но на текущий момент нет в целом у рынка понимания как развивать предметный дизайн в России и как серьезна на нем создавать бизнес. Существует не решенные вопросы во взаимодействие дизайнера-производства-потребителя\, защиты авторских прав\, продвижения и конкуренция с западными брендами\, понимания для бизнеса есть единичные примеры взаимодействия не носящие систематический характер. \nСпикеры круглого стола:  \nмодератор Галина Гориш ( организатор\, спикер и модератор деловой программы мероприятий мебельной и интерьерной сферы\, Руководитель отдела продаж мебельной компании Интерьерно. Возглавляла отдел по работе с дизайнерами MRDOORS. Руководила салонами мебели MRDOORS и Миксон) \nэксперты: \nСергей Смирнов (промышленный дизайнер\, директор компании Smirnov Design\, член коллегии RDC\, член оргкомитета конкурса «Придумано и сделано в России»\, куратор проекта Агентства креативных индустрий при Департаменте предпринимательства и инновационного развития города Москвы)   \nСергей Окунев — автор канала Интерьерно 1млн.подписчиков\,  основатель компании «Интерьерно». \nМария Кейн — Предметный  и интерьерный дизайнер\, автор собсвенного бренда\, владелец галереи Meyn\, дизайнер интерьера\,   \nНаталья Гергель — действующий дизайнер и практикующий юрист\, постоянный лектор школы интерьера «Детали»\, приглашённый лектор МГХПА им. С. Г. Строганова и Союза архитекторов России. \nРоман Захаров  — Бизнес-консультант\, основатель консалтинговой компании «Корпорация Стратегий»\, спикер на различных мероприятиях\, 25 лет опыт на ТОП позициях в ведущих компаниях Диван.ру\, Askona\, Mr. Doors\, Любимый Дом\, Silva\, MDM\, Directoria\,  Home 24\, Экспресс офис. 
URL:https://d-fest.ru/event/%d0%ba%d0%be%d0%bd%d1%86%d0%b5%d0%bf%d1%86%d0%b8%d1%8f-%d1%84%d0%be%d1%80%d0%bc%d0%b8%d1%80%d0%be%d0%b2%d0%b0%d0%bd%d0%b8%d1%8f-%d1%80%d0%be%d1%81%d1%81%d0%b8%d0%b9%d1%81%d0%ba%d0%be%d0%b3%d0%be/
LOCATION:МТС Live Холл\, Шоссе Энтузиастов\, 5 ст2\, Москва\, Russian Federation
CATEGORIES:Круглый стол
ATTACH;FMTTYPE=image/png:https://d-fest.ru/wp-content/uploads/2025/05/8f1951a204001a01580dc038f6495d3f.png
END:VEVENT
BEGIN:VEVENT
DTSTART;TZID=UTC:20250904T100000
DTEND;TZID=UTC:20250906T190000
DTSTAMP:20260426T011317
CREATED:20250522T082945Z
LAST-MODIFIED:20250813T091625Z
UID:1712-1756980000-1757185200@d-fest.ru
SUMMARY:Made In Russia Expo 2025
DESCRIPTION:Уникальное событие в мире российского дизайна\, которое соберет все самые лучшие образцы отечественного предметного дизайна и интерьера. Посетители смогут приобретать мебель\, светильники и любыетовары для своего дома\, созданные нашими талантливыми производителями. \nНа смену иностранным брендам\, которые покинули рынок\,\nпришли российские. И выставка MADE IN RUSSIA ЕХРО\nсоздана не только для их продвижения и поддержки\, но и\nдля демонcтрации действительно очень высокого уровня\nих продукции.\nМАDE IN RUSSIA EXPO — Это отличная возможность для профессионалов предметного дизайна заявить о себе в\nполный голос.
URL:https://d-fest.ru/event/made-in-russia-expo-2025/
LOCATION:Тимирязев Центр\, Верхняя аллея\, 8\, Москва\, Russian Federation
CATEGORIES:Выставка
ATTACH;FMTTYPE=image/jpeg:https://d-fest.ru/wp-content/uploads/2025/05/5EWyHCh01cE.jpg
END:VEVENT
BEGIN:VEVENT
DTSTART;TZID=UTC:20250828T090000
DTEND;TZID=UTC:20250828T150000
DTSTAMP:20260426T011317
CREATED:20250817T154755Z
LAST-MODIFIED:20250817T154755Z
UID:2020-1756371600-1756393200@d-fest.ru
SUMMARY:DIY\, HOUSEHOLD & FURNITURE CONF
DESCRIPTION:Практическая конференция о вызовах\, задачах и технологиях рынка мебели\, товаров для дома\, строительства и ремонта \n\n\n\n\n\nОсновным драйвером продаж в сегментах DIY\, Household & Furniture остается онлайн-рынок\, но правила игры на нем кардинально изменились. Компании ищут способы не превратиться в офлайновую витрину для маркетплейсов и адаптируют свои бизнес-модели к новому\, более требовательному потребителю. \nВместе с экспертами отрасли обсудим\, как сегодня выглядит выигрышная стратегия. Поговорим о том\, как выстроить эффективный сплит по каналам продаж\, повысить операционную эффективность с помощью ИИ и автоматизации\, и какой сервис и клиентский опыт нужно предложить\, чтобы покупатель выбрал именно вас. \n\n\nКлючевые темы:\n\n\n\n\n\n\n\n\nЛандшафт рынка 2025 и факторы\, влияющие на выбор стратегии\n\n\n\n\n\n\nКлючевые игроки на рынке и конкуренция\, итоги импортозамещения\nКак изменение потребительского поведения меняет рынок и ассортимент\nСТМ – угроза или возможность? Принципы работы с сетями\nАвтоматизация\, цифровизация\, ИИ. Как с их помощью повысить операционную эффективность?\nВ поисках идеальной логистики. Актуальные схемы работы и юнит-экономика\nСектор B2B. Как государственные инициативы и коммерческие строительные проекты влияют на рынок\n\n\n\n\n\n\n\n\n\n\n\n\n\nФокус на онлайн. Маркетинг\, продвижение\, продажи\n\n\n\n\n\n\nЭффективный сплит по каналам продаж. Он существует?\nОмниканальность. Как сгладить швы между каналами?\nКлиентоцентричность как конкурентное преимущество против маркетплейсов. Сервис и услуги как неотъемлемая часть товара\nКонкуренция на маркетплейсах. Рекламные инструменты и их эффективность\nСтарые и новые возможности продвижения
URL:https://d-fest.ru/event/diy-household-furniture-conf/
LOCATION:StandUp Store Moscow\, Петровка 21\, Москва\, Russian Federation
CATEGORIES:Конференция
ATTACH;FMTTYPE=image/jpeg:https://d-fest.ru/wp-content/uploads/2025/08/Изображение-сделано-17.08.2025-в-18.44.jpg
END:VEVENT
BEGIN:VEVENT
DTSTART;TZID=UTC:20250820T120000
DTEND;TZID=UTC:20250820T143000
DTSTAMP:20260426T011317
CREATED:20250814T151125Z
LAST-MODIFIED:20250814T151125Z
UID:1888-1755691200-1755700200@d-fest.ru
SUMMARY:Безопасный текстиль: всё о негорючих тканях в интерьере
DESCRIPTION:Лекция о негорючих тканях в интерьере\nУзнайте\, как работать с тканями\, соответствующими требованиям пожарной безопасности\, какие существуют стандарты (FR\, M1\, B1\, Trevira CS)\, что они значат и где действительно нужны. Плюс — живой краш-тест: как ткани реагируют на огонь и тепло. \nСпикер:\nЮлия Аббасова — практикующий текстильный дизайнер\, владелица собственного шоу рума по пошиву штор Harmony. Более 18 лет работает с текстилем для интерьеров\, знает рынок изнутри и делится только тем\, что проверено на практике. \nТемы лекции:\n— Какие ткани считаются негорючими и в чём разница между ними\n— Обозначения и стандарты: как расшифровать FR\, M1\, B1\, Trevira CS\n— Где обязательна негорючесть: дома\, рестораны\, отели\, шоурумы\n— Маркетинг vs реальность: на что ведутся дизайнеры\n— Краш-тест тканей вживую: огонь\, нагрев\, реакции\n— Как выбирать поставщиков и оформлять проектную документацию\n— Можно ли совместить безопасность\, эстетику и комфорт \nПодходит для:\n— Дизайнеров интерьера\n— Архитекторов\n— Декораторов\n— Менеджеров интерьерных студий\n— Всех\, кто работает с текстилем или хочет внедрить его грамотно и безопасно \nОсобенность лекции: всё покажем вживую!\nТкани пройдут краш-тест прямо на ваших глазах — вы увидите\, как ведут себя материалы в реальных условиях и точно не ошибётесь в следующих проектах. \nКоличество мест ограничено. Обязательно зарегистрируйтесь.\nМосква\, Большой Коптевский проезд\, д. 3\, стр. 1 (м. Аэропорт)
URL:https://d-fest.ru/event/%d0%b1%d0%b5%d0%b7%d0%be%d0%bf%d0%b0%d1%81%d0%bd%d1%8b%d0%b9-%d1%82%d0%b5%d0%ba%d1%81%d1%82%d0%b8%d0%bb%d1%8c-%d0%b8%d0%bd%d1%82%d0%b5%d1%80%d1%8c%d0%b5%d1%80/
LOCATION:Большой Коптевский проезд\, д. 3\, стр. 1\, Большой Коптевский проезд\, д. 3\, стр. 1 (м. Аэропорт)\, Москва\, Russian Federation
CATEGORIES:Лекция
ATTACH;FMTTYPE=image/png:https://d-fest.ru/wp-content/uploads/2025/08/IMG_9274.png
END:VEVENT
BEGIN:VEVENT
DTSTART;TZID=UTC:20250611T100000
DTEND;TZID=UTC:20250613T200000
DTSTAMP:20260426T011317
CREATED:20250512T102329Z
LAST-MODIFIED:20250512T102329Z
UID:1642-1749636000-1749844800@d-fest.ru
SUMMARY:ВЫСТАВКА «МЕБЕЛЬ. ИНТЕРЬЕР. ДЕРЕВООБРАБОТКА» г.Алматы
DESCRIPTION:11 – 13 Июня 2025\, ВЦ «Атакент» г.Алматы\nВыставка «Мебель. Интерьер. Деревообработка» – ведущий казахстанский проект\, посвященный мебельной и деревообрабатывающей промышленности. \nОсновные разделы выставки «Мебель и Интерьер»: \n\nМебель для дома: мягкая мебель\, гостиные\, спальные гарнитуры\, кухни\, столовые\, мебель для детских и ванных комнат;\nМебель для общественных помещений: офисов\, банков\, кинотеатров;\nСадовая мебель и мебель для парков;\nМебель для гостиниц\, баров\, кафе\, ресторанов\, казино\, торговых домов.\nСпециализированная и нестандартная мебель;\nОбивочные материалы\, ткани и наполнители для мебели;\nКомплектующие и фурнитура для производства мебели;\nЛакокрасочные материалы\, средства по уходу за мебелью;\nПлиточные материалы\, обои\, паркет;\nДизайн интерьера и мебели;\nАксессуары и предметы интерьера;\nОсветительные системы;\nПосуда\, керамика и стеклопродукция;\nТекстиль;\nМебельные торговые дома;\nПрофессиональные союзы и ассоциации.
URL:https://d-fest.ru/event/%d0%b2%d1%8b%d1%81%d1%82%d0%b0%d0%b2%d0%ba%d0%b0-%d0%bc%d0%b5%d0%b1%d0%b5%d0%bb%d1%8c-%d0%b8%d0%bd%d1%82%d0%b5%d1%80%d1%8c%d0%b5%d1%80-%d0%b4%d0%b5%d1%80%d0%b5%d0%b2%d0%be%d0%be%d0%b1%d1%80/
LOCATION:ВЦ «Атакент»\, ул. Тимирязева\, 42\, ВЦ «Атакент»\, Алматы\, Kazakhstan
CATEGORIES:Выставка
ATTACH;FMTTYPE=image/jpeg:https://d-fest.ru/wp-content/uploads/2025/05/Photo-225.jpg
END:VEVENT
BEGIN:VEVENT
DTSTART;TZID=UTC:20250522T110000
DTEND;TZID=UTC:20250525T200000
DTSTAMP:20260426T011317
CREATED:20250512T101119Z
LAST-MODIFIED:20250522T223713Z
UID:1635-1747911600-1748203200@d-fest.ru
SUMMARY:VI Московская неделя интерьера и дизайна
DESCRIPTION:ЦЕНТРАЛЬНАЯ ТЕМА ВЫСТАВКИ «ПРИРОДА ДИЗАЙНА»\n\nVI Московская неделя интерьера и дизайна черпает вдохновение из самой природы. Концепция выставки объединяет элегантный\, современный дизайн с органическими элементами\, создавая эстетику\, которая выглядит утонченно и естественно. \nЭта выставка символизирует обновление и свежий взгляд на дизайн. Здесь переплетаются новизна\, молодость\, энергия\, яркие идеи и талант российских дизайнеров.
URL:https://d-fest.ru/event/vi-%d0%bc%d0%be%d1%81%d0%ba%d0%be%d0%b2%d1%81%d0%ba%d0%b0%d1%8f-%d0%bd%d0%b5%d0%b4%d0%b5%d0%bb%d1%8f-%d0%b8%d0%bd%d1%82%d0%b5%d1%80%d1%8c%d0%b5%d1%80%d0%b0-%d0%b8-%d0%b4%d0%b8%d0%b7%d0%b0%d0%b9%d0%bd/
LOCATION:ЦВЗ «Манеж»\, Манежная пл\, д.1.\, Москва\, Russian Federation
CATEGORIES:Выставка
ATTACH;FMTTYPE=image/jpeg:https://d-fest.ru/wp-content/uploads/2025/05/i-1.jpeg
END:VEVENT
BEGIN:VEVENT
DTSTART;TZID=UTC:20250515T100000
DTEND;TZID=UTC:20250517T180000
DTSTAMP:20260426T011317
CREATED:20250511T210853Z
LAST-MODIFIED:20250522T223851Z
UID:1616-1747303200-1747504800@d-fest.ru
SUMMARY:HIVE FURNITURE SHOW 2025
DESCRIPTION:С 15 по 17 мая в Шардже (ОАЭ) пройдет 5-я Международная выставка мебели HIVE FURNITURE SHOW — ключевое событие мебельной индустрии\, где вас ждут лучшие фабрики\, эксклюзивные тренды и новые бизнес-возможности! \nВыставка мебели Hive Furniture Show 2025\, которая пройдет с 15 по 17 мая в Дубае\, — это больше\, чем просто выставка\, это ворота на мировой рынок мебели и дизайна интерьера. Это мероприятие\, привлекающее тысячи профессионалов\, производителей\, розничных продавцов\, дизайнеров и лиц\, принимающих отраслевые решения\, является краеугольным камнем для демонстрации инноваций\, установления контактов с потенциальными покупателями и изучения последних тенденций в области мебели для дома и коммерческих помещений. Являясь одним из самых ожидаемых событий в Дубае\, выставка Hive 2025 предлагает непревзойденную экспозицию для брендов\, стремящихся выделиться в конкурентной отрасли.
URL:https://d-fest.ru/event/hive-furniture-show-2025/
LOCATION:Expo Centre Sharjah\, Sharjah\, United Arab Emirates
CATEGORIES:Выставка
ATTACH;FMTTYPE=image/webp:https://d-fest.ru/wp-content/uploads/2025/05/why-exhibit-at-hfs.webp
END:VEVENT
END:VCALENDAR