BEGIN:VCALENDAR
VERSION:2.0
PRODID:-//Практики. DesignSpaces - ECPv6.11.2.1//NONSGML v1.0//EN
CALSCALE:GREGORIAN
METHOD:PUBLISH
X-WR-CALNAME:Практики. DesignSpaces
X-ORIGINAL-URL:https://d-fest.ru
X-WR-CALDESC:Мероприятия для Практики. DesignSpaces
REFRESH-INTERVAL;VALUE=DURATION:PT1H
X-Robots-Tag:noindex
X-PUBLISHED-TTL:PT1H
BEGIN:VTIMEZONE
TZID:UTC
BEGIN:STANDARD
TZOFFSETFROM:+0000
TZOFFSETTO:+0000
TZNAME:UTC
DTSTART:20250101T000000
END:STANDARD
END:VTIMEZONE
BEGIN:VEVENT
DTSTART;TZID=UTC:20250924T110000
DTEND;TZID=UTC:20250924T130000
DTSTAMP:20260426T023314
CREATED:20250912T140351Z
LAST-MODIFIED:20250912T140351Z
UID:2226-1758711600-1758718800@d-fest.ru
SUMMARY:Интеллектуальные права дизайнеров. Изменения в законодательстве о рекламе
DESCRIPTION:FINEX приглашает на практический интенсив по юридической защите в дизайне и рекламе. \nВедущая — юрист Анастасия Ажанарова\, специалист с опытом взыскания 12 млн рублей и защиты более 40 брендов. \nВ программе: \n\nЗащита авторских прав и действия при нарушении.\nСоставление договоров в пользу исполнителя.\nГлавные изменения в законодательстве о рекламе.\nПравильная работа с персональными данными для избежания штрафов.\n\nДата: 24 сентября (среда)\nВремя: 11:00\nМесто: бутик эксклюзивных интерьерных решений (ул. Большая Дмитровка\, 13) \nКоличество мест ограничено. Для регистрации свяжитесь с Натальей:\n� 8 967 247-22-24
URL:https://d-fest.ru/event/%d0%b8%d0%bd%d1%82%d0%b5%d0%bb%d0%bb%d0%b5%d0%ba%d1%82%d1%83%d0%b0%d0%bb%d1%8c%d0%bd%d1%8b%d0%b5-%d0%bf%d1%80%d0%b0%d0%b2%d0%b0-%d0%b4%d0%b8%d0%b7%d0%b0%d0%b9%d0%bd%d0%b5%d1%80%d0%be%d0%b2-%d0%b8/
CATEGORIES:Событие
ATTACH;FMTTYPE=image/png:https://d-fest.ru/wp-content/uploads/2025/09/Снимок-экрана-2025-09-12-в-17.02.40.png
END:VEVENT
END:VCALENDAR