BEGIN:VCALENDAR
VERSION:2.0
PRODID:-//Практики. DesignSpaces - ECPv6.11.2.1//NONSGML v1.0//EN
CALSCALE:GREGORIAN
METHOD:PUBLISH
X-WR-CALNAME:Практики. DesignSpaces
X-ORIGINAL-URL:https://d-fest.ru
X-WR-CALDESC:Мероприятия для Практики. DesignSpaces
REFRESH-INTERVAL;VALUE=DURATION:PT1H
X-Robots-Tag:noindex
X-PUBLISHED-TTL:PT1H
BEGIN:VTIMEZONE
TZID:UTC
BEGIN:STANDARD
TZOFFSETFROM:+0000
TZOFFSETTO:+0000
TZNAME:UTC
DTSTART:20250101T000000
END:STANDARD
END:VTIMEZONE
BEGIN:VEVENT
DTSTART;TZID=UTC:20250829T163000
DTEND;TZID=UTC:20250829T190000
DTSTAMP:20260425T194435
CREATED:20250827T093131Z
LAST-MODIFIED:20250827T093131Z
UID:2158-1756485000-1756494000@d-fest.ru
SUMMARY:Лекция. Стиль Контемпорари
DESCRIPTION:АРТ ХАОС приглашает на лекцию из цикла «Стили в интерьере и экстерьере» \nКонтемпорари (Contemporary это современный стиль в интерьере\, который отличается лаконичностью\, функциональностью и гармонией. Он сочетает в себе актуальные тенденции\, простые формы\, нейтральные оттенки и натуральные материалы. Важная черта — гибкость: контемпорари легко адаптируется под индивидуальные предпочтения\, позволяя сочетать элементы разных эпох и стилей. \nКлючевые характеристики стиля:\n— Минимализм в деталях и декоре\n— Светлые\, спокойные цвета с яркими акцентами\n— Много света и открытого пространства\n— Использование современных материалов: стекло\, металл\, дерево\, текстиль\n— Функциональная мебель с простыми линиями \nСреди известных дизайнеров\, работающих в стиле контемпорари\, — Келли Хоппен\, Патрисия Уркиола\, Джонатан Адлер и Пьер Йованович. \nЖдём вас по адресу: Москва\, Старая Басманная\, 20 корп. 1\, вход центральный.\nТелефон для связи: +7 903 700 57 03
URL:https://d-fest.ru/event/%d0%bb%d0%b5%d0%ba%d1%86%d0%b8%d1%8f-%d1%81%d1%82%d0%b8%d0%bb%d1%8c-%d0%ba%d0%be%d0%bd%d1%82%d0%b5%d0%bc%d0%bf%d0%be%d1%80%d0%b0%d1%80%d0%b8/
LOCATION:Москва\, Старая Басманная\, 20 корп. 1\, вход центральный\, Старая Басманная\, 20 корп. 1\, вход центральный\, Москва\, Russian Federation
CATEGORIES:Лекция
ATTACH;FMTTYPE=image/png:https://d-fest.ru/wp-content/uploads/2025/08/Снимок-экрана-2025-08-27-в-12.25.08.png
END:VEVENT
END:VCALENDAR