BEGIN:VCALENDAR
VERSION:2.0
PRODID:-//Практики. DesignSpaces - ECPv6.11.2.1//NONSGML v1.0//EN
CALSCALE:GREGORIAN
METHOD:PUBLISH
X-WR-CALNAME:Практики. DesignSpaces
X-ORIGINAL-URL:https://d-fest.ru
X-WR-CALDESC:Мероприятия для Практики. DesignSpaces
REFRESH-INTERVAL;VALUE=DURATION:PT1H
X-Robots-Tag:noindex
X-PUBLISHED-TTL:PT1H
BEGIN:VTIMEZONE
TZID:UTC
BEGIN:STANDARD
TZOFFSETFROM:+0000
TZOFFSETTO:+0000
TZNAME:UTC
DTSTART:20260101T000000
END:STANDARD
END:VTIMEZONE
BEGIN:VEVENT
DTSTART;TZID=UTC:20260331T100000
DTEND;TZID=UTC:20260403T180000
DTSTAMP:20260425T154303
CREATED:20251008T110937Z
LAST-MODIFIED:20260104T145127Z
UID:2311-1774951200-1775239200@d-fest.ru
SUMMARY:MosBuild 2026
DESCRIPTION:Крупнейшая международная строительно-интерьерная выставка в России\, СНГ и Восточной Европе\n1 000+ ведущих компаний из 20 стран мира\nВ выставке MosBuild принимают участие производители и поставщики строительных и отделочных материалов\, сантехники\, светотехники\, оконных технологий\, мебели и предметов интерьера из России и других стран мира. Участники представляют материалы и решения для каждого этапа возведения зданий: строительства\, отделки\, ремонта и декорирования.
URL:https://d-fest.ru/event/mosbuild-2026/
LOCATION:Крокус Экспо\, 65–66 км МКАД\, станция «Мякинино»\, Москва\, Russian Federation
CATEGORIES:Выставка
ATTACH;FMTTYPE=image/jpeg:https://d-fest.ru/wp-content/uploads/2025/10/392_A5807_304f3028e9.jpg
END:VEVENT
END:VCALENDAR