BEGIN:VCALENDAR
VERSION:2.0
PRODID:-//Практики. DesignSpaces - ECPv6.11.2.1//NONSGML v1.0//EN
CALSCALE:GREGORIAN
METHOD:PUBLISH
X-WR-CALNAME:Практики. DesignSpaces
X-ORIGINAL-URL:https://d-fest.ru
X-WR-CALDESC:Мероприятия для Практики. DesignSpaces
REFRESH-INTERVAL;VALUE=DURATION:PT1H
X-Robots-Tag:noindex
X-PUBLISHED-TTL:PT1H
BEGIN:VTIMEZONE
TZID:UTC
BEGIN:STANDARD
TZOFFSETFROM:+0000
TZOFFSETTO:+0000
TZNAME:UTC
DTSTART:20260101T000000
END:STANDARD
END:VTIMEZONE
BEGIN:VEVENT
DTSTART;TZID=UTC:20260317T100000
DTEND;TZID=UTC:20260319T170000
DTSTAMP:20260425T221811
CREATED:20260104T151138Z
LAST-MODIFIED:20260104T151226Z
UID:2521-1773741600-1773939600@d-fest.ru
SUMMARY:HomeFest
DESCRIPTION:15-я Международная текстильно-интерьерная выставка HomeFest 2026 пройдет с 17 по 19 марта 2026 года в Москве. Событие традиционно собирает ведущих производителей и дистрибьюторов текстильной и интерьерной продукции\, дизайнеров\, архитекторов и представителей бизнеса со всей России и стран СНГ. \nЮбилейная выставка HomeFest станет центром презентаций новинок и актуальных трендов отрасли. В экспозиции будут представлены интерьерные ткани\, мебель\, карнизы\, ковры\, фурнитура\, краски\, домашний и outdoor-текстиль\, а также решения для безопасного (трудновоспламеняемого) текстиля. Отдельный раздел займут швейные производства\, демонстрирующие современные технологии пошива интерьерного текстиля. \nВ рамках проекта пройдет спецэкспозиция премиальных брендов Design+\, где будут представлены лучшие образцы мировой интерьерной моды. Традиционно хэдлайнером станет швейцарская марка Fischbacher 1819.
URL:https://d-fest.ru/event/homefest/
LOCATION:Main stage\, ул. Шарикоподшипниковская\, д. 13\, стр. 33\, Москва\, Russian Federation
CATEGORIES:Выставка
ATTACH;FMTTYPE=image/jpeg:https://d-fest.ru/wp-content/uploads/2026/01/poster_event_3120586.jpg
END:VEVENT
BEGIN:VEVENT
DTSTART;TZID=UTC:20260317T100000
DTEND;TZID=UTC:20260319T170000
DTSTAMP:20260425T221811
CREATED:20260105T122050Z
LAST-MODIFIED:20260105T122050Z
UID:2665-1773741600-1773939600@d-fest.ru
SUMMARY:ИНТЕРТКАНЬ 2026.ВЕСНА
DESCRIPTION:19-я общеотраслевая международная выставка текстильной и легкой промышленности \n\nОбщеотраслевая выставка текстильной и легкой промышленности «ИНТЕРТКАНЬ-2026.ВЕСНА» состоится 17-19 марта 2026 г. в Москве. \nВыставка проходит два раза в год на площади более 30 000 м2свою продукцию представляют более 500 ведущих отечественных и зарубежных компаний. \nЭто производители и поставщики тканей\, текстильных материалов\, трикотажных полотен\, комплектующих\, фурнитуры\, домашнего\, технического текстиля и нетканых материалов из России\, Узбекистана\, Беларуси\, Турции\, Китая\, Индии и других стран. \nЕжегодно выставку посещают более 30 000 профессионалов отрасли\, среди которых представители швейных компаний\, ателье\, торговых сетей\, гостиниц\, ресторанов\, дизайнеры.
URL:https://d-fest.ru/event/%d0%b8%d0%bd%d1%82%d0%b5%d1%80%d1%82%d0%ba%d0%b0%d0%bd%d1%8c-2026-%d0%b2%d0%b5%d1%81%d0%bd%d0%b0/
LOCATION:Крокус Экспо\, 65–66 км МКАД\, станция «Мякинино»\, Москва\, Russian Federation
CATEGORIES:Выставка
ATTACH;FMTTYPE=image/jpeg:https://d-fest.ru/wp-content/uploads/2026/01/99999999999999999.jpg
END:VEVENT
BEGIN:VEVENT
DTSTART;TZID=UTC:20260421T100000
DTEND;TZID=UTC:20260421T203000
DTSTAMP:20260425T221811
CREATED:20260104T204814Z
LAST-MODIFIED:20260104T204814Z
UID:2541-1776765600-1776803400@d-fest.ru
SUMMARY:HomeFest РОСТОВ-НА-ДОНУ
DESCRIPTION:Региональные выставки помогают бизнесу находить новые рынки сбыта\, расширяя географию продаж и укрепляя позиции на локальных рынках.
URL:https://d-fest.ru/event/homefest-%d1%80%d0%be%d1%81%d1%82%d0%be%d0%b2-%d0%bd%d0%b0-%d0%b4%d0%be%d0%bd%d1%83/
LOCATION:РОСТОВ-НА-ДОНУ
CATEGORIES:Выставка,Конференция
ATTACH;FMTTYPE=image/png:https://d-fest.ru/wp-content/uploads/2026/01/Logo_HF_grey.png
END:VEVENT
END:VCALENDAR