BEGIN:VCALENDAR
VERSION:2.0
PRODID:-//Практики. DesignSpaces - ECPv6.11.2.1//NONSGML v1.0//EN
CALSCALE:GREGORIAN
METHOD:PUBLISH
X-ORIGINAL-URL:https://d-fest.ru
X-WR-CALDESC:Мероприятия для Практики. DesignSpaces
REFRESH-INTERVAL;VALUE=DURATION:PT1H
X-Robots-Tag:noindex
X-PUBLISHED-TTL:PT1H
BEGIN:VTIMEZONE
TZID:UTC
BEGIN:STANDARD
TZOFFSETFROM:+0000
TZOFFSETTO:+0000
TZNAME:UTC
DTSTART:20250101T000000
END:STANDARD
END:VTIMEZONE
BEGIN:VEVENT
DTSTART;TZID=UTC:20251007T100000
DTEND;TZID=UTC:20251008T200000
DTSTAMP:20260425T183011
CREATED:20250924T145022Z
LAST-MODIFIED:20250924T145022Z
UID:2239-1759831200-1759953600@d-fest.ru
SUMMARY:​​КОНФЕРЕНЦИЯ «СОЗДАВАЯ БУДУЩЕЕ»
DESCRIPTION:Города стремительно меняются\, а вместе с ними и подходы к урбанистике. Какие тренды будут определять облик городской среды в ближайшие десятилетия? \nНациональный центр «Россия» регулярно собирает профессионалов\, чтобы выявить\, как будут развиваться градостроительство\, архитектура\, транспортное планирование\, экология городов\, а также многие другие направления урбанистики и какие аспекты влияют на ключевые тенденции. \nВ масштабной программе три трека: \n▪️«Общество»\, куда войдут вопросы урбанистики \n▪️«Технологии» \n▪️«Глобальное сотрудничество». \nРечь пойдет о прогнозах на 25 лет вперед\, а по итогам каждого события программы эксперты сформируют прикладные прогнозы до 2050 года\, которые можно отслеживать\, обсуждать и корректировать.  \nНаряду с экспертной программой планируются открытые форматы для привлечения людей разных возрастов\, особенно молодежи\, к совместному проектированию сценариев позитивного будущего. \nМОСКВА. \nДата мероприятия: \n7-8 октября 2025 г.  \nМесто проведения:  \nНациональный центр «Россия» \nКраснопресненская набережная\, 14
URL:https://d-fest.ru/event/%d0%ba%d0%be%d0%bd%d1%84%d0%b5%d1%80%d0%b5%d0%bd%d1%86%d0%b8%d1%8f-%d1%81%d0%be%d0%b7%d0%b4%d0%b0%d0%b2%d0%b0%d1%8f-%d0%b1%d1%83%d0%b4%d1%83%d1%89%d0%b5%d0%b5/
LOCATION:Национальный центр «Россия»\, Краснопресненская наб.\, 14\, стр. 18\, Москва\, Russian Federation
ATTACH;FMTTYPE=image/png:https://d-fest.ru/wp-content/uploads/2025/09/Снимок-экрана-2025-09-24-в-17.47.05.png
END:VEVENT
END:VCALENDAR